BEGIN:VCALENDAR
VERSION:2.0
PRODID:-//CCCE - ECPv5.16.3.1//NONSGML v1.0//EN
CALSCALE:GREGORIAN
METHOD:PUBLISH
X-WR-CALNAME:CCCE
X-ORIGINAL-URL:https://ccce.calpoly.edu
X-WR-CALDESC:Events for CCCE
REFRESH-INTERVAL;VALUE=DURATION:PT1H
X-Robots-Tag:noindex
X-PUBLISHED-TTL:PT1H
BEGIN:VTIMEZONE
TZID:America/Los_Angeles
BEGIN:DAYLIGHT
TZOFFSETFROM:-0800
TZOFFSETTO:-0700
TZNAME:PDT
DTSTART:20260308T100000
END:DAYLIGHT
BEGIN:STANDARD
TZOFFSETFROM:-0700
TZOFFSETTO:-0800
TZNAME:PST
DTSTART:20261101T090000
END:STANDARD
END:VTIMEZONE
BEGIN:VEVENT
DTSTART;TZID=America/Los_Angeles:20260420T110000
DTEND;TZID=America/Los_Angeles:20260420T120000
DTSTAMP:20260419T190253
CREATED:20260209T164521Z
LAST-MODIFIED:20260209T164544Z
UID:68209-1776682800-1776686400@ccce.calpoly.edu
SUMMARY:Heavy Civil Club BBQ
DESCRIPTION:Come enjoy delicious BBQ and learn more about careers in Heavy Civil!
URL:https://ccce.calpoly.edu/event/heavy-civil-club-bbq/
CATEGORIES:Recruitment Events
END:VEVENT
BEGIN:VEVENT
DTSTART;TZID=America/Los_Angeles:20260422T110000
DTEND;TZID=America/Los_Angeles:20260422T120000
DTSTAMP:20260419T190253
CREATED:20260401T185959Z
LAST-MODIFIED:20260417T163041Z
UID:69498-1776855600-1776859200@ccce.calpoly.edu
SUMMARY:Vance Brown Builders - Info Session
DESCRIPTION:Vance Brown Builders\nCommercial \nwww.vancebrown.com \nPresentation in Bldg. 186-B102 \nInterviews in Bldg. 186-A211 \nMatt Gallagher \nmatt.gallagher@vancebrown.com \nWednesday\, April 22\, 2026 at 11:00 AM \nOpen Positions: Full Time (starting June 2026) // Full Time (starting January 2027) // Internships (starting June 2026) // Internships (starting December 2026) \nJob Locations: SF Bay Area \nEmail: matt.gallagher@vancebrown.com for application information
URL:https://ccce.calpoly.edu/event/vance-brown-builders-info-session/
CATEGORIES:Recruitment Events
END:VEVENT
BEGIN:VEVENT
DTSTART;TZID=America/Los_Angeles:20260428T110000
DTEND;TZID=America/Los_Angeles:20260428T120000
DTSTAMP:20260419T190253
CREATED:20260413T191224Z
LAST-MODIFIED:20260413T191224Z
UID:69801-1777374000-1777377600@ccce.calpoly.edu
SUMMARY:Senior Project Info Session
DESCRIPTION:
URL:https://ccce.calpoly.edu/event/senior-project-info-session/
END:VEVENT
BEGIN:VEVENT
DTSTART;TZID=America/Los_Angeles:20260430T110000
DTEND;TZID=America/Los_Angeles:20260430T120000
DTSTAMP:20260419T190253
CREATED:20260224T172222Z
LAST-MODIFIED:20260224T172540Z
UID:68588-1777546800-1777550400@ccce.calpoly.edu
SUMMARY:CAED Semester Registration Advising Session
DESCRIPTION:Presentation in Bldg. 186-B102
URL:https://ccce.calpoly.edu/event/caed-semester-registration-advising-session/
CATEGORIES:Recruitment Events
END:VEVENT
BEGIN:VEVENT
DTSTART;TZID=America/Los_Angeles:20260507T110000
DTEND;TZID=America/Los_Angeles:20260507T120000
DTSTAMP:20260419T190253
CREATED:20260218T215211Z
LAST-MODIFIED:20260218T215211Z
UID:68468-1778151600-1778155200@ccce.calpoly.edu
SUMMARY:ASCM x Webcor BBQ
DESCRIPTION:
URL:https://ccce.calpoly.edu/event/ascm-x-webcor-bbq/
CATEGORIES:Recruitment Events
END:VEVENT
BEGIN:VEVENT
DTSTART;TZID=America/Los_Angeles:20260521T110000
DTEND;TZID=America/Los_Angeles:20260521T120000
DTSTAMP:20260419T190253
CREATED:20260217T172843Z
LAST-MODIFIED:20260217T172843Z
UID:68436-1779361200-1779364800@ccce.calpoly.edu
SUMMARY:Senior BBQ and Photos
DESCRIPTION:
URL:https://ccce.calpoly.edu/event/senior-bbq-and-photos/
CATEGORIES:Recruitment Events
END:VEVENT
BEGIN:VEVENT
DTSTART;TZID=America/Los_Angeles:20260527T110000
DTEND;TZID=America/Los_Angeles:20260527T120000
DTSTAMP:20260419T190253
CREATED:20260312T171156Z
LAST-MODIFIED:20260312T171156Z
UID:68982-1779879600-1779883200@ccce.calpoly.edu
SUMMARY:Carpenters Apprenticeship Meeting
DESCRIPTION:Building 186\, B102
URL:https://ccce.calpoly.edu/event/carpenters-apprenticeship-meeting/
CATEGORIES:Recruitment Events
END:VEVENT
END:VCALENDAR