BEGIN:VCALENDAR
VERSION:2.0
PRODID:-//CCCE - ECPv5.16.3.1//NONSGML v1.0//EN
CALSCALE:GREGORIAN
METHOD:PUBLISH
X-WR-CALNAME:CCCE
X-ORIGINAL-URL:https://ccce.calpoly.edu
X-WR-CALDESC:Events for CCCE
REFRESH-INTERVAL;VALUE=DURATION:PT1H
X-Robots-Tag:noindex
X-PUBLISHED-TTL:PT1H
BEGIN:VTIMEZONE
TZID:America/Los_Angeles
BEGIN:DAYLIGHT
TZOFFSETFROM:-0800
TZOFFSETTO:-0700
TZNAME:PDT
DTSTART:20250309T100000
END:DAYLIGHT
BEGIN:STANDARD
TZOFFSETFROM:-0700
TZOFFSETTO:-0800
TZNAME:PST
DTSTART:20251102T090000
END:STANDARD
END:VTIMEZONE
BEGIN:VEVENT
DTSTART;TZID=America/Los_Angeles:20251013T111000
DTEND;TZID=America/Los_Angeles:20251013T120000
DTSTAMP:20260420T135438
CREATED:20251009T162742Z
LAST-MODIFIED:20251009T162742Z
UID:65345-1760353800-1760356800@ccce.calpoly.edu
SUMMARY:Skip the Grid - Info Session
DESCRIPTION:Are you interested in exploring energy access\, inequality\, and social justice issues affecting Indigenous communities and using renewable energy to resolve those issues? \nSkip the Grid is a service trip where 20 interdisciplinary Cal Poly students travel to the Navajo Nation in Arizona\, New Mexico\, and Utah to install solar panels\, lights\, batteries\, and refrigeration systems in homes that lack access to electricity. \nThis past year\, our student team partnered with SOLV Energy and Heart of America to bring electricity to 40 families and more than 100 children in just three days. \nMake an impact.\nLearn hands-on construction techniques.\nExpand your perspective on the world.
URL:https://ccce.calpoly.edu/event/skip-the-grid-info-session/
CATEGORIES:Recruitment Events
END:VEVENT
BEGIN:VEVENT
DTSTART;TZID=America/Los_Angeles:20251013T180000
DTEND;TZID=America/Los_Angeles:20251013T190000
DTSTAMP:20260420T135438
CREATED:20250916T000740Z
LAST-MODIFIED:20251014T015309Z
UID:64422-1760378400-1760382000@ccce.calpoly.edu
SUMMARY:McCarthy Building Companies - Info Session
DESCRIPTION:McCarthy Building Companies\nCommercial \nhttps://www.mccarthy.com/ \nPresentation in Bldg. 186-B202 \nInterviews in Bldg. 186-A213 \nKim Trotter \nktrotter@mccarthy.com \nMonday\, October 13\, 2025 at 6:00 PM \nOpen Positions: Full Time (starting January 2026) | Full Time (starting after June 2026 graduation) | Internship (Summer 2026) \nJob Locations: Northern California | Southern California | Mountain (CO\, Montana\, Wyoming\, etc.) | Midwest | East Coast | West Coast (other than CA) \nEmail: ktrotter@mccarthy.com for application information \nCMAC Member
URL:https://ccce.calpoly.edu/event/mccarthy-building-companies-info-session-5/
CATEGORIES:Recruitment Events
END:VEVENT
BEGIN:VEVENT
DTSTART;TZID=America/Los_Angeles:20251014T110000
DTEND;TZID=America/Los_Angeles:20251014T120000
DTSTAMP:20260420T135438
CREATED:20250916T000754Z
LAST-MODIFIED:20251014T183557Z
UID:64423-1760439600-1760443200@ccce.calpoly.edu
SUMMARY:Overaa Construction - Info Session
DESCRIPTION:Overaa Construction\nCommercial \nwww.overaa.com \nPresentation in Bldg. 186-B102 \nInterviews in Bldg. 186-A211 \nInterview Sign Ups: Click Here \nColby Powell \ncolbyp@overaa.com \nTuesday\, October 14\, 2025 at 11:00 AM \nOpen Positions: Full Time (starting after June 2026 graduation) | Internship (Summer 2026) \nJob Locations: Northern California \nEmail: colbyp@overaa.com for application information \nCMAC Member
URL:https://ccce.calpoly.edu/event/overaa-construction-info-session-5/
CATEGORIES:Recruitment Events
END:VEVENT
BEGIN:VEVENT
DTSTART;TZID=America/Los_Angeles:20251014T180000
DTEND;TZID=America/Los_Angeles:20251014T190000
DTSTAMP:20260420T135438
CREATED:20250916T000754Z
LAST-MODIFIED:20251015T015552Z
UID:64424-1760464800-1760468400@ccce.calpoly.edu
SUMMARY:Cupertino Electric\, Inc. - Info Session
DESCRIPTION:Cupertino Electric\, Inc.\nSpecialty Contractor \ncei.com \nPresentation in Bldg. 186-B202 \nInterviews in Bldg. 186-A213 \nMarie Garcia Carlo \nmarie_garciacarlo@cei.com \nTuesday\, October 14\, 2025 at 6:00 PM \nOpen Positions:  \nJob Locations:  \nEmail: marie_garciacarlo@cei.com for application information \nCMAC Member
URL:https://ccce.calpoly.edu/event/cupertino-electric-inc-info-session-4/
CATEGORIES:Recruitment Events
END:VEVENT
BEGIN:VEVENT
DTSTART;TZID=America/Los_Angeles:20251015T110000
DTEND;TZID=America/Los_Angeles:20251015T120000
DTSTAMP:20260420T135438
CREATED:20250916T000754Z
LAST-MODIFIED:20251015T180036Z
UID:64425-1760526000-1760529600@ccce.calpoly.edu
SUMMARY:Granite Construction - Info Session
DESCRIPTION:Granite Construction\nHeavy Civil \nhttps://www.graniteconstruction.com/ \nPresentation in Bldg. 186-B102 \nKristen Martin \nkirsten.martin@gcinc.com \nWednesday\, October 15\, 2025 at 11:00 AM \nOpen Positions:  \nJob Locations: Central California \nVisit: Central California to apply \nCMAC Member
URL:https://ccce.calpoly.edu/event/granite-construction-info-session-2/
CATEGORIES:Recruitment Events
END:VEVENT
BEGIN:VEVENT
DTSTART;TZID=America/Los_Angeles:20251015T180000
DTEND;TZID=America/Los_Angeles:20251015T190000
DTSTAMP:20260420T135438
CREATED:20250916T000755Z
LAST-MODIFIED:20251016T003901Z
UID:64426-1760551200-1760554800@ccce.calpoly.edu
SUMMARY:Hathaway Dinwiddie Construction Company - Info Session
DESCRIPTION:Hathaway Dinwiddie Construction Company\nCommercial \nhttps://www.hathawaydinwiddie.com/ \nPresentation in Bldg. 186-B202 \nInterviews in Bldg. 186-A213 \nInterview Sign Ups: Click Here \nAndre Lopez \nlopezan@hdcco.com \nWednesday\, October 15\, 2025 at 6:00 PM \nCMAC Member
URL:https://ccce.calpoly.edu/event/hathaway-dinwiddie-construction-company-info-session-3/
CATEGORIES:Recruitment Events
END:VEVENT
BEGIN:VEVENT
DTSTART;TZID=America/Los_Angeles:20251016T110000
DTEND;TZID=America/Los_Angeles:20251016T120000
DTSTAMP:20260420T135438
CREATED:20250916T000755Z
LAST-MODIFIED:20251016T185329Z
UID:64427-1760612400-1760616000@ccce.calpoly.edu
SUMMARY:The Whiting-Turner Contracting Company - Info Session
DESCRIPTION:The Whiting-Turner Contracting Company\nCommercial \nwww.whiting-turner.com \nPresentation in Bldg. 186-B102 \nInterviews in Bldg. 186-A211 \nKristen Pollard \nkristen.pollard@whiting-turner.com \nThursday\, October 16\, 2025 at 11:00 AM \nOpen Positions: Full Time (starting January 2025) | Internship (Open Timeframe) | Full Time (starting after June 2026 graduation) | Internship (Summer 2026) \nJob Locations: Central California | Northern California | Southern California | Mountain (CO\, Montana\, Wyoming\, etc.) | Midwest | East Coast | West Coast (other than CA) \nVisit: Central California | Northern California | Southern California | Mountain (CO\, Montana\, Wyoming\, etc.) | Midwest | East Coast | West Coast (other than CA) to apply \nCMAC Member
URL:https://ccce.calpoly.edu/event/the-whiting-turner-contracting-company-info-session-7/
CATEGORIES:Recruitment Events
END:VEVENT
BEGIN:VEVENT
DTSTART;TZID=America/Los_Angeles:20251016T180000
DTEND;TZID=America/Los_Angeles:20251016T190000
DTSTAMP:20260420T135438
CREATED:20250925T153249Z
LAST-MODIFIED:20250925T161334Z
UID:64872-1760637600-1760641200@ccce.calpoly.edu
SUMMARY:Largo Concrete
DESCRIPTION:Specialty Contractor \nhttps://www.largoconcrete.com/ \nPresentation in Bldg. 186-B202 \nInterviews in Bldg. 186-A213 \nInterview Sign Ups:  \nCharlie Mallers \nThursday\, October 16\, 2025 at 6:00 PM \nOpen Positions: Full Time (starting after June 2026 graduation) | Internship (Summer 2026) \nJob Locations: Northern California | Southern California \nCMAC Member
URL:https://ccce.calpoly.edu/event/largo-concrete/
CATEGORIES:Recruitment Events
END:VEVENT
BEGIN:VEVENT
DTSTART;TZID=America/Los_Angeles:20251021T110000
DTEND;TZID=America/Los_Angeles:20251021T120000
DTSTAMP:20260420T135438
CREATED:20250925T152430Z
LAST-MODIFIED:20250925T161441Z
UID:64867-1761044400-1761048000@ccce.calpoly.edu
SUMMARY:Carpenters Apprenticeship Info Session
DESCRIPTION:
URL:https://ccce.calpoly.edu/event/carpenters-apprenticeship-info-session/
LOCATION:Construction Innovations Center (CIC)\, Building 186\, California Polytechnic State University\, 1 Grand Ave\, San Luis Obispo\, CA\, 93407\, United States
CATEGORIES:Recruitment Events
END:VEVENT
BEGIN:VEVENT
DTSTART;TZID=America/Los_Angeles:20251027T180000
DTEND;TZID=America/Los_Angeles:20251027T190000
DTSTAMP:20260420T135438
CREATED:20250916T000809Z
LAST-MODIFIED:20251028T014239Z
UID:64428-1761588000-1761591600@ccce.calpoly.edu
SUMMARY:Anning-Johnson Company - Info Session
DESCRIPTION:Anning-Johnson Company\nCommercial \nhttps://anningjohnson.com/ \nPresentation in Bldg. 186-B202 \nInterviews in Bldg. 186-A213 \nKate Wirkus \nkwirkus@ansonindustries.com \nMonday\, October 27\, 2025 at 6:00 PM \nOpen Positions: Full Time (starting January 2026) | Full Time (starting after June 2026 graduation) | Internship (Summer 2026) \nJob Locations: Northern California | Southern California | Mountain (CO\, Montana\, Wyoming\, etc.) | Midwest | East Coast \nVisit: Northern California | Southern California | Mountain (CO\, Montana\, Wyoming\, etc.) | Midwest | East Coast to apply \nCMAC Member
URL:https://ccce.calpoly.edu/event/anning-johnson-company-info-session-8/
CATEGORIES:Recruitment Events
END:VEVENT
BEGIN:VEVENT
DTSTART;TZID=America/Los_Angeles:20251028T110000
DTEND;TZID=America/Los_Angeles:20251028T120000
DTSTAMP:20260420T135438
CREATED:20250916T000809Z
LAST-MODIFIED:20251028T174743Z
UID:64429-1761649200-1761652800@ccce.calpoly.edu
SUMMARY:Snyder Langston - Info Session
DESCRIPTION:Snyder Langston\nCommercial \nwww.snyderlangston.com \nPresentation in Bldg. 186-B102 \nInterviews in Bldg. 186-A211 \nInterview Sign Ups: Click Here \nJason Rich \njrich@snyderlangston.com \nTuesday\, October 28\, 2025 at 11:00 AM \nOpen Positions: Full Time (starting January 2026) | Full Time (starting after June 2026 graduation) | Internship (Summer 2026) | Internship (Open Timeframe) \nJob Locations: Southern California \nVisit: Southern California to apply \nCMAC Member
URL:https://ccce.calpoly.edu/event/snyder-langston-info-session-4/
CATEGORIES:Recruitment Events
END:VEVENT
BEGIN:VEVENT
DTSTART;TZID=America/Los_Angeles:20251028T180000
DTEND;TZID=America/Los_Angeles:20251028T190000
DTSTAMP:20260420T135438
CREATED:20250916T000809Z
LAST-MODIFIED:20251029T014135Z
UID:64430-1761674400-1761678000@ccce.calpoly.edu
SUMMARY:Herrero Builders Inc. - Info Session
DESCRIPTION:Herrero Builders Inc.\nCommercial \nwww.herrero.com \nPresentation in Bldg. 186-B202 \nInterviews in Bldg. 186-A213 \nBreanna Eddy \nBEddy@herrero.com \nTuesday\, October 28\, 2025 at 6:00 PM \nOpen Positions: Full Time (starting after June 2026 graduation) | Internship (Summer 2026) \nJob Locations: Northern California \nVisit: Northern California to apply \nCMAC Member
URL:https://ccce.calpoly.edu/event/herrero-builders-inc-info-session-5/
CATEGORIES:Recruitment Events
END:VEVENT
BEGIN:VEVENT
DTSTART;TZID=America/Los_Angeles:20251029T110000
DTEND;TZID=America/Los_Angeles:20251029T120000
DTSTAMP:20260420T135438
CREATED:20250916T000810Z
LAST-MODIFIED:20251029T184028Z
UID:64431-1761735600-1761739200@ccce.calpoly.edu
SUMMARY:W.E. O'Neil Construction - Info Session
DESCRIPTION:W.E. O’Neil Construction\nCommercial \nweoneil.com \nPresentation in Bldg. 186-B102 \nInterviews in Bldg. 186-A211 \nJena Mohler \njmohler@weoneil.com \nWednesday\, October 29\, 2025 at 11:00 AM \nOpen Positions: Full Time (starting January 2026) | Full Time (starting after June 2026 graduation) | Internship (Summer 2026) | Internship (Open Timeframe) \nJob Locations: Central California | Northern California | Southern California \nVisit: Central California | Northern California | Southern California to apply \nCMAC Member
URL:https://ccce.calpoly.edu/event/w-e-oneil-construction-info-session-5/
CATEGORIES:Recruitment Events
END:VEVENT
BEGIN:VEVENT
DTSTART;TZID=America/Los_Angeles:20251029T180000
DTEND;TZID=America/Los_Angeles:20251029T190000
DTSTAMP:20260420T135438
CREATED:20250916T000810Z
LAST-MODIFIED:20251030T014142Z
UID:64432-1761760800-1761764400@ccce.calpoly.edu
SUMMARY:Holder Construction - Info Session
DESCRIPTION:Holder Construction\nCommercial \nholderconstruction.com \nPresentation in Bldg. 186-B202 \nKaitlyn Lam \nkaitlynlam@holder.com \nWednesday\, October 29\, 2025 at 6:00 PM \nOpen Positions: Full Time (starting January 2026) \nJob Locations:  \nEmail: kaitlynlam@holder.com for application information \nCMAC Member
URL:https://ccce.calpoly.edu/event/holder-construction-info-session-3/
CATEGORIES:Recruitment Events
END:VEVENT
BEGIN:VEVENT
DTSTART;TZID=America/Los_Angeles:20251030T110000
DTEND;TZID=America/Los_Angeles:20251030T120000
DTSTAMP:20260420T135438
CREATED:20250916T000824Z
LAST-MODIFIED:20251030T174603Z
UID:64433-1761822000-1761825600@ccce.calpoly.edu
SUMMARY:Quiring General - Info Session
DESCRIPTION:Quiring General\nCommercial \nwww.quiring.com \nPresentation in Bldg. 186-B102 \nInterviews in Bldg. 186-A211 \nInterview Sign Ups: Click Here \nMichael Schussel \nmschussel@quiring.com \nThursday\, October 30\, 2025 at 11:00 AM \nOpen Positions: Full Time (starting January 2026) | Full Time (starting after June 2026 graduation) | Internship (Summer 2026) \nJob Locations: Central California | Northern California \nEmail: mschussel@quiring.com for application information \nCMAC Member
URL:https://ccce.calpoly.edu/event/quiring-general-info-session-7/
CATEGORIES:Recruitment Events
END:VEVENT
BEGIN:VEVENT
DTSTART;TZID=America/Los_Angeles:20251030T180000
DTEND;TZID=America/Los_Angeles:20251030T190000
DTSTAMP:20260420T135438
CREATED:20250916T000824Z
LAST-MODIFIED:20251031T013944Z
UID:64434-1761847200-1761850800@ccce.calpoly.edu
SUMMARY:Suffolk Construction - Info Session
DESCRIPTION:Suffolk Construction\nCommercial \nsuffolk.com \nPresentation in Bldg. 186-B202 \nInterviews in Bldg. 186-A213 \nInterview Sign Ups: Click Here \nBrad Denney \nbdenney@suffolk.com \nThursday\, October 30\, 2025 at 6:00 PM \nOpen Positions: Full Time (starting January 2026) | Internship (Summer 2026) \nJob Locations: Northern California | Southern California | East Coast | West Coast (other than CA) \nEmail: bdenney@suffolk.com for application information \nCMAC Member
URL:https://ccce.calpoly.edu/event/suffolk-construction-info-session-6/
CATEGORIES:Recruitment Events
END:VEVENT
BEGIN:VEVENT
DTSTART;TZID=America/Los_Angeles:20251103T180000
DTEND;TZID=America/Los_Angeles:20251103T190000
DTSTAMP:20260420T135438
CREATED:20250916T000824Z
LAST-MODIFIED:20251104T024200Z
UID:64435-1762192800-1762196400@ccce.calpoly.edu
SUMMARY:Performance Contracting Group - Info Session
DESCRIPTION:Performance Contracting Group\nCommercial \nhttps://www.performancecontracting.com/performance-cont \nPresentation in Bldg. 186-B202 \nInterviews in Bldg. 186-A213 \nInterview Sign Ups: Click Here \nYani Pettway \nyani.pettway@pcg.com \nMonday\, November 3\, 2025 at 6:00 PM \nOpen Positions: Full Time (starting after June 2026 graduation) | Internship (Summer 2026) \nJob Locations: Central California | Northern California | Southern California | West Coast (other than CA) \nEmail: yani.pettway@pcg.com for application information \nCMAC Member
URL:https://ccce.calpoly.edu/event/performance-contracting-group-info-session/
CATEGORIES:Recruitment Events
END:VEVENT
BEGIN:VEVENT
DTSTART;TZID=America/Los_Angeles:20251104T110000
DTEND;TZID=America/Los_Angeles:20251104T120000
DTSTAMP:20260420T135438
CREATED:20250916T000825Z
LAST-MODIFIED:20251104T194912Z
UID:64436-1762254000-1762257600@ccce.calpoly.edu
SUMMARY:S+B James Construction - Info Session
DESCRIPTION:S+B James Construction\nCommercial \nhttps://sbjames.com/ \nPresentation in Bldg. 186-B102 \nLauren Vorhis \nlaurenvorhis@sbjames.com \nTuesday\, November 4\, 2025 at 11:00 AM \nOpen Positions: Full Time (starting January 2026) | Internship (Summer 2026) \nJob Locations: Central California | Northern California | Southern California \nVisit: Central California | Northern California | Southern California to apply \nCMAC Member
URL:https://ccce.calpoly.edu/event/sb-james-construction-info-session/
CATEGORIES:Recruitment Events
END:VEVENT
BEGIN:VEVENT
DTSTART;TZID=America/Los_Angeles:20251104T180000
DTEND;TZID=America/Los_Angeles:20251104T190000
DTSTAMP:20260420T135438
CREATED:20250916T000825Z
LAST-MODIFIED:20251105T025008Z
UID:64437-1762279200-1762282800@ccce.calpoly.edu
SUMMARY:Nibbi - Info Session
DESCRIPTION:Nibbi\nGC\, Multi Family\, Waterfront\, Concrete\, Self Perform \nnibbi.com \nPresentation in Bldg. 186-B202 \nInterviews in Bldg. 186-A213 \nInterview Sign Ups: Click Here \nAndrew Heryford \nandrewh@nibbi.com \nTuesday\, November 4\, 2025 at 6:00 PM \nOpen Positions:  \nJob Locations:  \nEmail: andrewh@nibbi.com for application information \nCMAC Member
URL:https://ccce.calpoly.edu/event/nibbi-info-session-2/
CATEGORIES:Recruitment Events
END:VEVENT
BEGIN:VEVENT
DTSTART;TZID=America/Los_Angeles:20251105T110000
DTEND;TZID=America/Los_Angeles:20251105T120000
DTSTAMP:20260420T135438
CREATED:20250916T000839Z
LAST-MODIFIED:20251105T185703Z
UID:64438-1762340400-1762344000@ccce.calpoly.edu
SUMMARY:Abbott | Reed\, Inc. - Info Session
DESCRIPTION:Abbott | Reed\, Inc.\nResidential \nabbottreedinc.com \nPresentation in Bldg. 186-B102 \nShawn Reed \nShawn@abbottreedinc.com \nWednesday\, November 5\, 2025 at 11:00 AM \nOpen Positions: Internship (Summer 2026) \nJob Locations: Central California \nEmail: Shawn@abbottreedinc.com for application information \nCMAC Member
URL:https://ccce.calpoly.edu/event/abbott-reed-inc-info-session/
CATEGORIES:Recruitment Events
END:VEVENT
BEGIN:VEVENT
DTSTART;TZID=America/Los_Angeles:20251105T180000
DTEND;TZID=America/Los_Angeles:20251105T190000
DTSTAMP:20260420T135438
CREATED:20250916T000839Z
LAST-MODIFIED:20251106T024530Z
UID:64439-1762365600-1762369200@ccce.calpoly.edu
SUMMARY:Build Group (Pacific Structures) - Info Session
DESCRIPTION:Build Group (Pacific Structures)\nCommercial \nhttps://www.buildgc.com/ \nPresentation in Bldg. 186-B202 \nInterviews in Bldg. 186-A213 \nAmy Phung \namy.phung@buildgc.com \nWednesday\, November 5\, 2025 at 6:00 PM \nOpen Positions:  \nJob Locations:  \nEmail: amy.phung@buildgc.com for application information \nCMAC Member
URL:https://ccce.calpoly.edu/event/build-group-pacific-structures-info-session-5/
CATEGORIES:Recruitment Events
END:VEVENT
BEGIN:VEVENT
DTSTART;TZID=America/Los_Angeles:20251106T110000
DTEND;TZID=America/Los_Angeles:20251106T120000
DTSTAMP:20260420T135438
CREATED:20250916T000839Z
LAST-MODIFIED:20251106T195100Z
UID:64440-1762426800-1762430400@ccce.calpoly.edu
SUMMARY:Swinerton - Info Session
DESCRIPTION:Swinerton\nCommercial \nSwinerton.com \nPresentation in Bldg. 186-B102 \nInterviews in Bldg. 186-A211 \nBilly Markham \nwilliam.markham@swinerton.com \nThursday\, November 6\, 2025 at 11:00 AM \nOpen Positions: Full Time (starting January 2026) | Full Time (starting after June 2026 graduation) | Internship (Summer 2026) \nJob Locations: Central California | Northern California | Southern California | Mountain (CO\, Montana\, Wyoming\, etc.) | Midwest | East Coast | West Coast (other than CA) \nEmail: william.markham@swinerton.com for application information \nCMAC Member
URL:https://ccce.calpoly.edu/event/swinerton-info-session-4/
CATEGORIES:Recruitment Events
END:VEVENT
BEGIN:VEVENT
DTSTART;TZID=America/Los_Angeles:20251106T180000
DTEND;TZID=America/Los_Angeles:20251106T190000
DTSTAMP:20260420T135438
CREATED:20250916T000840Z
LAST-MODIFIED:20251107T005231Z
UID:64441-1762452000-1762455600@ccce.calpoly.edu
SUMMARY:Devcon Construction - Info Session
DESCRIPTION:Devcon Construction\nCommercial \nhttps://www.devcon-const.com/ \nPresentation in Bldg. 186-B202 \nInterviews in Bldg. 186-A213 \nInterview Sign Ups: Click Here \nJosanna Marshalla \njmarshalla@devcon-const.com \nThursday\, November 6\, 2025 at 6:00 PM \nOpen Positions: Full Time (starting January 2026) | Full Time (starting after June 2026 graduation) | Internship (Summer 2026) | Internship (Open Timeframe) \nJob Locations: Northern California \nEmail: jmarshalla@devcon-const.com for application information \nCMAC Member
URL:https://ccce.calpoly.edu/event/devcon-construction-info-session-4/
CATEGORIES:Recruitment Events
END:VEVENT
BEGIN:VEVENT
DTSTART;TZID=America/Los_Angeles:20251110T180000
DTEND;TZID=America/Los_Angeles:20251110T190000
DTSTAMP:20260420T135438
CREATED:20250916T000840Z
LAST-MODIFIED:20251111T024453Z
UID:64442-1762797600-1762801200@ccce.calpoly.edu
SUMMARY:Skyline Construction - Info Session
DESCRIPTION:Skyline Construction\nCommercial \nhttps://www.skylineconstruction.build/ \nPresentation in Bldg. 186-B202 \nInterviews in Bldg. 186-A213 \nInterview Sign Ups: Click Here \nAnnalise Chisholm \nachisholm@skylineconstruction.build \nMonday\, November 10\, 2025 at 6:00 PM \nCMAC Member
URL:https://ccce.calpoly.edu/event/skyline-construction-info-session-3/
CATEGORIES:Recruitment Events
END:VEVENT
BEGIN:VEVENT
DTSTART;TZID=America/Los_Angeles:20251112T110000
DTEND;TZID=America/Los_Angeles:20251112T120000
DTSTAMP:20260420T135438
CREATED:20250916T000854Z
LAST-MODIFIED:20251112T195129Z
UID:64443-1762945200-1762948800@ccce.calpoly.edu
SUMMARY:Turner Construction Company - Info Session
DESCRIPTION:Turner Construction Company\nCommercial \nwww.turnerconstruction.com \nPresentation in Bldg. 186-B102 \nInterviews in Bldg. 186-A211 \nInterview Sign Ups: Click Here \nBreanne Metropolis \nbmetropolis@tcco.com \nWednesday\, November 12\, 2025 at 11:00 AM \nOpen Positions:  \nJob Locations:  \nEmail: bmetropolis@tcco.com for application information \nCMAC Member
URL:https://ccce.calpoly.edu/event/turner-construction-company-info-session-4/
CATEGORIES:Recruitment Events
END:VEVENT
BEGIN:VEVENT
DTSTART;TZID=America/Los_Angeles:20251112T180000
DTEND;TZID=America/Los_Angeles:20251112T190000
DTSTAMP:20260420T135438
CREATED:20250916T000854Z
LAST-MODIFIED:20251113T025437Z
UID:64444-1762970400-1762974000@ccce.calpoly.edu
SUMMARY:Lusardi Construction - Info Session
DESCRIPTION:Lusardi Construction\nCommercial \nwww.lusardi.com \nPresentation in Bldg. 186-B202 \nMadison Farfan \nmfarfan@lusardi.com \nWednesday\, November 12\, 2025 at 6:00 PM \nOpen Positions: Internship (Summer 2026) \nJob Locations: Northern California | Southern California \nEmail: mfarfan@lusardi.com for application information \nCMAC Member
URL:https://ccce.calpoly.edu/event/lusardi-construction-info-session-2/
CATEGORIES:Recruitment Events
END:VEVENT
BEGIN:VEVENT
DTSTART;TZID=America/Los_Angeles:20251113T110000
DTEND;TZID=America/Los_Angeles:20251113T120000
DTSTAMP:20260420T135438
CREATED:20250916T000854Z
LAST-MODIFIED:20251113T194716Z
UID:64445-1763031600-1763035200@ccce.calpoly.edu
SUMMARY:Technical Builders - Info Session
DESCRIPTION:Technical Builders\nCommercial \nwww.tbibuild.com \nPresentation in Bldg. 186-B102 \nJeremy Lopez \njeremyl@tbibuild.com \nThursday\, November 13\, 2025 at 11:00 AM \nOpen Positions: Full Time (starting January 2026) | Full Time (starting after June 2026 graduation) | Internship (Summer 2026) | Internship (Open Timeframe) \nJob Locations: Northern California \nEmail: jeremyl@tbibuild.com for application information \nCMAC Member
URL:https://ccce.calpoly.edu/event/technical-builders-info-session/
CATEGORIES:Recruitment Events
END:VEVENT
BEGIN:VEVENT
DTSTART;TZID=America/Los_Angeles:20251113T180000
DTEND;TZID=America/Los_Angeles:20251113T190000
DTSTAMP:20260420T135438
CREATED:20250916T000855Z
LAST-MODIFIED:20251114T024622Z
UID:64446-1763056800-1763060400@ccce.calpoly.edu
SUMMARY:FLINT Builders - Info Session
DESCRIPTION:FLINT Builders\nConstruction Management \nhttps://flintbuilders.com/ \nPresentation in Bldg. 186-B202 \nInterviews in Bldg. 186-A213 \nInterview Sign Ups: Click Here \nRachel Freed \nrfreed@flintbuilders.com \nThursday\, November 13\, 2025 at 6:00 PM \nOpen Positions: Full Time (starting January 2026) | Full Time (starting after June 2026 graduation) | Internship (Summer 2026) | Internship (Open Timeframe) \nJob Locations: Northern California | Southern California \nEmail: rfreed@flintbuilders.com for application information \nCMAC Member
URL:https://ccce.calpoly.edu/event/flint-builders-info-session-5/
CATEGORIES:Recruitment Events
END:VEVENT
BEGIN:VEVENT
DTSTART;TZID=America/Los_Angeles:20251117T181000
DTEND;TZID=America/Los_Angeles:20251117T190000
DTSTAMP:20260420T135438
CREATED:20250916T000855Z
LAST-MODIFIED:20251118T024546Z
UID:64447-1763403000-1763406000@ccce.calpoly.edu
SUMMARY:Enclos - Info Session
DESCRIPTION:Enclos\nCommercial \nenclos.com \nPresentation in Bldg. 186-B202 \nCorey Geer \ncgeer@enclos.com \nMonday\, November 17\, 2025 at 6:10 PM \nCMAC Member
URL:https://ccce.calpoly.edu/event/enclos-info-session/
CATEGORIES:Recruitment Events
END:VEVENT
BEGIN:VEVENT
DTSTART;TZID=America/Los_Angeles:20251118T110000
DTEND;TZID=America/Los_Angeles:20251118T120000
DTSTAMP:20260420T135438
CREATED:20250916T000909Z
LAST-MODIFIED:20251118T185433Z
UID:64448-1763463600-1763467200@ccce.calpoly.edu
SUMMARY:GMH Builders\, Inc - Info Session
DESCRIPTION:GMH Builders\, Inc\nCommercial \nhttps://www.gmhbuild.com/ \nPresentation in Bldg. 186-B102 \nSeth Maze \nseth@gmhbuild.com \nTuesday\, November 18\, 2025 at 11:00 AM \nOpen Positions: Full Time (starting after June 2026 graduation) | Internship (Summer 2026) \nJob Locations: Northern California \nEmail: seth@gmhbuild.com for application information \nCMAC Member
URL:https://ccce.calpoly.edu/event/gmh-builders-inc-info-session-6/
CATEGORIES:Recruitment Events
END:VEVENT
END:VCALENDAR