BEGIN:VCALENDAR
VERSION:2.0
PRODID:-//CCCE - ECPv5.16.3.1//NONSGML v1.0//EN
CALSCALE:GREGORIAN
METHOD:PUBLISH
X-WR-CALNAME:CCCE
X-ORIGINAL-URL:https://ccce.calpoly.edu
X-WR-CALDESC:Events for CCCE
REFRESH-INTERVAL;VALUE=DURATION:PT1H
X-Robots-Tag:noindex
X-PUBLISHED-TTL:PT1H
BEGIN:VTIMEZONE
TZID:America/Los_Angeles
BEGIN:DAYLIGHT
TZOFFSETFROM:-0800
TZOFFSETTO:-0700
TZNAME:PDT
DTSTART:20240310T100000
END:DAYLIGHT
BEGIN:STANDARD
TZOFFSETFROM:-0700
TZOFFSETTO:-0800
TZNAME:PST
DTSTART:20241103T090000
END:STANDARD
BEGIN:DAYLIGHT
TZOFFSETFROM:-0800
TZOFFSETTO:-0700
TZNAME:PDT
DTSTART:20250309T100000
END:DAYLIGHT
BEGIN:STANDARD
TZOFFSETFROM:-0700
TZOFFSETTO:-0800
TZNAME:PST
DTSTART:20251102T090000
END:STANDARD
END:VTIMEZONE
BEGIN:VEVENT
DTSTART;TZID=America/Los_Angeles:20250116T180000
DTEND;TZID=America/Los_Angeles:20250116T190000
DTSTAMP:20260420T154930
CREATED:20240912T211917Z
LAST-MODIFIED:20250116T115004Z
UID:60098-1737050400-1737054000@ccce.calpoly.edu
SUMMARY:*CANCELED* Webcor Builders - Info Session
DESCRIPTION:*CANCELED* Webcor Builders\nCommercial \nwww.webcor.com \nPresentation in Bldg. 186-B202 \nInterviews in Bldg. 186-A213 \nZach Pollard \nzpollard@webcor.com \nThursday\, January 16\, 2025 at 6:00 PM \nOpen Positions: Full Time (starting January 2024) | Full Time (starting after June 2024 graduation) | Internship (Summer 2024) | Internship (Open Timeframe) \nJob Locations: Central California | Northern California | Southern California \nEmail: zpollard@webcor.com for application information \nCMAC Member
URL:https://ccce.calpoly.edu/event/webcor-builders-info-session-2/
CATEGORIES:Recruitment Events
END:VEVENT
BEGIN:VEVENT
DTSTART;TZID=America/Los_Angeles:20250116T110000
DTEND;TZID=America/Los_Angeles:20250116T120000
DTSTAMP:20260420T154930
CREATED:20240912T211917Z
LAST-MODIFIED:20250116T115004Z
UID:60097-1737025200-1737028800@ccce.calpoly.edu
SUMMARY:The Whiting-Turner Contracting Company - Info Session
DESCRIPTION:The Whiting-Turner Contracting Company\nCommercial \nPresentation in Bldg. 186-B102 \nInterviews in Bldg. 186-A211 \nkristen.pollard@whiting-turner.com \nThursday\, January 16\, 2025 at 11:00 AM \nOpen Positions:  \nJob Locations:  \nEmail: kristen.pollard@whiting-turner.com for application information \nCMAC Member
URL:https://ccce.calpoly.edu/event/the-whiting-turner-contracting-company-info-session-6/
CATEGORIES:Recruitment Events
END:VEVENT
BEGIN:VEVENT
DTSTART;TZID=America/Los_Angeles:20250115T110000
DTEND;TZID=America/Los_Angeles:20250115T120000
DTSTAMP:20260420T154930
CREATED:20240912T211902Z
LAST-MODIFIED:20250115T115026Z
UID:60095-1736938800-1736942400@ccce.calpoly.edu
SUMMARY:Level 10 Construction - Info Session
DESCRIPTION:Level 10 Construction\nCommercial \nwww.level10gc.com \nPresentation in Bldg. 186-B102 \nInterviews in Bldg. 186-A211 \nInterview Sign Ups: Click Here \nMatt Heintz  \nmheintz@level10gc.com \nWednesday\, January 15\, 2025 at 11:00 AM \nOpen Positions: Full Time (starting after June 2024 graduation) | Internship (Summer 2024) \nJob Locations: Northern California | Southern California \nEmail: mheintz@level10gc.com for application information \nCMAC Member
URL:https://ccce.calpoly.edu/event/level-10-construction-info-session-5/
CATEGORIES:Recruitment Events
END:VEVENT
BEGIN:VEVENT
DTSTART;TZID=America/Los_Angeles:20250113T180000
DTEND;TZID=America/Los_Angeles:20250113T190000
DTSTAMP:20260420T154930
CREATED:20240912T211902Z
LAST-MODIFIED:20250113T114914Z
UID:60092-1736791200-1736794800@ccce.calpoly.edu
SUMMARY:XL Construction - Info Session
DESCRIPTION:XL Construction\nCommercial \nwww.xlconstruction.com \nPresentation in Bldg. 186-B202 \nInterviews in Bldg. 186-A213 \nInterview Sign Ups: Click Here \nGabriella Hagberg \njerodcreese@gmail.com \nMonday\, January 13\, 2025 at 6:00 PM \nOpen Positions: Full Time (starting January 2024) | Full Time (starting after June 2024 graduation) | Internship (Summer 2024) | Internship (Open Timeframe) \nJob Locations: Northern California \nEmail: jerodcreese@gmail.com for application information \nCMAC Member
URL:https://ccce.calpoly.edu/event/xl-construction-info-session-6/
CATEGORIES:Recruitment Events
END:VEVENT
BEGIN:VEVENT
DTSTART;TZID=America/Los_Angeles:20241121T180000
DTEND;TZID=America/Los_Angeles:20241121T190000
DTSTAMP:20260420T154930
CREATED:20240912T211902Z
LAST-MODIFIED:20241121T143751Z
UID:60091-1732212000-1732215600@ccce.calpoly.edu
SUMMARY:Toro Enterprises Inc. - Info Session
DESCRIPTION:Toro Enterprises Inc.\nHeavy Civil \nhttps://toroenterprises.com/ \nPresentation in Bldg. 186-B202 \nInterviews in Bldg. 186-A213 \nInterview Sign Ups: Click Here \nAj Coccillos \najcoccillos@toroenterprises.com \nThursday\, November 21\, 2024 at 6:00 PM \nOpen Positions: Full Time (starting after June 2024 graduation) | Internship (Summer 2024) \nJob Locations: Southern California \nEmail: ajcoccillos@toroenterprises.com for application information \nCMAC Member
URL:https://ccce.calpoly.edu/event/toro-enterprises-inc-info-session-3/
CATEGORIES:Recruitment Events
END:VEVENT
BEGIN:VEVENT
DTSTART;TZID=America/Los_Angeles:20241121T110000
DTEND;TZID=America/Los_Angeles:20241121T120000
DTSTAMP:20260420T154930
CREATED:20240912T211847Z
LAST-MODIFIED:20241121T143751Z
UID:60090-1732186800-1732190400@ccce.calpoly.edu
SUMMARY:Anvil Builders - Info Session
DESCRIPTION:Anvil Builders\nHeavy Civil \nANVILBUILDERS.COM \nPresentation in Bldg. 186-B102 \nInterviews in Bldg. 186-A211 \nInterview Sign Ups: Click Here \nCaetlan Maclean \ncmaclean@anvilbuilders.com \nThursday\, November 21\, 2024 at 11:00 AM \nOpen Positions: Full Time (starting January 2024) | Full Time (starting after June 2024 graduation) | Internship (Summer 2024) \nJob Locations: Northern California \nVisit: ANVILBUILDERS.COM/OUR-TEAM/ to apply \nCMAC Member
URL:https://ccce.calpoly.edu/event/anvil-builders-info-session-2/
CATEGORIES:Recruitment Events
END:VEVENT
BEGIN:VEVENT
DTSTART;TZID=America/Los_Angeles:20241120T180000
DTEND;TZID=America/Los_Angeles:20241120T190000
DTSTAMP:20260420T154930
CREATED:20240912T211847Z
LAST-MODIFIED:20241120T123913Z
UID:60089-1732125600-1732129200@ccce.calpoly.edu
SUMMARY:West Valley Construction Company Inc. - Info Session
DESCRIPTION:West Valley Construction Company Inc.\nHeavy Civil \nhttps://westvalleyconstruction.com/ \nPresentation in Bldg. 186-B202 \nInterviews in Bldg. 186-A213 \nInterview Sign Ups: Click Here \nLauren Vorhis \nlvorhis@wvcc.com \nWednesday\, November 20\, 2024 at 6:00 PM \nOpen Positions: Internship (Summer 2024) \nJob Locations: Central California | Northern California \nEmail: lvorhis@wvcc.com for application information \nCMAC Member
URL:https://ccce.calpoly.edu/event/west-valley-construction-company-inc-info-session-2/
CATEGORIES:Recruitment Events
END:VEVENT
BEGIN:VEVENT
DTSTART;TZID=America/Los_Angeles:20241120T110000
DTEND;TZID=America/Los_Angeles:20241120T120000
DTSTAMP:20260420T154930
CREATED:20240912T211847Z
LAST-MODIFIED:20241120T123913Z
UID:60088-1732100400-1732104000@ccce.calpoly.edu
SUMMARY:W.E. O'Neil Construction - Info Session
DESCRIPTION:W.E. O’Neil Construction\nCommercial \nweoneil.com \nPresentation in Bldg. 186-B102 \nInterviews in Bldg. 186-A211 \nInterview Sign Ups: Click Here \nJena Mohler \njmohler@weoneil.com \nWednesday\, November 20\, 2024 at 11:00 AM \nOpen Positions: Full Time (starting January 2024) | Full Time (starting after June 2024 graduation) | Internship (Summer 2024) | Internship (Open Timeframe) \nJob Locations: Central California | Northern California | Southern California \nVisit: https://www.weoneil.com/careers/open-positions/ to apply \nCMAC Member
URL:https://ccce.calpoly.edu/event/w-e-oneil-construction-info-session-4/
CATEGORIES:Recruitment Events
END:VEVENT
BEGIN:VEVENT
DTSTART;TZID=America/Los_Angeles:20241119T180000
DTEND;TZID=America/Los_Angeles:20241119T190000
DTSTAMP:20260420T154930
CREATED:20240912T211847Z
LAST-MODIFIED:20241119T124105Z
UID:60087-1732039200-1732042800@ccce.calpoly.edu
SUMMARY:Nibbi Brothers General Contractors - Info Session
DESCRIPTION:Nibbi Brothers General Contractors\nCommercial \nwww.nibbi.com \nPresentation in Bldg. 186-B202 \nInterviews in Bldg. 186-A213 \nInterview Sign Ups: Click Here \nJoe Olla \njoeo@nibbi.com \nTuesday\, November 19\, 2024 at 6:00 PM \nOpen Positions: Full Time (starting after June 2024 graduation) | Internship (Summer 2024) \nJob Locations: Northern California \nEmail: joeo@nibbi.com for application information \nCMAC Member
URL:https://ccce.calpoly.edu/event/nibbi-brothers-general-contractors-info-session-5/
CATEGORIES:Recruitment Events
END:VEVENT
BEGIN:VEVENT
DTSTART;TZID=America/Los_Angeles:20241119T110000
DTEND;TZID=America/Los_Angeles:20241119T120000
DTSTAMP:20260420T154930
CREATED:20240912T211847Z
LAST-MODIFIED:20241119T124105Z
UID:60086-1732014000-1732017600@ccce.calpoly.edu
SUMMARY:Holder - Info Session
DESCRIPTION:Holder\nCommercial \nhttps://www.holderconstruction.com/ \nPresentation in Bldg. 186-B102 \nInterviews in Bldg. 186-A211 \nShandy Rogers \nshandrarogers@holder.com \nTuesday\, November 19\, 2024 at 11:00 AM \nOpen Positions: Full Time (starting January 2024) | Full Time (starting after June 2024 graduation) | Internship (Summer 2024) | Internship (Open Timeframe) \nJob Locations: Northern California | Southern California | Mountain (CO\, Montana\, Wyoming\, etc.) | Midwest | East Coast | West Coast (other than CA) \nEmail: shandrarogers@holder.com for application information \nCMAC Member
URL:https://ccce.calpoly.edu/event/holder-info-session/
CATEGORIES:Recruitment Events
END:VEVENT
BEGIN:VEVENT
DTSTART;TZID=America/Los_Angeles:20241118T180000
DTEND;TZID=America/Los_Angeles:20241118T190000
DTSTAMP:20260420T154930
CREATED:20240912T211832Z
LAST-MODIFIED:20241118T123915Z
UID:60085-1731952800-1731956400@ccce.calpoly.edu
SUMMARY:FLINT - Info Session
DESCRIPTION:FLINT\nCommercial \nhttps://flintbuilders.com/ \nPresentation in Bldg. 186-B202 \nInterviews in Bldg. 186-A213 \nInterview Sign Ups: Click Here \nSophia Gonzalez \nsgonzalez@flintbuilders.com \nMonday\, November 18\, 2024 at 6:00 PM \nOpen Positions: Full Time (starting January 2024) | Full Time (starting after June 2024 graduation) | Internship (Summer 2024) | Internship (Open Timeframe) \nJob Locations: Central California | Northern California | Southern California \nEmail: sgonzalez@flintbuilders.com for application information \nCMAC Member
URL:https://ccce.calpoly.edu/event/flint-info-session-7/
CATEGORIES:Recruitment Events
END:VEVENT
BEGIN:VEVENT
DTSTART;TZID=America/Los_Angeles:20241114T180000
DTEND;TZID=America/Los_Angeles:20241114T190000
DTSTAMP:20260420T154930
CREATED:20240912T211832Z
LAST-MODIFIED:20241114T012503Z
UID:60084-1731607200-1731610800@ccce.calpoly.edu
SUMMARY:Archkey / Sprig Electric - Info Session
DESCRIPTION:Archkey / Sprig Electric\nSpecialty Contractor \nwww.archkey.com \nPresentation in Bldg. 186-B202 \nInterviews in Bldg. 186-A213 \nInterview Sign Ups: Click Here \nJeff Messana \njeff.messana@archkey.com \nThursday\, November 14\, 2024 at 6:00 PM \nOpen Positions:  \nJob Locations: Northern California \nEmail: jeff.messana@archkey.com for application information \nCMAC Member
URL:https://ccce.calpoly.edu/event/archkey-sprig-electric-info-session/
CATEGORIES:Recruitment Events
END:VEVENT
BEGIN:VEVENT
DTSTART;TZID=America/Los_Angeles:20241114T110000
DTEND;TZID=America/Los_Angeles:20241114T120000
DTSTAMP:20260420T154930
CREATED:20240912T211832Z
LAST-MODIFIED:20241114T012503Z
UID:60083-1731582000-1731585600@ccce.calpoly.edu
SUMMARY:Quiring General - Info Session
DESCRIPTION:Quiring General\nCommercial \nwww.quiring.com \nPresentation in Bldg. 186-B102 \nInterviews in Bldg. 186-A211 \nInterview Sign Ups: Click Here \nMichael Schussel \nmschussel@quiring.com \nThursday\, November 14\, 2024 at 11:00 AM \nOpen Positions: Full Time (starting January 2024) | Full Time (starting after June 2024 graduation) | Internship (Open Timeframe) \nJob Locations: Central California | Northern California \nEmail: mschussel@quiring.com for application information \nCMAC Member
URL:https://ccce.calpoly.edu/event/quiring-general-info-session-5/
CATEGORIES:Recruitment Events
END:VEVENT
BEGIN:VEVENT
DTSTART;TZID=America/Los_Angeles:20241113T180000
DTEND;TZID=America/Los_Angeles:20241113T190000
DTSTAMP:20260420T154930
CREATED:20240912T211832Z
LAST-MODIFIED:20241114T012707Z
UID:60082-1731520800-1731524400@ccce.calpoly.edu
SUMMARY:*CANCELED* GMH Builders Inc. - Info Session
DESCRIPTION:*CANCELED* GMH Builders Inc.\nCommercial \nPresentation in Bldg. 186-B202 \nInterviews in Bldg. 186-A213 \nDouglas Marshall \ndoug@gmhbuild.com \nWednesday\, November 13\, 2024 at 6:00 PM \nOpen Positions: Full Time (starting January 2024) | Full Time (starting after June 2024 graduation) | Internship (Summer 2024) \nJob Locations: Northern California \nEmail: doug@gmhbuild.com for application information \nCMAC Member
URL:https://ccce.calpoly.edu/event/gmh-builders-inc-info-session-4/
CATEGORIES:Recruitment Events
END:VEVENT
BEGIN:VEVENT
DTSTART;TZID=America/Los_Angeles:20241113T110000
DTEND;TZID=America/Los_Angeles:20241113T120000
DTSTAMP:20260420T154930
CREATED:20240912T211832Z
LAST-MODIFIED:20241113T164019Z
UID:60081-1731495600-1731499200@ccce.calpoly.edu
SUMMARY:Truebeck Construction - Info Session
DESCRIPTION:Truebeck Construction\nCommercial \nwww.truebeck.com \nPresentation in Bldg. 186-B102 \nInterviews in Bldg. 186-A211 \nScott Deppiesse \nscott.deppiesse@truebeck.com \nWednesday\, November 13\, 2024 at 11:00 AM \nOpen Positions: Full Time (starting after June 2024 graduation) | Internship (Open Timeframe) \nJob Locations: Northern California \nEmail: scott.deppiesse@truebeck.com for application information \nCMAC Member
URL:https://ccce.calpoly.edu/event/truebeck-construction-info-session-6/
CATEGORIES:Recruitment Events
END:VEVENT
BEGIN:VEVENT
DTSTART;TZID=America/Los_Angeles:20241112T180000
DTEND;TZID=America/Los_Angeles:20241112T190000
DTSTAMP:20260420T154930
CREATED:20240912T211817Z
LAST-MODIFIED:20241112T165039Z
UID:60080-1731434400-1731438000@ccce.calpoly.edu
SUMMARY:Level 10 Construction - Info Session
DESCRIPTION:Level 10 Construction\nCommercial \nwww.level10gc.com \nPresentation in Bldg. 186-B202 \nInterviews in Bldg. 186-A213 \nInterview Sign Ups: Click Here \nRicky Ng \nrng@level10gc.com \nTuesday\, November 12\, 2024 at 6:00 PM \nOpen Positions: Full Time (starting after June 2024 graduation) | Internship (Summer 2024) \nJob Locations: Northern California | Southern California \nEmail: rng@level10gc.com for application information \nCMAC Member
URL:https://ccce.calpoly.edu/event/level-10-construction-info-session-4/
CATEGORIES:Recruitment Events
END:VEVENT
BEGIN:VEVENT
DTSTART;TZID=America/Los_Angeles:20241112T110000
DTEND;TZID=America/Los_Angeles:20241112T120000
DTSTAMP:20260420T154930
CREATED:20240912T211817Z
LAST-MODIFIED:20241112T165039Z
UID:60079-1731409200-1731412800@ccce.calpoly.edu
SUMMARY:Lusardi Construction Company - Info Session
DESCRIPTION:Lusardi Construction Company\nCommercial \nwww.lusardi.com \nPresentation in Bldg. 186-B102 \nInterviews in Bldg. 186-A211 \nInterview Sign Ups: Click Here \nMadison Farfan \nmfarfan@lusardi.com \nTuesday\, November 12\, 2024 at 11:00 AM \nOpen Positions: Full Time (starting January 2024) | Internship (Summer 2024) \nJob Locations: Northern California | Southern California \nEmail: mfarfan@lusardi.com for application information \nCMAC Member
URL:https://ccce.calpoly.edu/event/lusardi-construction-company-info-session-2/
CATEGORIES:Recruitment Events
END:VEVENT
BEGIN:VEVENT
DTSTART;TZID=America/Los_Angeles:20241107T180000
DTEND;TZID=America/Los_Angeles:20241107T190000
DTSTAMP:20260420T154930
CREATED:20240912T211817Z
LAST-MODIFIED:20241107T154553Z
UID:60078-1731002400-1731006000@ccce.calpoly.edu
SUMMARY:Sundt Construction\, Inc. - Info Session
DESCRIPTION:Sundt Construction\, Inc.\nCommercial \nsundt.com \nPresentation in Bldg. 186-B202 \nInterviews in Bldg. 186-A213 \nInterview Sign Ups: Click Here \nOlivia Rosenow \nokrosenow@sundt.com \nThursday\, November 7\, 2024 at 6:00 PM \nOpen Positions: Full Time (starting after June 2024 graduation) | Internship (Summer 2024) \nJob Locations: Northern California | Southern California | East Coast | West Coast (other than CA) \nVisit: sundt.com/careers to apply \nCMAC Member
URL:https://ccce.calpoly.edu/event/sundt-construction-inc-info-session-3/
CATEGORIES:Recruitment Events
END:VEVENT
BEGIN:VEVENT
DTSTART;TZID=America/Los_Angeles:20241107T110000
DTEND;TZID=America/Los_Angeles:20241107T120000
DTSTAMP:20260420T154930
CREATED:20240912T211817Z
LAST-MODIFIED:20241107T154553Z
UID:60077-1730977200-1730980800@ccce.calpoly.edu
SUMMARY:Rosendin - Info Session
DESCRIPTION:Rosendin\nCommercial \nwww.rosendin.com \nPresentation in Bldg. 186-B102 \nInterviews in Bldg. 186-A211 \nInterview Sign Ups: Click Here \ntwill@rosendin.com \nThursday\, November 7\, 2024 at 11:00 AM \nCMAC Member
URL:https://ccce.calpoly.edu/event/rosendin-info-session/
CATEGORIES:Recruitment Events
END:VEVENT
BEGIN:VEVENT
DTSTART;TZID=America/Los_Angeles:20241106T180000
DTEND;TZID=America/Los_Angeles:20241106T190000
DTSTAMP:20260420T154930
CREATED:20240912T211817Z
LAST-MODIFIED:20241106T153813Z
UID:60076-1730916000-1730919600@ccce.calpoly.edu
SUMMARY:Hathaway Dinwiddie Construction Company - Info Session
DESCRIPTION:Hathaway Dinwiddie Construction Company\nCommercial \nhttps://www.hathawaydinwiddie.com/ \nPresentation in Bldg. 186-B202 \nInterviews in Bldg. 186-A213 \nInterview Sign Ups: Click Here \nAndre Lopez \nlopezan@hdcco.com \nWednesday\, November 6\, 2024 at 6:00 PM \nCMAC Member
URL:https://ccce.calpoly.edu/event/hathaway-dinwiddie-construction-company-info-session-2/
CATEGORIES:Recruitment Events
END:VEVENT
BEGIN:VEVENT
DTSTART;TZID=America/Los_Angeles:20241106T110000
DTEND;TZID=America/Los_Angeles:20241106T120000
DTSTAMP:20260420T154930
CREATED:20240912T211802Z
LAST-MODIFIED:20241106T153813Z
UID:60075-1730890800-1730894400@ccce.calpoly.edu
SUMMARY:McGuire & Hester - Info Session
DESCRIPTION:McGuire & Hester\nHeavy Civil \nwww.mcguireandhester.com \nPresentation in Bldg. 186-B102 \nInterviews in Bldg. 186-A211 \nDaseking \nWednesday\, November 6\, 2024 at 11:00 AM \nOpen Positions: Full Time (starting January 2024) | Full Time (starting after June 2024 graduation) | Internship (Summer 2024) \nJob Locations: Northern California \nVisit: www.mcgurieandhester.com/openings to apply \nCMAC Member
URL:https://ccce.calpoly.edu/event/mcguire-hester-info-session/
CATEGORIES:Recruitment Events
END:VEVENT
BEGIN:VEVENT
DTSTART;TZID=America/Los_Angeles:20241105T180000
DTEND;TZID=America/Los_Angeles:20241105T190000
DTSTAMP:20260420T154930
CREATED:20240912T211802Z
LAST-MODIFIED:20241105T213659Z
UID:60074-1730829600-1730833200@ccce.calpoly.edu
SUMMARY:Turner Construction Company - Info Session
DESCRIPTION:Turner Construction Company\nCommercial \nPresentation in Bldg. 186-B202 \nInterviews in Bldg. 186-A213 \nInterview Sign Ups: Click Here \nBreanne (metropolis) \nbmetropolis@tcco.com \nTuesday\, November 5\, 2024 at 6:00 PM \nOpen Positions: Full Time (starting January 2024) | Full Time (starting after June 2024 graduation) | Internship (Summer 2024) \nJob Locations: Northern California | Southern California \nEmail: bmetropolis@tcco.com for application information \nCMAC Member
URL:https://ccce.calpoly.edu/event/turner-construction-company-info-session-3/
CATEGORIES:Recruitment Events
END:VEVENT
BEGIN:VEVENT
DTSTART;TZID=America/Los_Angeles:20241105T110000
DTEND;TZID=America/Los_Angeles:20241105T120000
DTSTAMP:20260420T154930
CREATED:20240912T211802Z
LAST-MODIFIED:20241105T213605Z
UID:60073-1730804400-1730808000@ccce.calpoly.edu
SUMMARY:Performance Contracting\, Inc. - Info Session
DESCRIPTION:Performance Contracting\, Inc.\nSpecialty Contractor \nPresentation in Bldg. 186-B102 \nInterviews in Bldg. 186-A211 \nInterview Sign Ups: Click Here \nJames Maloney \njames.maloney@pcg.com \nTuesday\, November 5\, 2024 at 11:00 AM \nOpen Positions: Full Time (starting after June 2024 graduation) | Internship (Summer 2024) \nJob Locations: Central California | Northern California | Southern California | Mountain (CO\, Montana\, Wyoming\, etc.) | Midwest | East Coast | West Coast (other than CA) \nVisit: Www.performancecontracting.com to apply \nCMAC Member
URL:https://ccce.calpoly.edu/event/performance-contracting-inc-info-session-6/
CATEGORIES:Recruitment Events
END:VEVENT
BEGIN:VEVENT
DTSTART;TZID=America/Los_Angeles:20241104T180000
DTEND;TZID=America/Los_Angeles:20241104T190000
DTSTAMP:20260420T154930
CREATED:20240912T211802Z
LAST-MODIFIED:20241104T164403Z
UID:60072-1730743200-1730746800@ccce.calpoly.edu
SUMMARY:Rudolph and Sletten - Info Session
DESCRIPTION:Rudolph and Sletten\nCommercial \nPresentation in Bldg. 186-B202 \nInterviews in Bldg. 186-A213 \nInterview Sign Ups: Click Here \nPaul Kangas \nPaul.Kangas@rsconst.com \nMonday\, November 4\, 2024 at 6:00 PM \nOpen Positions: Full Time (starting January 2024) | Full Time (starting after June 2024 graduation) \nJob Locations: Northern California | Southern California \nVisit: https://phe.tbe.taleo.net/phe01/ats/careers/v2/searchResults?org=TUTORPERINI&cws=47 to apply \nCMAC Member
URL:https://ccce.calpoly.edu/event/rudolph-and-sletten-info-session-2/
CATEGORIES:Recruitment Events
END:VEVENT
BEGIN:VEVENT
DTSTART;TZID=America/Los_Angeles:20241031T110000
DTEND;TZID=America/Los_Angeles:20241031T120000
DTSTAMP:20260420T154930
CREATED:20241031T151849Z
LAST-MODIFIED:20241031T151905Z
UID:60452-1730372400-1730376000@ccce.calpoly.edu
SUMMARY:PCL Construction - Info Session
DESCRIPTION:PCL Construction\nCommercial \nPresentation in Bldg. 186-B102 \nInterviews in Bldg. 186-A211 \nSaghar Sobhani \nSSobhani@pcl.com \nThursday\, October 31\, 2024 at 11:00 AM \nOpen Positions: Full Time (starting January 2024) | Full Time (starting after June 2024 graduation) | Internship (Summer 2024) | Internship (Open Timeframe) \nJob Locations: Central California | Mountain (CO\, Montana\, Wyoming\, etc.) | West Coast (other than CA) \nEmail: SSobhani@pcl.com for application information \nCMAC Member
URL:https://ccce.calpoly.edu/event/pcl-construction-info-session-7/
CATEGORIES:Recruitment Events
END:VEVENT
BEGIN:VEVENT
DTSTART;TZID=America/Los_Angeles:20241030T180000
DTEND;TZID=America/Los_Angeles:20241030T190000
DTSTAMP:20260420T154930
CREATED:20240912T211747Z
LAST-MODIFIED:20241030T165108Z
UID:60070-1730311200-1730314800@ccce.calpoly.edu
SUMMARY:Wright Contracting - Info Session
DESCRIPTION:Wright Contracting\nCommercial \nPresentation in Bldg. 186-B202 \nInterviews in Bldg. 186-A213 \nMark Davis \nmdavis@wrightcontracting.com \nWednesday\, October 30\, 2024 at 6:00 PM \nOpen Positions: Full Time (starting January 2024) | Full Time (starting after June 2024 graduation) | Internship (Summer 2024) | Internship (Open Timeframe) \nJob Locations: Northern California \nEmail: mdavis@wrightcontracting.com for application information \nCMAC Member
URL:https://ccce.calpoly.edu/event/wright-contracting-info-session-3/
CATEGORIES:Recruitment Events
END:VEVENT
BEGIN:VEVENT
DTSTART;TZID=America/Los_Angeles:20241030T110000
DTEND;TZID=America/Los_Angeles:20241030T120000
DTSTAMP:20260420T154930
CREATED:20240912T211747Z
LAST-MODIFIED:20241030T165108Z
UID:60069-1730286000-1730289600@ccce.calpoly.edu
SUMMARY:Bernards - Info Session
DESCRIPTION:Bernards\nCommercial \nPresentation in Bldg. 186-B102 \nInterviews in Bldg. 186-A211 \nCameron Carrizales \nccarrizales@bernards.com \nWednesday\, October 30\, 2024 at 11:00 AM \nOpen Positions: Full Time (starting January 2024) | Full Time (starting after June 2024 graduation) | Internship (Summer 2024) | Internship (Open Timeframe) \nJob Locations: Central California | Southern California \nEmail: ccarrizales@bernards.com for application information \nCMAC Member
URL:https://ccce.calpoly.edu/event/bernards-info-session-6/
CATEGORIES:Recruitment Events
END:VEVENT
BEGIN:VEVENT
DTSTART;TZID=America/Los_Angeles:20241029T180000
DTEND;TZID=America/Los_Angeles:20241029T190000
DTSTAMP:20260420T154930
CREATED:20241008T173616Z
LAST-MODIFIED:20241029T163810Z
UID:60378-1730224800-1730228400@ccce.calpoly.edu
SUMMARY:BCCI Construction - Info Session
DESCRIPTION:BCCI Construction\nCommercial \nPresentation in Bldg. 186-B202 \nInterviews in Bldg. 186-A213 \nJack Sieverding \njack.sieverding@bcciconst.com \nTuesday\, October 29\, 2024 at 6:00 PM \nOpen Positions: Internship (Summer 2024) \nJob Locations: Northern California | Southern California \nVisit: https://bcciconst.com to apply
URL:https://ccce.calpoly.edu/event/bcci-construction-info-session-4/
CATEGORIES:Recruitment Events
END:VEVENT
BEGIN:VEVENT
DTSTART;TZID=America/Los_Angeles:20241029T110000
DTEND;TZID=America/Los_Angeles:20241029T120000
DTSTAMP:20260420T154930
CREATED:20240912T211747Z
LAST-MODIFIED:20241101T195427Z
UID:60067-1730199600-1730203200@ccce.calpoly.edu
SUMMARY:S3H Inc. - Info Session
DESCRIPTION:S3H Inc.\nSpecialty Contractor \ns3hinc.com \nPresentation in Bldg. 186-B102 \nInterviews in Bldg. 186-A211 \nRichard Pomeroy \nrick.pomeroy@s3hinc.com \nTuesday\, October 29\, 2024 at 11:00 AM \nOpen Positions: Full Time (starting January 2024) | Full Time (starting after June 2024 graduation) | Internship (Summer 2024) | Internship (Open Timeframe) \nJob Locations: Northern California | Southern California | West Coast (other than CA) | Mechanical/HVAC/Process Piping/Plumbing \nVisit: s3hinc.com to apply \nCMAC Member
URL:https://ccce.calpoly.edu/event/s3h-inc-info-session/
CATEGORIES:Recruitment Events
END:VEVENT
BEGIN:VEVENT
DTSTART;TZID=America/Los_Angeles:20241028T180000
DTEND;TZID=America/Los_Angeles:20241028T190000
DTSTAMP:20260420T154930
CREATED:20240912T211746Z
LAST-MODIFIED:20241028T163913Z
UID:60066-1730138400-1730142000@ccce.calpoly.edu
SUMMARY:Devcon construction - Info Session
DESCRIPTION:Devcon construction\nCommercial \ndevcon-const.com \nPresentation in Bldg. 186-B202 \nInterviews in Bldg. 186-A213 \nInterview Sign Ups: Click Here \nChristina Chapa \ncchapa@devcon-const.com \nMonday\, October 28\, 2024 at 6:00 PM \nOpen Positions: Full Time (starting January 2024) | Full Time (starting after June 2024 graduation) | Internship (Summer 2024) | Internship (Open Timeframe) \nJob Locations: Northern California \nEmail: cchapa@devcon-const.com for application information \nCMAC Member
URL:https://ccce.calpoly.edu/event/devcon-construction-info-session-2/
CATEGORIES:Recruitment Events
END:VEVENT
END:VCALENDAR