BEGIN:VCALENDAR
VERSION:2.0
PRODID:-//CCCE - ECPv5.16.3.1//NONSGML v1.0//EN
CALSCALE:GREGORIAN
METHOD:PUBLISH
X-WR-CALNAME:CCCE
X-ORIGINAL-URL:https://ccce.calpoly.edu
X-WR-CALDESC:Events for CCCE
REFRESH-INTERVAL;VALUE=DURATION:PT1H
X-Robots-Tag:noindex
X-PUBLISHED-TTL:PT1H
BEGIN:VTIMEZONE
TZID:America/Los_Angeles
BEGIN:DAYLIGHT
TZOFFSETFROM:-0800
TZOFFSETTO:-0700
TZNAME:PDT
DTSTART:20240310T100000
END:DAYLIGHT
BEGIN:STANDARD
TZOFFSETFROM:-0700
TZOFFSETTO:-0800
TZNAME:PST
DTSTART:20241103T090000
END:STANDARD
BEGIN:DAYLIGHT
TZOFFSETFROM:-0800
TZOFFSETTO:-0700
TZNAME:PDT
DTSTART:20250309T100000
END:DAYLIGHT
BEGIN:STANDARD
TZOFFSETFROM:-0700
TZOFFSETTO:-0800
TZNAME:PST
DTSTART:20251102T090000
END:STANDARD
END:VTIMEZONE
BEGIN:VEVENT
DTSTART;TZID=America/Los_Angeles:20241120T180000
DTEND;TZID=America/Los_Angeles:20241120T190000
DTSTAMP:20260420T085239
CREATED:20240912T211847Z
LAST-MODIFIED:20241120T123913Z
UID:60089-1732125600-1732129200@ccce.calpoly.edu
SUMMARY:West Valley Construction Company Inc. - Info Session
DESCRIPTION:West Valley Construction Company Inc.\nHeavy Civil \nhttps://westvalleyconstruction.com/ \nPresentation in Bldg. 186-B202 \nInterviews in Bldg. 186-A213 \nInterview Sign Ups: Click Here \nLauren Vorhis \nlvorhis@wvcc.com \nWednesday\, November 20\, 2024 at 6:00 PM \nOpen Positions: Internship (Summer 2024) \nJob Locations: Central California | Northern California \nEmail: lvorhis@wvcc.com for application information \nCMAC Member
URL:https://ccce.calpoly.edu/event/west-valley-construction-company-inc-info-session-2/
CATEGORIES:Recruitment Events
END:VEVENT
BEGIN:VEVENT
DTSTART;TZID=America/Los_Angeles:20241121T110000
DTEND;TZID=America/Los_Angeles:20241121T120000
DTSTAMP:20260420T085239
CREATED:20240912T211847Z
LAST-MODIFIED:20241121T143751Z
UID:60090-1732186800-1732190400@ccce.calpoly.edu
SUMMARY:Anvil Builders - Info Session
DESCRIPTION:Anvil Builders\nHeavy Civil \nANVILBUILDERS.COM \nPresentation in Bldg. 186-B102 \nInterviews in Bldg. 186-A211 \nInterview Sign Ups: Click Here \nCaetlan Maclean \ncmaclean@anvilbuilders.com \nThursday\, November 21\, 2024 at 11:00 AM \nOpen Positions: Full Time (starting January 2024) | Full Time (starting after June 2024 graduation) | Internship (Summer 2024) \nJob Locations: Northern California \nVisit: ANVILBUILDERS.COM/OUR-TEAM/ to apply \nCMAC Member
URL:https://ccce.calpoly.edu/event/anvil-builders-info-session-2/
CATEGORIES:Recruitment Events
END:VEVENT
BEGIN:VEVENT
DTSTART;TZID=America/Los_Angeles:20241121T180000
DTEND;TZID=America/Los_Angeles:20241121T190000
DTSTAMP:20260420T085239
CREATED:20240912T211902Z
LAST-MODIFIED:20241121T143751Z
UID:60091-1732212000-1732215600@ccce.calpoly.edu
SUMMARY:Toro Enterprises Inc. - Info Session
DESCRIPTION:Toro Enterprises Inc.\nHeavy Civil \nhttps://toroenterprises.com/ \nPresentation in Bldg. 186-B202 \nInterviews in Bldg. 186-A213 \nInterview Sign Ups: Click Here \nAj Coccillos \najcoccillos@toroenterprises.com \nThursday\, November 21\, 2024 at 6:00 PM \nOpen Positions: Full Time (starting after June 2024 graduation) | Internship (Summer 2024) \nJob Locations: Southern California \nEmail: ajcoccillos@toroenterprises.com for application information \nCMAC Member
URL:https://ccce.calpoly.edu/event/toro-enterprises-inc-info-session-3/
CATEGORIES:Recruitment Events
END:VEVENT
BEGIN:VEVENT
DTSTART;TZID=America/Los_Angeles:20250113T180000
DTEND;TZID=America/Los_Angeles:20250113T190000
DTSTAMP:20260420T085239
CREATED:20240912T211902Z
LAST-MODIFIED:20250113T114914Z
UID:60092-1736791200-1736794800@ccce.calpoly.edu
SUMMARY:XL Construction - Info Session
DESCRIPTION:XL Construction\nCommercial \nwww.xlconstruction.com \nPresentation in Bldg. 186-B202 \nInterviews in Bldg. 186-A213 \nInterview Sign Ups: Click Here \nGabriella Hagberg \njerodcreese@gmail.com \nMonday\, January 13\, 2025 at 6:00 PM \nOpen Positions: Full Time (starting January 2024) | Full Time (starting after June 2024 graduation) | Internship (Summer 2024) | Internship (Open Timeframe) \nJob Locations: Northern California \nEmail: jerodcreese@gmail.com for application information \nCMAC Member
URL:https://ccce.calpoly.edu/event/xl-construction-info-session-6/
CATEGORIES:Recruitment Events
END:VEVENT
BEGIN:VEVENT
DTSTART;TZID=America/Los_Angeles:20250115T110000
DTEND;TZID=America/Los_Angeles:20250115T120000
DTSTAMP:20260420T085239
CREATED:20240912T211902Z
LAST-MODIFIED:20250115T115026Z
UID:60095-1736938800-1736942400@ccce.calpoly.edu
SUMMARY:Level 10 Construction - Info Session
DESCRIPTION:Level 10 Construction\nCommercial \nwww.level10gc.com \nPresentation in Bldg. 186-B102 \nInterviews in Bldg. 186-A211 \nInterview Sign Ups: Click Here \nMatt Heintz  \nmheintz@level10gc.com \nWednesday\, January 15\, 2025 at 11:00 AM \nOpen Positions: Full Time (starting after June 2024 graduation) | Internship (Summer 2024) \nJob Locations: Northern California | Southern California \nEmail: mheintz@level10gc.com for application information \nCMAC Member
URL:https://ccce.calpoly.edu/event/level-10-construction-info-session-5/
CATEGORIES:Recruitment Events
END:VEVENT
BEGIN:VEVENT
DTSTART;TZID=America/Los_Angeles:20250116T110000
DTEND;TZID=America/Los_Angeles:20250116T120000
DTSTAMP:20260420T085239
CREATED:20240912T211917Z
LAST-MODIFIED:20250116T115004Z
UID:60097-1737025200-1737028800@ccce.calpoly.edu
SUMMARY:The Whiting-Turner Contracting Company - Info Session
DESCRIPTION:The Whiting-Turner Contracting Company\nCommercial \nPresentation in Bldg. 186-B102 \nInterviews in Bldg. 186-A211 \nkristen.pollard@whiting-turner.com \nThursday\, January 16\, 2025 at 11:00 AM \nOpen Positions:  \nJob Locations:  \nEmail: kristen.pollard@whiting-turner.com for application information \nCMAC Member
URL:https://ccce.calpoly.edu/event/the-whiting-turner-contracting-company-info-session-6/
CATEGORIES:Recruitment Events
END:VEVENT
BEGIN:VEVENT
DTSTART;TZID=America/Los_Angeles:20250116T180000
DTEND;TZID=America/Los_Angeles:20250116T190000
DTSTAMP:20260420T085239
CREATED:20240912T211917Z
LAST-MODIFIED:20250116T115004Z
UID:60098-1737050400-1737054000@ccce.calpoly.edu
SUMMARY:*CANCELED* Webcor Builders - Info Session
DESCRIPTION:*CANCELED* Webcor Builders\nCommercial \nwww.webcor.com \nPresentation in Bldg. 186-B202 \nInterviews in Bldg. 186-A213 \nZach Pollard \nzpollard@webcor.com \nThursday\, January 16\, 2025 at 6:00 PM \nOpen Positions: Full Time (starting January 2024) | Full Time (starting after June 2024 graduation) | Internship (Summer 2024) | Internship (Open Timeframe) \nJob Locations: Central California | Northern California | Southern California \nEmail: zpollard@webcor.com for application information \nCMAC Member
URL:https://ccce.calpoly.edu/event/webcor-builders-info-session-2/
CATEGORIES:Recruitment Events
END:VEVENT
BEGIN:VEVENT
DTSTART;TZID=America/Los_Angeles:20250121T110000
DTEND;TZID=America/Los_Angeles:20250121T120000
DTSTAMP:20260420T085239
CREATED:20240912T211917Z
LAST-MODIFIED:20250122T005525Z
UID:60099-1737457200-1737460800@ccce.calpoly.edu
SUMMARY:BNBuilders - Info Session
DESCRIPTION:BNBuilders\nCommercial \nPresentation in Bldg. 186-B102 \nInterviews in Bldg. 186-A211 \nInterview Sign Ups: Click Here \nRebecca Berg \nbecky.berg@bnbuilders.com \nTuesday\, January 21\, 2025 at 11:00 AM \nOpen Positions: \nJob Locations: \nEmail: becky.berg@bnbuilders.com for application information \nCMAC Member
URL:https://ccce.calpoly.edu/event/bnbuilders-info-session-6/
CATEGORIES:Recruitment Events
END:VEVENT
BEGIN:VEVENT
DTSTART;TZID=America/Los_Angeles:20250121T180000
DTEND;TZID=America/Los_Angeles:20250121T190000
DTSTAMP:20260420T085239
CREATED:20240912T211917Z
LAST-MODIFIED:20250122T005444Z
UID:60100-1737482400-1737486000@ccce.calpoly.edu
SUMMARY:DPR Construction - Info Session
DESCRIPTION:DPR Construction\nCommercial \nhttps://www.dpr.com/ \nPresentation in Bldg. 186-B202 \nInterviews in Bldg. 186-A213 \nInterview Sign Ups: Click Here \nGreg Amon \ngrega@dpr.com \nTuesday\, January 21\, 2025 at 6:00 PM \nOpen Positions: Full Time (starting January 2024) | Full Time (starting after June 2024 graduation) | Internship (Summer 2024) | Internship (Open Timeframe) \nJob Locations: Northern California | Southern California | Mountain (CO\, Montana\, Wyoming\, etc.) | East Coast | West Coast (other than CA) \nEmail: grega@dpr.com for application information \nCMAC Member
URL:https://ccce.calpoly.edu/event/dpr-construction-info-session-6/
CATEGORIES:Recruitment Events
END:VEVENT
BEGIN:VEVENT
DTSTART;TZID=America/Los_Angeles:20250122T110000
DTEND;TZID=America/Los_Angeles:20250122T120000
DTSTAMP:20260420T085239
CREATED:20240912T211932Z
LAST-MODIFIED:20250122T005444Z
UID:60101-1737543600-1737547200@ccce.calpoly.edu
SUMMARY:Blach Construction Company - Info Session
DESCRIPTION:Blach Construction Company\nCommercial \nwww.blach.com \nPresentation in Bldg. 186-B102 \nInterviews in Bldg. 186-A211 \nInterview Sign Ups: Click Here \nTierney Azzopardi \nmorgan.guenther@blach.com \nWednesday\, January 22\, 2025 at 11:00 AM \nOpen Positions: Full Time (starting January 2024) | Full Time (starting after June 2024 graduation) | Internship (Summer 2024) \nJob Locations: Central California | Northern California | Southern California \nVisit: https://www.blach.com/careers/ to apply \nCMAC Member
URL:https://ccce.calpoly.edu/event/blach-construction-company-info-session-2/
CATEGORIES:Recruitment Events
END:VEVENT
BEGIN:VEVENT
DTSTART;TZID=America/Los_Angeles:20250122T180000
DTEND;TZID=America/Los_Angeles:20250122T190000
DTSTAMP:20260420T085239
CREATED:20240912T211932Z
LAST-MODIFIED:20250122T005444Z
UID:60102-1737568800-1737572400@ccce.calpoly.edu
SUMMARY:Build Group (Pacific-Structures) - Info Session
DESCRIPTION:Build Group (Pacific-Structures)\nCommercial \nBuildgc.com \nPresentation in Bldg. 186-B202 \nInterviews in Bldg. 186-A213 \nInterview Sign Ups: Click Here \nAmy Phung \nrecruiting@buildgc.com \nWednesday\, January 22\, 2025 at 6:00 PM \nOpen Positions: Full Time (starting after June 2024 graduation) | Internship (Summer 2024) \nJob Locations: Central California | Northern California | Southern California \nEmail: recruiting@buildgc.com for application information \nCMAC Member
URL:https://ccce.calpoly.edu/event/build-group-pacific-structures-info-session-3/
CATEGORIES:Recruitment Events
END:VEVENT
BEGIN:VEVENT
DTSTART;TZID=America/Los_Angeles:20250123T110000
DTEND;TZID=America/Los_Angeles:20250123T120000
DTSTAMP:20260420T085239
CREATED:20240912T211932Z
LAST-MODIFIED:20250123T115041Z
UID:60103-1737630000-1737633600@ccce.calpoly.edu
SUMMARY:Morley Builders - Info Session
DESCRIPTION:Morley Builders\nCommercial \nwww.morleybuilders.com \nPresentation in Bldg. 186-B102 \nInterviews in Bldg. 186-A211 \nInterview Sign Ups: Click Here \nArielle Asher \naasher@morleybuilders.com \nThursday\, January 23\, 2025 at 11:00 AM \nOpen Positions: Full Time (starting January 2024) | Full Time (starting after June 2024 graduation) | Internship (Summer 2024) | Internship (Open Timeframe) \nJob Locations: Southern California \nVisit: https://morleybuilders.bamboohr.com/careers to apply \nCMAC Member
URL:https://ccce.calpoly.edu/event/morley-builders-info-session-6/
CATEGORIES:Recruitment Events
END:VEVENT
BEGIN:VEVENT
DTSTART;TZID=America/Los_Angeles:20250123T180000
DTEND;TZID=America/Los_Angeles:20250123T190000
DTSTAMP:20260420T085239
CREATED:20240912T211932Z
LAST-MODIFIED:20250123T115041Z
UID:60104-1737655200-1737658800@ccce.calpoly.edu
SUMMARY:Hensel Phelps - Info Session
DESCRIPTION:Hensel Phelps\nCommercial \nhttps://www.henselphelps.com \nPresentation in Bldg. 186-B202 \nInterviews in Bldg. 186-A213 \nInterview Sign Ups: Click Here \nLuis Esquivel \nlesquivel@henselphelps.com \nThursday\, January 23\, 2025 at 6:00 PM \nOpen Positions: Full Time (starting January 2024) | Full Time (starting after June 2024 graduation) | Internship (Summer 2024) | Internship (Open Timeframe) \nJob Locations: Central California | Northern California | Southern California | Mountain (CO\, Montana\, Wyoming\, etc.) | Midwest | East Coast | West Coast (other than CA) | Outside of USA \nEmail: lesquivel@henselphelps.com for application information \nCMAC Member
URL:https://ccce.calpoly.edu/event/hensel-phelps-info-session-6/
CATEGORIES:Recruitment Events
END:VEVENT
BEGIN:VEVENT
DTSTART;TZID=America/Los_Angeles:20250127T180000
DTEND;TZID=America/Los_Angeles:20250127T190000
DTSTAMP:20260420T085239
CREATED:20240912T211932Z
LAST-MODIFIED:20250127T234940Z
UID:60105-1738000800-1738004400@ccce.calpoly.edu
SUMMARY:Archkey / Sprig Electric - Info Session
DESCRIPTION:Archkey / Sprig Electric\nSpecialty Contractor \nwww.archkey.com \nPresentation in Bldg. 186-B202 \nInterviews in Bldg. 186-A213 \nInterview Sign Ups: Click Here \nJeff Messana \njeff.messana@archkey.com \nMonday\, January 27\, 2025 at 6:00 PM \nOpen Positions: Full Time (starting January 2024) | Full Time (starting after June 2024 graduation) | Internship (Summer 2024) \nJob Locations: Northern California \nEmail: jeff.messana@archkey.com for application information \nCMAC Member
URL:https://ccce.calpoly.edu/event/archkey-sprig-electric-info-session-2/
CATEGORIES:Recruitment Events
END:VEVENT
BEGIN:VEVENT
DTSTART;TZID=America/Los_Angeles:20250128T110000
DTEND;TZID=America/Los_Angeles:20250128T120000
DTSTAMP:20260420T085239
CREATED:20240912T211947Z
LAST-MODIFIED:20250128T195441Z
UID:60106-1738062000-1738065600@ccce.calpoly.edu
SUMMARY:PCL Construction - Info Session
DESCRIPTION:PCL Construction\nCommercial \nPresentation in Bldg. 186-B102 \nInterviews in Bldg. 186-A211 \nTina Simmons \ntinasimmons@pcl.com \nTuesday\, January 28\, 2025 at 11:00 AM \nOpen Positions: Full Time (starting January 2024) | Full Time (starting after June 2024 graduation) | Internship (Summer 2024) \nJob Locations: Central California | Southern California | Mountain (CO\, Montana\, Wyoming\, etc.) | West Coast (other than CA) \nEmail: tinasimmons@pcl.com for application information \nCMAC Member
URL:https://ccce.calpoly.edu/event/pcl-construction-info-session-6/
CATEGORIES:Recruitment Events
END:VEVENT
BEGIN:VEVENT
DTSTART;TZID=America/Los_Angeles:20250128T180000
DTEND;TZID=America/Los_Angeles:20250128T190000
DTSTAMP:20260420T085239
CREATED:20240912T211947Z
LAST-MODIFIED:20250128T195441Z
UID:60107-1738087200-1738090800@ccce.calpoly.edu
SUMMARY:Bernards - Info Session
DESCRIPTION:Bernards\nCommercial \nwww.bernards.com \nPresentation in Bldg. 186-B202 \nInterviews in Bldg. 186-A213 \nInterview Sign Ups: Click Here \nCameron Carrizales \nccarrizales@bernards.com \nTuesday\, January 28\, 2025 at 6:00 PM \nOpen Positions: Full Time (starting January 2024) | Full Time (starting after June 2024 graduation) | Internship (Summer 2024) | Internship (Open Timeframe) \nJob Locations: Central California | Northern California | Southern California \nEmail: ccarrizales@bernards.com for application information \nCMAC Member
URL:https://ccce.calpoly.edu/event/bernards-info-session-7/
CATEGORIES:Recruitment Events
END:VEVENT
BEGIN:VEVENT
DTSTART;TZID=America/Los_Angeles:20250129T110000
DTEND;TZID=America/Los_Angeles:20250129T120000
DTSTAMP:20260420T085239
CREATED:20240912T211947Z
LAST-MODIFIED:20250129T195055Z
UID:60108-1738148400-1738152000@ccce.calpoly.edu
SUMMARY:Quiring General - Info Session
DESCRIPTION:Quiring General\nCommercial \nwww.quiring.com \nPresentation in Bldg. 186-B102 \nInterviews in Bldg. 186-A211 \nInterview Sign Ups: Click Here \nMichael Schussel \nmschussel@quiring.com \nWednesday\, January 29\, 2025 at 11:00 AM \nOpen Positions: Full Time (starting January 2024) | Full Time (starting after June 2024 graduation) | Internship (Open Timeframe) \nJob Locations: Central California | Northern California \nEmail: mschussel@quiring.com for application information \nCMAC Member
URL:https://ccce.calpoly.edu/event/quiring-general-info-session-6/
CATEGORIES:Recruitment Events
END:VEVENT
BEGIN:VEVENT
DTSTART;TZID=America/Los_Angeles:20250129T180000
DTEND;TZID=America/Los_Angeles:20250129T190000
DTSTAMP:20260420T085239
CREATED:20240912T211947Z
LAST-MODIFIED:20250129T195055Z
UID:60109-1738173600-1738177200@ccce.calpoly.edu
SUMMARY:Largo concrete - Info Session
DESCRIPTION:Largo concrete\nSpecialty Contractor \nwww.largoconcrete.com \nPresentation in Bldg. 186-B202 \nInterviews in Bldg. 186-A213 \nInterview Sign Ups: Click Here \nCharlie Mallers \ncmallers@largoconcrete.com \nWednesday\, January 29\, 2025 at 6:00 PM \nOpen Positions:  \nJob Locations: Southern California \nVisit: Www.largoconcrete.com to apply \nCMAC Member
URL:https://ccce.calpoly.edu/event/largo-concrete-info-session-3/
CATEGORIES:Recruitment Events
END:VEVENT
BEGIN:VEVENT
DTSTART;TZID=America/Los_Angeles:20250210T180000
DTEND;TZID=America/Los_Angeles:20250210T190000
DTSTAMP:20260420T085239
CREATED:20240912T211947Z
LAST-MODIFIED:20250210T220126Z
UID:60110-1739210400-1739214000@ccce.calpoly.edu
SUMMARY:Cumming Group - Info Session
DESCRIPTION:Cumming Group\nCommercial \nPresentation in Bldg. 186-B202 \nInterviews in Bldg. 186-A213 \nLisa Mckeon \nlmckeon@cumming-group.com \nMonday\, February 10\, 2025 at 6:00 PM \nOpen Positions: Internship (Open Timeframe) \nJob Locations: Central California | Northern California | Southern California | East Coast | West Coast (other than CA) \nEmail: lmckeon@cumming-group.com for application information \nCMAC Member
URL:https://ccce.calpoly.edu/event/cumming-group-info-session-4/
CATEGORIES:Recruitment Events
END:VEVENT
BEGIN:VEVENT
DTSTART;TZID=America/Los_Angeles:20250211T110000
DTEND;TZID=America/Los_Angeles:20250211T120000
DTSTAMP:20260420T085239
CREATED:20250128T195456Z
LAST-MODIFIED:20260205T182726Z
UID:60791-1739271600-1739275200@ccce.calpoly.edu
SUMMARY:City Ventures - Info Session
DESCRIPTION:City Ventures\nResidential \nPresentation in Bldg. 186-B102 \nInterviews in Bldg. 186-A211 \ncityventures.com \nTuesday\, February 11\, 2025 at 11:00 AM \nOpen Positions: Full Time (starting after June 2024 graduation) | Internship (Summer 2024) \nJob Locations: Northern California | Southern California \nEmail: Jmann@cityventures.com for application information \nCMAC Member
URL:https://ccce.calpoly.edu/event/city-ventures-info-session-2/
CATEGORIES:Recruitment Events
END:VEVENT
BEGIN:VEVENT
DTSTART;TZID=America/Los_Angeles:20250211T180000
DTEND;TZID=America/Los_Angeles:20250211T190000
DTSTAMP:20260420T085239
CREATED:20240912T212002Z
LAST-MODIFIED:20250211T172645Z
UID:60112-1739296800-1739300400@ccce.calpoly.edu
SUMMARY:Enclos Corp - Info Session
DESCRIPTION:Enclos Corp\nSpecialty Contractor \nPresentation in Bldg. 186-B202 \nInterviews in Bldg. 186-A213 \nCorey Geer \ncgeer@enclos.com \nTuesday\, February 11\, 2025 at 6:00 PM \nOpen Positions: Full Time (starting January 2024) | Full Time (starting after June 2024 graduation) | Internship (Summer 2024) | Internship (Open Timeframe) \nJob Locations: Northern California | Southern California | East Coast \nVisit: https://enclos.com/applicantpro/ to apply
URL:https://ccce.calpoly.edu/event/enclos-corp-info-session-4/
CATEGORIES:Recruitment Events
END:VEVENT
BEGIN:VEVENT
DTSTART;TZID=America/Los_Angeles:20250212T110000
DTEND;TZID=America/Los_Angeles:20250212T120000
DTSTAMP:20260420T085239
CREATED:20240912T212002Z
LAST-MODIFIED:20250211T172645Z
UID:60113-1739358000-1739361600@ccce.calpoly.edu
SUMMARY:McCarthy Building Companies - Info Session
DESCRIPTION:McCarthy Building Companies\nCommercial \nhttps://www.mccarthy.com/ \nPresentation in Bldg. 186-B102 \nInterviews in Bldg. 186-A211 \nInterview Sign Ups: Click Here \nKim Trotter \nKTrotter@mccarthy.com \nWednesday\, February 12\, 2025 at 11:00 AM \nOpen Positions: Full Time (starting January 2024) | Full Time (starting after June 2024 graduation) \nJob Locations: Northern California | Southern California | Midwest | East Coast \nEmail: KTrotter@mccarthy.com for application information \nCMAC Member
URL:https://ccce.calpoly.edu/event/mccarthy-building-companies-info-session-4/
CATEGORIES:Recruitment Events
END:VEVENT
BEGIN:VEVENT
DTSTART;TZID=America/Los_Angeles:20250212T180000
DTEND;TZID=America/Los_Angeles:20250212T190000
DTSTAMP:20260420T085239
CREATED:20240912T212002Z
LAST-MODIFIED:20250211T172700Z
UID:60114-1739383200-1739386800@ccce.calpoly.edu
SUMMARY:Ghilotti Bros.\, Inc. - Info Session
DESCRIPTION:Ghilotti Bros.\, Inc.\nHeavy Civil \nwww.gbi1914.com \nPresentation in Bldg. 186-B202 \nInterviews in Bldg. 186-A213 \nInterview Sign Ups: Click Here \nStephanie Taylor \nstephaniet@gbi1914.com \nWednesday\, February 12\, 2025 at 6:00 PM \nOpen Positions: Full Time (starting after June 2024 graduation) | Internship (Summer 2024) \nJob Locations: Northern California \nEmail: stephaniet@gbi1914.com for application information \nCMAC Member
URL:https://ccce.calpoly.edu/event/ghilotti-bros-inc-info-session-4/
CATEGORIES:Recruitment Events
END:VEVENT
BEGIN:VEVENT
DTSTART;TZID=America/Los_Angeles:20250213T180000
DTEND;TZID=America/Los_Angeles:20250213T190000
DTSTAMP:20260420T085239
CREATED:20240912T212002Z
LAST-MODIFIED:20250213T195855Z
UID:60115-1739469600-1739473200@ccce.calpoly.edu
SUMMARY:Skyline Construction - Info Session
DESCRIPTION:Skyline Construction\nCommercial \nhttps://www.skylineconstruction.build/ \nPresentation in Bldg. 186-B202 \nInterviews in Bldg. 186-A213 \nInterview Sign Ups: Click Here \nCindy Galaviz \ncgalaviz@skylineenterprises.com \nThursday\, February 13\, 2025 at 6:00 PM \nOpen Positions: Full Time (starting after June 2024 graduation) | Internship (Open Timeframe) \nJob Locations: Central California | Northern California | Southern California \nEmail: cgalaviz@skylineenterprises.com for application information \nCMAC Member
URL:https://ccce.calpoly.edu/event/skyline-construction-info-session-2/
CATEGORIES:Recruitment Events
END:VEVENT
BEGIN:VEVENT
DTSTART;TZID=America/Los_Angeles:20250218T180000
DTEND;TZID=America/Los_Angeles:20250218T190000
DTSTAMP:20260420T085239
CREATED:20240912T212017Z
LAST-MODIFIED:20250218T114239Z
UID:60117-1739901600-1739905200@ccce.calpoly.edu
SUMMARY:Underground Construction Company\, Inc - Info Session
DESCRIPTION:Underground Construction Company\, Inc\nSpecialty Contractor \nundergroundconstruction.com \nPresentation in Bldg. 186-B202 \nInterviews in Bldg. 186-A213 \nInterview Sign Ups: Click Here \nLinsey Vaquerano \nlvaquerano@quantaservices.com \nTuesday\, February 18\, 2025 at 6:00 PM \nOpen Positions:  \nJob Locations:  \nEmail: lvaquerano@quantaservices.com for application information \nCMAC Member
URL:https://ccce.calpoly.edu/event/underground-construction-company-inc-info-session/
CATEGORIES:Recruitment Events
END:VEVENT
BEGIN:VEVENT
DTSTART;TZID=America/Los_Angeles:20250219T110000
DTEND;TZID=America/Los_Angeles:20250219T120000
DTSTAMP:20260420T085239
CREATED:20240912T212017Z
LAST-MODIFIED:20250219T124607Z
UID:60118-1739962800-1739966400@ccce.calpoly.edu
SUMMARY:Performance Contracting Inc - Info Session
DESCRIPTION:Performance Contracting Inc\nSpecialty Contractor \nwww.performancecontracting.com \nPresentation in Bldg. 186-B102 \nInterviews in Bldg. 186-A211 \nInterview Sign Ups: Click Here \nJames Maloney \njames.maloney@pcg.com \nWednesday\, February 19\, 2025 at 11:00 AM \nOpen Positions: Full Time (starting January 2024) | Full Time (starting after June 2024 graduation) | Internship (Summer 2024) \nJob Locations: Central California | Northern California | Southern California | Mountain (CO\, Montana\, Wyoming\, etc.) | Midwest | East Coast | West Coast (other than CA) \nVisit: Www.performancecontracting.com to apply \nCMAC Member
URL:https://ccce.calpoly.edu/event/performance-contracting-inc-info-session-7/
CATEGORIES:Recruitment Events
END:VEVENT
BEGIN:VEVENT
DTSTART;TZID=America/Los_Angeles:20250219T180000
DTEND;TZID=America/Los_Angeles:20250219T190000
DTSTAMP:20260420T085239
CREATED:20240912T212017Z
LAST-MODIFIED:20250219T124607Z
UID:60119-1739988000-1739991600@ccce.calpoly.edu
SUMMARY:Snyder Langston - Info Session
DESCRIPTION:Snyder Langston\nCommercial \nwww.snyderlangston.com \nPresentation in Bldg. 186-B202 \nInterviews in Bldg. 186-A213 \nInterview Sign Ups: Click Here \nStacey Stockmeyer \nsstockmeyer@snyderlangston.com \nWednesday\, February 19\, 2025 at 6:00 PM \nOpen Positions:  \nJob Locations:  \nEmail: sstockmeyer@snyderlangston.com for application information \nCMAC Member
URL:https://ccce.calpoly.edu/event/snyder-langston-info-session-3/
CATEGORIES:Recruitment Events
END:VEVENT
BEGIN:VEVENT
DTSTART;TZID=America/Los_Angeles:20250220T110000
DTEND;TZID=America/Los_Angeles:20250220T120000
DTSTAMP:20260420T085239
CREATED:20240912T212017Z
LAST-MODIFIED:20250220T124348Z
UID:60120-1740049200-1740052800@ccce.calpoly.edu
SUMMARY:Swinerton Builders - Info Session
DESCRIPTION:Swinerton Builders\nCommercial \nPresentation in Bldg. 186-B102 \nInterviews in Bldg. 186-A211 \nBobby Van Hollebeke \nbvanh@swinerton.com \nThursday\, February 20\, 2025 at 11:00 AM \nOpen Positions: Full Time (starting January 2024) | Full Time (starting after June 2024 graduation) | Internship (Summer 2024) | Internship (Open Timeframe) \nJob Locations: Central California | Northern California | Southern California | Mountain (CO\, Montana\, Wyoming\, etc.) | East Coast | West Coast (other than CA) \nVisit:  to apply \nCMAC Member
URL:https://ccce.calpoly.edu/event/swinerton-builders-info-session-3/
CATEGORIES:Recruitment Events
END:VEVENT
BEGIN:VEVENT
DTSTART;TZID=America/Los_Angeles:20250220T180000
DTEND;TZID=America/Los_Angeles:20250220T190000
DTSTAMP:20260420T085239
CREATED:20240912T212032Z
LAST-MODIFIED:20250220T124348Z
UID:60121-1740074400-1740078000@ccce.calpoly.edu
SUMMARY:Herrero Builders Inc. - Info Session
DESCRIPTION:Herrero Builders Inc.\nIndustrial \nwww.herrero.com \nPresentation in Bldg. 186-B202 \nInterviews in Bldg. 186-A213 \nInterview Sign Ups: Click Here \nBreanna Eddy \nbeddy@herrero.com \nThursday\, February 20\, 2025 at 6:00 PM \nOpen Positions: Full Time (starting after June 2024 graduation) | Internship (Summer 2024) \nJob Locations: Northern California \nVisit: https://www.herrero.com/careers to apply \nCMAC Member
URL:https://ccce.calpoly.edu/event/herrero-builders-inc-info-session-4/
CATEGORIES:Recruitment Events
END:VEVENT
BEGIN:VEVENT
DTSTART;TZID=America/Los_Angeles:20250225T110000
DTEND;TZID=America/Los_Angeles:20250225T120000
DTSTAMP:20260420T085239
CREATED:20240912T212032Z
LAST-MODIFIED:20250224T221140Z
UID:60123-1740481200-1740484800@ccce.calpoly.edu
SUMMARY:Alten Construction - Info Session
DESCRIPTION:Alten Construction\nCommercial \nhttps://www.altenconstruction.com/ \nPresentation in Bldg. 186-B102 \nInterviews in Bldg. 186-A211 \nInterview Sign Ups: Click Here \nPeter Dickinson \npdickinson@altenconstruction.com \nTuesday\, February 25\, 2025 at 11:00 AM \nOpen Positions: Full Time (starting after June 2024 graduation) | Internship (Summer 2024) \nJob Locations: Northern California \nEmail: pdickinson@altenconstruction.com for application information \nCMAC Member
URL:https://ccce.calpoly.edu/event/alten-construction-info-session-3/
CATEGORIES:Recruitment Events
END:VEVENT
END:VCALENDAR