BEGIN:VCALENDAR
VERSION:2.0
PRODID:-//CCCE - ECPv5.16.3.1//NONSGML v1.0//EN
CALSCALE:GREGORIAN
METHOD:PUBLISH
X-WR-CALNAME:CCCE
X-ORIGINAL-URL:https://ccce.calpoly.edu
X-WR-CALDESC:Events for CCCE
REFRESH-INTERVAL;VALUE=DURATION:PT1H
X-Robots-Tag:noindex
X-PUBLISHED-TTL:PT1H
BEGIN:VTIMEZONE
TZID:America/Los_Angeles
BEGIN:DAYLIGHT
TZOFFSETFROM:-0800
TZOFFSETTO:-0700
TZNAME:PDT
DTSTART:20240310T100000
END:DAYLIGHT
BEGIN:STANDARD
TZOFFSETFROM:-0700
TZOFFSETTO:-0800
TZNAME:PST
DTSTART:20241103T090000
END:STANDARD
END:VTIMEZONE
BEGIN:VEVENT
DTSTART;TZID=America/Los_Angeles:20240129T180000
DTEND;TZID=America/Los_Angeles:20240129T190000
DTSTAMP:20260420T085237
CREATED:20231108T204432Z
LAST-MODIFIED:20240129T125034Z
UID:58863-1706551200-1706554800@ccce.calpoly.edu
SUMMARY:WEST Builders Inc. - Info Session
DESCRIPTION:WEST Builders Inc.\nMulti-Family\, Multi-Use\, Commercial \nhttps://www.westbuilders.net/ \nPresentation in Bldg. 186-B202 \nInterviews in Bldg. 186-A213 \nMiranda Mills \nddelonzor@westbuilders.net \nMonday\, January 29\, 2024 at 6:00 PM \nOpen Positions: Full Time (starting January 2024) | Full Time (starting after June 2024 graduation) | Internship (Summer 2024) | Internship (Open Timeframe) \nJob Locations: Northern California | Southern California \nEmail: ddelonzor@westbuilders.net for application information \nCMAC Member
URL:https://ccce.calpoly.edu/event/west-builders-inc-info-session/
CATEGORIES:Recruitment Events
ATTACH;FMTTYPE=image/jpeg:https://ccce.calpoly.edu/wp-content/uploads/2023/06/west.jpeg
END:VEVENT
BEGIN:VEVENT
DTSTART;TZID=America/Los_Angeles:20240130T110000
DTEND;TZID=America/Los_Angeles:20240130T120000
DTSTAMP:20260420T085237
CREATED:20231108T204432Z
LAST-MODIFIED:20240130T135447Z
UID:58864-1706612400-1706616000@ccce.calpoly.edu
SUMMARY:Bernards - Info Session
DESCRIPTION:Bernards\nCommercial \nbernards.com \nPresentation in Bldg. 186-B102 \nInterviews in Bldg. 186-A211 \nInterview Sign Ups: Click Here \nCameron Carrizales \nccarrizales@bernards.com \nTuesday\, January 30\, 2024 at 11:00 AM \nOpen Positions: Full Time (starting January 2024) | Full Time (starting after June 2024 graduation) | Internship (Summer 2024) | Internship (Open Timeframe) \nJob Locations: Central California | Northern California | Southern California \nEmail: ccarrizales@bernards.com for application information \nCMAC Member
URL:https://ccce.calpoly.edu/event/bernards-info-session-5/
CATEGORIES:Recruitment Events
ATTACH;FMTTYPE=image/jpeg:https://ccce.calpoly.edu/wp-content/uploads/2021/09/Bernards-Logo-1.jpg
END:VEVENT
BEGIN:VEVENT
DTSTART;TZID=America/Los_Angeles:20240130T180000
DTEND;TZID=America/Los_Angeles:20240130T190000
DTSTAMP:20260420T085237
CREATED:20231108T204447Z
LAST-MODIFIED:20240130T135447Z
UID:58865-1706637600-1706641200@ccce.calpoly.edu
SUMMARY:Underground Construction Company - Info Session
DESCRIPTION:Underground Construction Company\nSpecialty Contractor \nhttps://www.undergroundconstruction.com \nPresentation in Bldg. 186-B202 \nInterviews in Bldg. 186-A213 \nInterview Sign Ups: Click Here \nLinsey Vaquerano \nlvaquerano@quantaservices.com \nTuesday\, January 30\, 2024 at 6:00 PM \nOpen Positions:  \nJob Locations:  \nEmail: lvaquerano@quantaservices.com for application information
URL:https://ccce.calpoly.edu/event/underground-construction-company-info-session/
CATEGORIES:Recruitment Events
ATTACH;FMTTYPE=image/png:https://ccce.calpoly.edu/wp-content/uploads/2023/09/UndergroundConstruction-Logo.png
END:VEVENT
BEGIN:VEVENT
DTSTART;TZID=America/Los_Angeles:20240131T110000
DTEND;TZID=America/Los_Angeles:20240131T120000
DTSTAMP:20260420T085237
CREATED:20231108T204447Z
LAST-MODIFIED:20240130T135447Z
UID:58866-1706698800-1706702400@ccce.calpoly.edu
SUMMARY:Anning-Johnson Company - Info Session
DESCRIPTION:Anning-Johnson Company\nSpecialty Contractor \nanningjohnson.com \nPresentation in Bldg. 186-B102 \nInterviews in Bldg. 186-A211 \nInterview Sign Ups: Click Here \nKate Wirkus \nkwirkus@ansonindustries.com \nWednesday\, January 31\, 2024 at 11:00 AM \nOpen Positions: Full Time (starting January 2024) | Full Time (starting after June 2024 graduation) | Internship (Summer 2024) | Internship (Open Timeframe) \nJob Locations: Northern California | Southern California | Midwest | East Coast | West Coast (other than CA) \nVisit: Commercial Specialty Contractor to apply \nCMAC Member
URL:https://ccce.calpoly.edu/event/anning-johnson-company-info-session-4/
CATEGORIES:Recruitment Events
ATTACH;FMTTYPE=image/png:https://ccce.calpoly.edu/wp-content/uploads/2023/09/Anning-Johnson-Logo.png
END:VEVENT
BEGIN:VEVENT
DTSTART;TZID=America/Los_Angeles:20240131T180000
DTEND;TZID=America/Los_Angeles:20240131T190000
DTSTAMP:20260420T085237
CREATED:20231108T204447Z
LAST-MODIFIED:20240130T135448Z
UID:58867-1706724000-1706727600@ccce.calpoly.edu
SUMMARY:Largo Concrete\, Inc. - Info Session
DESCRIPTION:Largo Concrete\, Inc.\nSpecialty Contractor \nwww.largoconcrete.com \nPresentation in Bldg. 186-B202 \nInterviews in Bldg. 186-A213 \nCharlie Mallers \ncmallers@largoconcrete.com \nWednesday\, January 31\, 2024 at 6:00 PM \nOpen Positions: Full Time (starting January 2024) | Full Time (starting after June 2024 graduation) | Internship (Summer 2024) | Internship (Open Timeframe) \nJob Locations: Southern California \nEmail: cmallers@largoconcrete.com for application information \nCMAC Member
URL:https://ccce.calpoly.edu/event/chris-forster-bob-stephens-don-kahn-largo-concrete-inc-info-session-2/
CATEGORIES:Recruitment Events
ATTACH;FMTTYPE=image/png:https://ccce.calpoly.edu/wp-content/uploads/2023/09/LargoConcrete-Logo.png
END:VEVENT
BEGIN:VEVENT
DTSTART;TZID=America/Los_Angeles:20240212T180000
DTEND;TZID=America/Los_Angeles:20240212T190000
DTSTAMP:20260420T085237
CREATED:20231108T204447Z
LAST-MODIFIED:20240212T204946Z
UID:58868-1707760800-1707764400@ccce.calpoly.edu
SUMMARY:GMH Builders Inc - Info Session
DESCRIPTION:GMH Builders Inc\nResidential \nwww.gmhbuild.com \nPresentation in Bldg. 186-B202 \nInterviews in Bldg. 186-A213 \nInterview Sign Ups: Click Here \nDoug Marshall \ndoug@gmhbuild.com \nMonday\, February 12\, 2024 at 6:00 PM \nOpen Positions: Full Time (starting after June 2024 graduation) | Internship (Summer 2024) | Internship (Open Timeframe) \nJob Locations: Northern California \nEmail: doug@gmhbuild.com for application information \nCMAC Member
URL:https://ccce.calpoly.edu/event/gmh-builders-inc-info-session-3/
CATEGORIES:Recruitment Events
ATTACH;FMTTYPE=image/jpeg:https://ccce.calpoly.edu/wp-content/uploads/2023/09/GMH-Logo.jpg
END:VEVENT
BEGIN:VEVENT
DTSTART;TZID=America/Los_Angeles:20240213T110000
DTEND;TZID=America/Los_Angeles:20240213T120000
DTSTAMP:20260420T085237
CREATED:20231108T204447Z
LAST-MODIFIED:20240212T204946Z
UID:58869-1707822000-1707825600@ccce.calpoly.edu
SUMMARY:Anvil Builders - Info Session
DESCRIPTION:Anvil Builders\nHeavy Civil \nanvilbuilders.com \nPresentation in Bldg. 186-B102 \nInterviews in Bldg. 186-A211 \nKatie Maclean \ncmaclean@anvilbuilders.com \nTuesday\, February 13\, 2024 at 11:00 AM \nOpen Positions: Full Time (starting after June 2024 graduation) | Internship (Summer 2024) \nJob Locations: Northern California \nEmail: cmaclean@anvilbuilders.com for application information \nCMAC Member
URL:https://ccce.calpoly.edu/event/anvil-builders-info-session/
CATEGORIES:Recruitment Events
ATTACH;FMTTYPE=image/png:https://ccce.calpoly.edu/wp-content/uploads/2023/06/anvil.png
END:VEVENT
BEGIN:VEVENT
DTSTART;TZID=America/Los_Angeles:20240213T180000
DTEND;TZID=America/Los_Angeles:20240213T190000
DTSTAMP:20260420T085237
CREATED:20231108T204502Z
LAST-MODIFIED:20240213T191746Z
UID:58870-1707847200-1707850800@ccce.calpoly.edu
SUMMARY:Truebeck Construction - Info Session
DESCRIPTION:Truebeck Construction\nCommercial \ntruebeck.com \nPresentation in Bldg. 186-B202 \nInterviews in Bldg. 186-A213 \nJacquelyn Larios \njacquelyn.larios@truebeck.com \nTuesday\, February 13\, 2024 at 6:00 PM \nOpen Positions: Full Time (starting January 2024) | Full Time (starting after June 2024 graduation) | Internship (Summer 2024) \nJob Locations: Northern California | West Coast (other than CA) \nVisit: to apply \nCMAC Member
URL:https://ccce.calpoly.edu/event/truebeck-construction-info-session-5/
CATEGORIES:Recruitment Events
ATTACH;FMTTYPE=image/png:https://ccce.calpoly.edu/wp-content/uploads/2020/04/Truebeck.png
END:VEVENT
BEGIN:VEVENT
DTSTART;TZID=America/Los_Angeles:20240214T110000
DTEND;TZID=America/Los_Angeles:20240214T120000
DTSTAMP:20260420T085237
CREATED:20231108T204502Z
LAST-MODIFIED:20240214T194542Z
UID:58871-1707908400-1707912000@ccce.calpoly.edu
SUMMARY:The Walsh Group - Info Session
DESCRIPTION:The Walsh Group\nCommercial \nhttps://www.walshgroup.com/ \nPresentation in Bldg. 186-B102 \nInterviews in Bldg. 186-A211 \nInterview Sign Ups: Click Here \nKaytlin Thornburgh \nkthornburgh@walshgroup.com \nWednesday\, February 14\, 2024 at 11:00 AM \nCMAC Member
URL:https://ccce.calpoly.edu/event/the-walsh-group-info-session/
CATEGORIES:Recruitment Events
ATTACH;FMTTYPE=image/jpeg:https://ccce.calpoly.edu/wp-content/uploads/2023/09/Walsh_Construction-Logo.jpg
END:VEVENT
BEGIN:VEVENT
DTSTART;TZID=America/Los_Angeles:20240214T180000
DTEND;TZID=America/Los_Angeles:20240214T190000
DTSTAMP:20260420T085237
CREATED:20231114T184334Z
LAST-MODIFIED:20240214T194542Z
UID:59003-1707933600-1707937200@ccce.calpoly.edu
SUMMARY:Suffolk - Info Session
DESCRIPTION:Suffolk\nCommercial \nwww.suffolk.com \nPresentation in Bldg. 186-B202 \nInterviews in Bldg. 186-A213 \nInterview Sign Ups: Click Here \nBrandi Stern \nBStern@suffolk.com \nWednesday\, February 14\, 2024 at 6:00 PM \nOpen Positions: Full Time (starting after June 2024 graduation) | Internship (Summer 2024) \nJob Locations: Northern California | Southern California | Mountain (CO\, Montana\, Wyoming\, etc.) \nEmail: BStern@suffolk.com for application information
URL:https://ccce.calpoly.edu/event/suffolk-info-session/
CATEGORIES:Recruitment Events
ATTACH;FMTTYPE=image/png:https://ccce.calpoly.edu/wp-content/uploads/2024/01/suffolk-2022-logo.png
END:VEVENT
BEGIN:VEVENT
DTSTART;TZID=America/Los_Angeles:20240215T110000
DTEND;TZID=America/Los_Angeles:20240215T120000
DTSTAMP:20260420T085237
CREATED:20231108T204502Z
LAST-MODIFIED:20240214T194542Z
UID:58872-1707994800-1707998400@ccce.calpoly.edu
SUMMARY:Quiring General - Info Session
DESCRIPTION:Quiring General\nCommercial \nwww.quiring.com \nPresentation in Bldg. 186-B102 \nInterviews in Bldg. 186-A211 \nInterview Sign Ups: Click Here \nMichael Schussel \nmschussel@quiring.com \nThursday\, February 15\, 2024 at 11:00 AM \nOpen Positions:  \nJob Locations:  \nEmail: mschussel@quiring.com for application information \nCMAC Member
URL:https://ccce.calpoly.edu/event/quiring-general-info-session-4/
CATEGORIES:Recruitment Events
ATTACH;FMTTYPE=image/png:https://ccce.calpoly.edu/wp-content/uploads/2023/09/quiring-Logo.png
END:VEVENT
BEGIN:VEVENT
DTSTART;TZID=America/Los_Angeles:20240215T180000
DTEND;TZID=America/Los_Angeles:20240215T190000
DTSTAMP:20260420T085237
CREATED:20231108T204502Z
LAST-MODIFIED:20240215T205237Z
UID:58873-1708020000-1708023600@ccce.calpoly.edu
SUMMARY:Webcor - Info Session
DESCRIPTION:Webcor\nCommercial \nwebcor.com \nPresentation in Bldg. 186-B202 \nInterviews in Bldg. 186-A213 \nZach Pollard \nzpollard@webcor.com \nThursday\, February 15\, 2024 at 6:00 PM \nOpen Positions: Full Time (starting January 2024) | Full Time (starting after June 2024 graduation) | Internship (Summer 2024) \nJob Locations: Northern California | Southern California \nEmail: zpollard@webcor.com for application information \nCMAC Member
URL:https://ccce.calpoly.edu/event/webcor-info-session-4/
CATEGORIES:Recruitment Events
ATTACH;FMTTYPE=image/jpeg:https://ccce.calpoly.edu/wp-content/uploads/2020/09/Webcor_Logo-1.jpg
END:VEVENT
BEGIN:VEVENT
DTSTART;TZID=America/Los_Angeles:20240220T110000
DTEND;TZID=America/Los_Angeles:20240220T120000
DTSTAMP:20260420T085237
CREATED:20231108T204632Z
LAST-MODIFIED:20240219T215203Z
UID:58875-1708426800-1708430400@ccce.calpoly.edu
SUMMARY:Midstate Construction - Info Session
DESCRIPTION:Midstate Construction\nCommercial \nMidstateconstruction.com \nPresentation in Bldg. 186-B102 \nInterviews in Bldg. 186-A211 \nInterview Sign Ups: Click Here \nKyle Welsh \nkyle.a.welsh@gmail.com \nTuesday\, February 20\, 2024 at 11:00 AM \nOpen Positions: Full Time (starting January 2024) | Full Time (starting after June 2024 graduation) | Internship (Summer 2024) | Internship (Open Timeframe) \nJob Locations: Northern California \nEmail: kyle.a.welsh@gmail.com for application information \nCMAC Member
URL:https://ccce.calpoly.edu/event/midstate-construction-info-session-2/
CATEGORIES:Recruitment Events
ATTACH;FMTTYPE=image/png:https://ccce.calpoly.edu/wp-content/uploads/2024/02/midState-Construction.png
END:VEVENT
BEGIN:VEVENT
DTSTART;TZID=America/Los_Angeles:20240220T180000
DTEND;TZID=America/Los_Angeles:20240220T190000
DTSTAMP:20260420T085237
CREATED:20231108T204632Z
LAST-MODIFIED:20240220T224854Z
UID:58876-1708452000-1708455600@ccce.calpoly.edu
SUMMARY:Ghilotti Bros.\, Inc. - Info Session
DESCRIPTION:Ghilotti Bros.\, Inc.\nHeavy Civil \nwww.gbi1914.com \nPresentation in Bldg. 186-B202 \nInterviews in Bldg. 186-A213 \nInterview Sign Ups: Click Here \nStephanie Taylor \nstephaniet@gbi1914.com \nTuesday\, February 20\, 2024 at 6:00 PM \nOpen Positions: Full Time (starting after June 2024 graduation) | Internship (Summer 2024) \nJob Locations: Northern California \nVisit:  to apply \nCMAC Member
URL:https://ccce.calpoly.edu/event/ghilotti-bros-inc-info-session-3/
CATEGORIES:Recruitment Events
ATTACH;FMTTYPE=image/png:https://ccce.calpoly.edu/wp-content/uploads/2024/01/GhilottiBrothers-2.png
END:VEVENT
BEGIN:VEVENT
DTSTART;TZID=America/Los_Angeles:20240221T110000
DTEND;TZID=America/Los_Angeles:20240221T120000
DTSTAMP:20260420T085237
CREATED:20231108T204502Z
LAST-MODIFIED:20240220T224854Z
UID:58874-1708513200-1708516800@ccce.calpoly.edu
SUMMARY:Cumming Group - Info Session
DESCRIPTION:Cumming Group\nseveral: residential\, industrial\, edu\, commercial \nhttps://cumming-group.com/ \nPresentation in Bldg. 186-B202 \nInterviews in Bldg. 186-A213 \nLily Wallach \nlwallach@cumming-group.com \nWednesday\, February 21\, 2024 at 11:00 AM \nOpen Positions:  \nJob Locations:  \nEmail: lwallach@cumming-group.com for application information \nCMAC Member
URL:https://ccce.calpoly.edu/event/cumming-group-info-session-3/
CATEGORIES:Recruitment Events
ATTACH;FMTTYPE=image/png:https://ccce.calpoly.edu/wp-content/uploads/2021/04/Cumming_Logo_CMAC.png
END:VEVENT
BEGIN:VEVENT
DTSTART;TZID=America/Los_Angeles:20240221T180000
DTEND;TZID=America/Los_Angeles:20240221T190000
DTSTAMP:20260420T085237
CREATED:20231108T204632Z
LAST-MODIFIED:20240221T224916Z
UID:58878-1708538400-1708542000@ccce.calpoly.edu
SUMMARY:Kitchell - Info Session
DESCRIPTION:Kitchell\nCommercial \nwww.kitchell.com \nPresentation in Bldg. 186-B202 \nInterviews in Bldg. 186-A213 \nInterview Sign Ups: Click Here \nJennifer Frahm \njfrahm@kitchell.com \nWednesday\, February 21\, 2024 at 6:00 PM \nOpen Positions:  \nJob Locations:  \nEmail: jfrahm@kitchell.com for application information \nCMAC Member
URL:https://ccce.calpoly.edu/event/kitchell-info-session-3/
CATEGORIES:Recruitment Events
ATTACH;FMTTYPE=image/png:https://ccce.calpoly.edu/wp-content/uploads/2023/09/Kitchell-Logo.png
END:VEVENT
BEGIN:VEVENT
DTSTART;TZID=America/Los_Angeles:20240222T110000
DTEND;TZID=America/Los_Angeles:20240222T120000
DTSTAMP:20260420T085237
CREATED:20231108T204632Z
LAST-MODIFIED:20240221T224916Z
UID:58879-1708599600-1708603200@ccce.calpoly.edu
SUMMARY:Swinerton - Info Session
DESCRIPTION:Swinerton\nCommercial \nswinerton.com \nPresentation in Bldg. 186-B102 \nInterviews in Bldg. 186-A211 \nInterview Sign Ups: Click Here \nBobby Van Hollebeke \nbvanhollebeke@swinerton.com \nThursday\, February 22\, 2024 at 11:00 AM \nOpen Positions:  \nJob Locations:  \nEmail: bvanhollebeke@swinerton.com for application information \nCMAC Member
URL:https://ccce.calpoly.edu/event/swinerton-info-session-3/
CATEGORIES:Recruitment Events
ATTACH;FMTTYPE=image/png:https://ccce.calpoly.edu/wp-content/uploads/2023/09/Swinerton-logos-01-1-1.png
END:VEVENT
BEGIN:VEVENT
DTSTART;TZID=America/Los_Angeles:20240222T180000
DTEND;TZID=America/Los_Angeles:20240222T190000
DTSTAMP:20260420T085237
CREATED:20231108T204647Z
LAST-MODIFIED:20240222T224726Z
UID:58880-1708624800-1708628400@ccce.calpoly.edu
SUMMARY:Millie and Severson General Contractors - Info Session
DESCRIPTION:Millie and Severson General Contractors\nCommercial \nhttps://mandsinc.com/ \nPresentation in Bldg. 186-B202 \nInterviews in Bldg. 186-A213 \nInterview Sign Ups: Click Here \nJanelle Layman \njlayman@mandsinc.com \nThursday\, February 22\, 2024 at 6:00 PM \nOpen Positions: Internship (Summer 2024) \nJob Locations: Central California | Northern California | Southern California \nEmail: jlayman@mandsinc.com for application information \nCMAC Member
URL:https://ccce.calpoly.edu/event/millie-and-severson-general-contractors-info-session/
CATEGORIES:Recruitment Events
ATTACH;FMTTYPE=image/webp:https://ccce.calpoly.edu/wp-content/uploads/2023/09/Millie-Severson-Logo.webp
END:VEVENT
BEGIN:VEVENT
DTSTART;TZID=America/Los_Angeles:20240226T180000
DTEND;TZID=America/Los_Angeles:20240226T190000
DTSTAMP:20260420T085237
CREATED:20231108T204648Z
LAST-MODIFIED:20240226T004741Z
UID:58881-1708970400-1708974000@ccce.calpoly.edu
SUMMARY:Skanska - Info Session
DESCRIPTION:Skanska\nCommercial \nusa.skanska.com \nPresentation in Bldg. 186-B202 \nInterviews in Bldg. 186-A213 \nInterview Sign Ups: Click Here \nDavid Sharkey \nDavid.Sharkey@skanska.com \nMonday\, February 26\, 2024 at 6:00 PM \nOpen Positions:  \nJob Locations:  \nEmail: David.Sharkey@skanska.com for application information \nCMAC Member
URL:https://ccce.calpoly.edu/event/skanska-info-session-2/
CATEGORIES:Recruitment Events
ATTACH;FMTTYPE=image/png:https://ccce.calpoly.edu/wp-content/uploads/2021/04/skanska-logo.png
END:VEVENT
BEGIN:VEVENT
DTSTART;TZID=America/Los_Angeles:20240227T110000
DTEND;TZID=America/Los_Angeles:20240227T120000
DTSTAMP:20260420T085237
CREATED:20240214T190937Z
LAST-MODIFIED:20240227T115527Z
UID:59371-1709031600-1709035200@ccce.calpoly.edu
SUMMARY:HITT Contracting - Info Session
DESCRIPTION:HITT Contracting\nCommercial \nPresentation in Bldg. 186-B102 \nInterviews in Bldg. 186-A211 \nAnthony Lorenzo \nAlorenzo@hitt-gc.com \nTuesday\, February 27\, 2024 at 11:00 AM \nOpen Positions: Full Time (starting after June 2024 graduation) | Internship (Summer 2024) \nJob Locations: Northern California | Southern California \nEmail: Alorenzo@hitt-gc.com for application information
URL:https://ccce.calpoly.edu/event/hitt-contracting-info-session/
CATEGORIES:Recruitment Events
END:VEVENT
BEGIN:VEVENT
DTSTART;TZID=America/Los_Angeles:20240227T180000
DTEND;TZID=America/Los_Angeles:20240227T190000
DTSTAMP:20260420T085237
CREATED:20231108T204648Z
LAST-MODIFIED:20240227T115527Z
UID:58883-1709056800-1709060400@ccce.calpoly.edu
SUMMARY:PCL Construction - Info Session
DESCRIPTION:PCL Construction\nCommercial \nhttps://www.pcl.com/us/en \nPresentation in Bldg. 186-B202 \nInterviews in Bldg. 186-A213 \nInterview Sign Ups: Click Here \nSaghar Sobhani \nssobhani@pcl.com \nTuesday\, February 27\, 2024 at 6:00 PM \nOpen Positions: Full Time (starting January 2024) | Full Time (starting after June 2024 graduation) | Internship (Summer 2024) | Internship (Open Timeframe) \nJob Locations: Southern California \nVisit:  to apply \nCMAC Member
URL:https://ccce.calpoly.edu/event/pcl-construction-info-session-4/
CATEGORIES:Recruitment Events
ATTACH;FMTTYPE=image/png:https://ccce.calpoly.edu/wp-content/uploads/2023/09/PCL-Logo.png
END:VEVENT
BEGIN:VEVENT
DTSTART;TZID=America/Los_Angeles:20240228T110000
DTEND;TZID=America/Los_Angeles:20240228T120000
DTSTAMP:20260420T085237
CREATED:20231108T204648Z
LAST-MODIFIED:20240227T115527Z
UID:58884-1709118000-1709121600@ccce.calpoly.edu
SUMMARY:Projects General Construction - Info Session
DESCRIPTION:Projects General Construction\nResidential \nprojectsgc.com \nPresentation in Bldg. 186-B102 \nInterviews in Bldg. 186-A211 \nChristine Clayton \nchristi@projectsgc.com \nWednesday\, February 28\, 2024 at 11:00 AM \nOpen Positions: Full Time (starting January 2024) | Full Time (starting after June 2024 graduation) \nJob Locations: Central California \nEmail: christi@projectsgc.com for application information \nCMAC Member
URL:https://ccce.calpoly.edu/event/projects-general-construction-info-session/
CATEGORIES:Recruitment Events
ATTACH;FMTTYPE=image/jpeg:https://ccce.calpoly.edu/wp-content/uploads/2023/09/projects-general-construction-logo.jpg
END:VEVENT
BEGIN:VEVENT
DTSTART;TZID=America/Los_Angeles:20240228T180000
DTEND;TZID=America/Los_Angeles:20240228T190000
DTSTAMP:20260420T085237
CREATED:20231108T204757Z
LAST-MODIFIED:20240228T205835Z
UID:58885-1709143200-1709146800@ccce.calpoly.edu
SUMMARY:McGuire and Hester - Info Session
DESCRIPTION:McGuire and Hester\nHeavy Civil \nwww.mcguireandhester.com \nPresentation in Bldg. 186-B202 \nInterviews in Bldg. 186-A213 \nBruce Daseking \nbdaseking@mcguireandhester.com \nWednesday\, February 28\, 2024 at 6:00 PM \nOpen Positions:  \nJob Locations:  \nEmail: bdaseking@mcguireandhester.com for application information \nCMAC Member
URL:https://ccce.calpoly.edu/event/mcguire-and-hester-info-session-4/
CATEGORIES:Recruitment Events
ATTACH;FMTTYPE=image/png:https://ccce.calpoly.edu/wp-content/uploads/2023/09/Mcguire-hester-Logo.png
END:VEVENT
BEGIN:VEVENT
DTSTART;TZID=America/Los_Angeles:20240229T110000
DTEND;TZID=America/Los_Angeles:20240229T120000
DTSTAMP:20260420T085237
CREATED:20231108T204757Z
LAST-MODIFIED:20240228T205835Z
UID:58886-1709204400-1709208000@ccce.calpoly.edu
SUMMARY:CCCE - Info Session
DESCRIPTION:CCCE\nNA \nccce.calpoly.edu \nPresentation in Bldg. 186-B102 \nInterviews in Bldg. 186-A211 \nRachell Smith \nccce@calpoly.edu \nThursday\, February 29\, 2024 at 11:00 AM
URL:https://ccce.calpoly.edu/event/ccce-info-session-14/
CATEGORIES:Recruitment Events
ATTACH;FMTTYPE=image/jpeg:https://ccce.calpoly.edu/wp-content/uploads/2018/07/cccelogobottom.jpg
END:VEVENT
BEGIN:VEVENT
DTSTART;TZID=America/Los_Angeles:20240229T180000
DTEND;TZID=America/Los_Angeles:20240229T190000
DTSTAMP:20260420T085237
CREATED:20231108T204757Z
LAST-MODIFIED:20240228T205835Z
UID:58887-1709229600-1709233200@ccce.calpoly.edu
SUMMARY:Kiewit - Info Session
DESCRIPTION:Kiewit\nHeavy Civil \nKiewit.com \nPresentation in Bldg. 186-B202 \nInterviews in Bldg. 186-A213 \nInterview Sign Ups: Click Here \nTessa Robinson \nTessa.Robinson@kiewit.com \nThursday\, February 29\, 2024 at 6:00 PM \nOpen Positions: Full Time (starting after June 2024 graduation) | Internship (Summer 2024) \nJob Locations: Central California | Northern California | Southern California | Mountain (CO\, Montana\, Wyoming\, etc.) | West Coast (other than CA) \nVisit:  to apply \nCMAC Member
URL:https://ccce.calpoly.edu/event/kiewit-info-session-2/
CATEGORIES:Recruitment Events
ATTACH;FMTTYPE=image/png:https://ccce.calpoly.edu/wp-content/uploads/2021/04/1200px-Kiewit_Logo.png
END:VEVENT
BEGIN:VEVENT
DTSTART;TZID=America/Los_Angeles:20240304T180000
DTEND;TZID=America/Los_Angeles:20240304T190000
DTSTAMP:20260420T085237
CREATED:20231108T204757Z
LAST-MODIFIED:20240303T234548Z
UID:58888-1709575200-1709578800@ccce.calpoly.edu
SUMMARY:Avila Construction - Info Session
DESCRIPTION:Avila Construction\nCommercial \navilaconst.com \nPresentation in Bldg. 186-B202 \nInterviews in Bldg. 186-A213 \nKathryn Avila \nkathryn@avilaconst.com \nMonday\, March 4\, 2024 at 6:00 PM \nOpen Positions: Full Time (starting January 2024) | Full Time (starting after June 2024 graduation) | Internship (Summer 2024) \nJob Locations: Northern California \nEmail: kathryn@avilaconst.com for application information
URL:https://ccce.calpoly.edu/event/avila-construction-info-session-2/
CATEGORIES:Recruitment Events
ATTACH;FMTTYPE=image/png:https://ccce.calpoly.edu/wp-content/uploads/2023/11/8c65d1_4a3954275c3b4d22b45ecc170669ccfbmv2_d_2521_1968_s_2.png
END:VEVENT
BEGIN:VEVENT
DTSTART;TZID=America/Los_Angeles:20240305T110000
DTEND;TZID=America/Los_Angeles:20240305T120000
DTSTAMP:20260420T085237
CREATED:20231108T204757Z
LAST-MODIFIED:20240303T234548Z
UID:58889-1709636400-1709640000@ccce.calpoly.edu
SUMMARY:Dowbuilt - Info Session
DESCRIPTION:Dowbuilt\nResidential \nhttps://www.dowbuilt.com/ \nPresentation in Bldg. 186-B102 \nInterviews in Bldg. 186-A211 \nInterview Sign Ups: Click Here \nStephanie Knobbe \nstephaniek@dowbuilt.com \nTuesday\, March 5\, 2024 at 11:00 AM \nOpen Positions: Full Time (starting after June 2024 graduation) \nJob Locations: Northern California | Southern California | Mountain (CO\, Montana\, Wyoming\, etc.) | East Coast | West Coast (other than CA) \nVisit:  to apply
URL:https://ccce.calpoly.edu/event/dowbuilt-info-session/
CATEGORIES:Recruitment Events
ATTACH;FMTTYPE=image/jpeg:https://ccce.calpoly.edu/wp-content/uploads/2023/11/dowbuilt_0.jpg
END:VEVENT
BEGIN:VEVENT
DTSTART;TZID=America/Los_Angeles:20240305T180000
DTEND;TZID=America/Los_Angeles:20240305T190000
DTSTAMP:20260420T085237
CREATED:20231108T204812Z
LAST-MODIFIED:20240303T234548Z
UID:58890-1709661600-1709665200@ccce.calpoly.edu
SUMMARY:Harris Construction Co.\, Inc. - Info Session
DESCRIPTION:Harris Construction Co.\, Inc.\nCommercial \nhttps://harrisconstruction.com/ \nPresentation in Bldg. 186-B202 \nInterviews in Bldg. 186-A213 \nInterview Sign Ups: Click Here \nAshlee Horner \nahorner@harrisconstruction.com \nTuesday\, March 5\, 2024 at 6:00 PM \nOpen Positions: Full Time (starting after June 2024 graduation) | Internship (Summer 2024) | Internship (Open Timeframe) \nJob Locations: Central California \nVisit:  to apply
URL:https://ccce.calpoly.edu/event/harris-construction-co-inc-info-session-3/
CATEGORIES:Recruitment Events
ATTACH;FMTTYPE=image/jpeg:https://ccce.calpoly.edu/wp-content/uploads/2022/03/1553206628189.jpeg
END:VEVENT
BEGIN:VEVENT
DTSTART;TZID=America/Los_Angeles:20240306T110000
DTEND;TZID=America/Los_Angeles:20240306T120000
DTSTAMP:20260420T085237
CREATED:20231108T204812Z
LAST-MODIFIED:20240303T234549Z
UID:58891-1709722800-1709726400@ccce.calpoly.edu
SUMMARY:Pankow Builders - Info Session
DESCRIPTION:Pankow Builders\nCommercial \nhttps://www.pankow.com/ \nPresentation in Bldg. 186-B102 \nInterviews in Bldg. 186-A211 \nInterview Sign Ups: Click Here \nJennifer Wilkins \njwilkins@pankow.com \nWednesday\, March 6\, 2024 at 11:00 AM \nOpen Positions: Full Time (starting January 2024) | Full Time (starting after June 2024 graduation) | Internship (Summer 2024) \nJob Locations: Northern California | Southern California \nEmail: jwilkins@pankow.com for application information \nCMAC Member
URL:https://ccce.calpoly.edu/event/pankow-builders-info-session-3/
CATEGORIES:Recruitment Events
ATTACH;FMTTYPE=image/png:https://ccce.calpoly.edu/wp-content/uploads/2020/09/Pankow_Logo.png
END:VEVENT
BEGIN:VEVENT
DTSTART;TZID=America/Los_Angeles:20240306T180000
DTEND;TZID=America/Los_Angeles:20240306T190000
DTSTAMP:20260420T085237
CREATED:20231108T204812Z
LAST-MODIFIED:20240307T004532Z
UID:58892-1709748000-1709751600@ccce.calpoly.edu
SUMMARY:Keller North America\, Inc. - Info Session
DESCRIPTION:Keller North America\, Inc.\nHeavy Civil \nhttps://www.keller-na.com/welcome-keller \nPresentation in Bldg. 186-B202 \nInterviews in Bldg. 186-A213 \nKasey Painter \nkasey.painter@keller-na.com \nWednesday\, March 6\, 2024 at 6:00 PM \nOpen Positions: Full Time (starting January 2024) | Full Time (starting after June 2024 graduation) | Internship (Summer 2024) | Internship (Open Timeframe) \nJob Locations: Central California | Northern California | Southern California | Mountain (CO\, Montana\, Wyoming\, etc.) | Midwest | East Coast | West Coast (other than CA) \nEmail: kasey.painter@keller-na.com for application information \nCMAC Member
URL:https://ccce.calpoly.edu/event/keller-north-america-inc-info-session/
CATEGORIES:Recruitment Events
ATTACH;FMTTYPE=image/png:https://ccce.calpoly.edu/wp-content/uploads/2021/09/Unknown-1.png
END:VEVENT
END:VCALENDAR