BEGIN:VCALENDAR
VERSION:2.0
PRODID:-//CCCE - ECPv5.16.3.1//NONSGML v1.0//EN
CALSCALE:GREGORIAN
METHOD:PUBLISH
X-WR-CALNAME:CCCE
X-ORIGINAL-URL:https://ccce.calpoly.edu
X-WR-CALDESC:Events for CCCE
REFRESH-INTERVAL;VALUE=DURATION:PT1H
X-Robots-Tag:noindex
X-PUBLISHED-TTL:PT1H
BEGIN:VTIMEZONE
TZID:America/Los_Angeles
BEGIN:DAYLIGHT
TZOFFSETFROM:-0800
TZOFFSETTO:-0700
TZNAME:PDT
DTSTART:20250309T100000
END:DAYLIGHT
BEGIN:STANDARD
TZOFFSETFROM:-0700
TZOFFSETTO:-0800
TZNAME:PST
DTSTART:20251102T090000
END:STANDARD
END:VTIMEZONE
BEGIN:VEVENT
DTSTART;TZID=America/Los_Angeles:20250226T180000
DTEND;TZID=America/Los_Angeles:20250226T190000
DTSTAMP:20260420T085242
CREATED:20240912T212047Z
LAST-MODIFIED:20250226T234641Z
UID:60126-1740592800-1740596400@ccce.calpoly.edu
SUMMARY:Beachcraft Builders - Info Session
DESCRIPTION:Beachcraft Builders\nResidential \nbeachcraft.la \nPresentation in Bldg. 186-B202 \nInterviews in Bldg. 186-A213 \nInterview Sign Ups: Click Here \nShawn Nelson \nShawn@beachcraft.la \nWednesday\, February 26\, 2025 at 6:00 PM \nOpen Positions: Full Time (starting after June 2024 graduation) | Internship (Open Timeframe) \nJob Locations: Southern California \nEmail: Shawn@beachcraft.la for application information \nCMAC Member
URL:https://ccce.calpoly.edu/event/beachcraft-builders-info-session/
CATEGORIES:Recruitment Events
END:VEVENT
BEGIN:VEVENT
DTSTART;TZID=America/Los_Angeles:20250227T110000
DTEND;TZID=America/Los_Angeles:20250227T120000
DTSTAMP:20260420T085242
CREATED:20240912T212047Z
LAST-MODIFIED:20250226T234641Z
UID:60127-1740654000-1740657600@ccce.calpoly.edu
SUMMARY:CCCE Reserved - Info Session
DESCRIPTION:CCCE Reserved\nCCCE \nPresentation in Bldg. 186-B102 \nInterviews in Bldg. 186-A211 \nRachell Smith \nccce@calpoly.edu \nThursday\, February 27\, 2025 at 11:00 AM
URL:https://ccce.calpoly.edu/event/ccce-reserved-info-session/
CATEGORIES:Recruitment Events
END:VEVENT
BEGIN:VEVENT
DTSTART;TZID=America/Los_Angeles:20250227T180000
DTEND;TZID=America/Los_Angeles:20250227T190000
DTSTAMP:20260420T085242
CREATED:20240912T212047Z
LAST-MODIFIED:20250227T235101Z
UID:60128-1740679200-1740682800@ccce.calpoly.edu
SUMMARY:S3H Inc. - Info Session
DESCRIPTION:S3H Inc.\nSpecialty Contractor \ns3hinc.com \nPresentation in Bldg. 186-B202 \nInterviews in Bldg. 186-A213 \nInterview Sign Ups: Click Here \nRichard Pomeroy \nrick.pomeroy@s3hinc.com \nThursday\, February 27\, 2025 at 6:00 PM \nOpen Positions: Full Time (starting January 2024) | Full Time (starting after June 2024 graduation) | Internship (Summer 2024) | Internship (Open Timeframe) \nJob Locations: Central California | Northern California | Southern California | West Coast (other than CA) | Mechanical/havc/process piping/plumbin \nVisit: s3hinc.com to apply \nCMAC Member
URL:https://ccce.calpoly.edu/event/s3h-inc-info-session-2/
CATEGORIES:Recruitment Events
END:VEVENT
BEGIN:VEVENT
DTSTART;TZID=America/Los_Angeles:20250303T180000
DTEND;TZID=America/Los_Angeles:20250303T190000
DTSTAMP:20260420T085242
CREATED:20250104T034547Z
LAST-MODIFIED:20250303T114249Z
UID:60680-1741024800-1741028400@ccce.calpoly.edu
SUMMARY:Suffolk Construction - Info Session
DESCRIPTION:Suffolk Construction\nCommercial \nsuffolk.com \nPresentation in Bldg. 186-B202 \nInterviews in Bldg. 186-A213 \nInterview Sign Ups: Click Here \nBrad Denney \nbwdenney@gmail.com \nMonday\, March 3\, 2025 at 6:00 PM \nOpen Positions: Full Time (starting after June 2024 graduation) | Internship (Summer 2024) \nJob Locations: Northern California | Southern California | East Coast \nEmail: bwdenney@gmail.com for application information \nCMAC Member
URL:https://ccce.calpoly.edu/event/suffolk-construction-info-session-5/
CATEGORIES:Recruitment Events
END:VEVENT
BEGIN:VEVENT
DTSTART;TZID=America/Los_Angeles:20250304T110000
DTEND;TZID=America/Los_Angeles:20250304T120000
DTSTAMP:20260420T085242
CREATED:20240912T212047Z
LAST-MODIFIED:20250304T114402Z
UID:60129-1741086000-1741089600@ccce.calpoly.edu
SUMMARY:Pankow Builders - Info Session
DESCRIPTION:Pankow Builders\nCommercial \nhttps://www.pankow.com/ \nPresentation in Bldg. 186-B102 \nInterviews in Bldg. 186-A211 \nInterview Sign Ups: Click Here \nJennifer Wilkins \njwilkins@pankow.com \nTuesday\, March 4\, 2025 at 11:00 AM \nOpen Positions: Full Time (starting after June 2024 graduation) | Internship (Summer 2024) \nJob Locations: Northern California | Southern California \nEmail: jwilkins@pankow.com for application information \nCMAC Member
URL:https://ccce.calpoly.edu/event/pankow-builders-info-session-5/
CATEGORIES:Recruitment Events
END:VEVENT
BEGIN:VEVENT
DTSTART;TZID=America/Los_Angeles:20250304T180000
DTEND;TZID=America/Los_Angeles:20250304T190000
DTSTAMP:20260420T085242
CREATED:20250104T034548Z
LAST-MODIFIED:20250304T114402Z
UID:60681-1741111200-1741114800@ccce.calpoly.edu
SUMMARY:Guzman Construction Group - Info Session
DESCRIPTION:Guzman Construction Group\nCommercial \nwww.guzmangc.com \nPresentation in Bldg. 186-B202 \nInterviews in Bldg. 186-A213 \nInterview Sign Ups: Click Here \nDaniella Jimenez \ndjimenez@guzmangc.com \nTuesday\, March 4\, 2025 at 6:00 PM \nOpen Positions:  \nJob Locations:  \nEmail: djimenez@guzmangc.com for application information
URL:https://ccce.calpoly.edu/event/guzman-construction-group-info-session/
CATEGORIES:Recruitment Events
END:VEVENT
BEGIN:VEVENT
DTSTART;TZID=America/Los_Angeles:20250305T110000
DTEND;TZID=America/Los_Angeles:20250305T120000
DTSTAMP:20260420T085242
CREATED:20240912T212047Z
LAST-MODIFIED:20250305T115029Z
UID:60130-1741172400-1741176000@ccce.calpoly.edu
SUMMARY:Midstate Construction - Info Session
DESCRIPTION:Midstate Construction\nCommercial \nhttps://www.midstateconstruction.com/ \nPresentation in Bldg. 186-B102 \nInterviews in Bldg. 186-A211 \nInterview Sign Ups: Click Here \nKyle Welsh \nkylewelsh@midstateconstruction.com \nWednesday\, March 5\, 2025 at 11:00 AM \nOpen Positions: Full Time (starting January 2024) | Full Time (starting after June 2024 graduation) | Internship (Summer 2024) | Internship (Open Timeframe) \nJob Locations: Northern California \nVisit: https://www.midstateconstruction.com/ to apply \nCMAC Member
URL:https://ccce.calpoly.edu/event/midstate-construction-info-session-3/
CATEGORIES:Recruitment Events
END:VEVENT
BEGIN:VEVENT
DTSTART;TZID=America/Los_Angeles:20250305T180000
DTEND;TZID=America/Los_Angeles:20250305T190000
DTSTAMP:20260420T085242
CREATED:20250117T154916Z
LAST-MODIFIED:20250305T115029Z
UID:60732-1741197600-1741201200@ccce.calpoly.edu
SUMMARY:Plant Construction Company\, LP - Info Session
DESCRIPTION:Plant Construction Company\, LP\nCommercial \nhttps://plantconstruction.com/ \nPresentation in Bldg. 186-B202 \nInterviews in Bldg. 186-A213 \nInterview Sign Ups: Click Here \nDarcy Narduzzi \ndarcyn@plantco.com \nWednesday\, March 5\, 2025 at 6:00 PM \nOpen Positions:  \nJob Locations:  \nEmail: darcyn@plantco.com for application information \nCMAC Member
URL:https://ccce.calpoly.edu/event/plant-construction-company-lp-info-session/
CATEGORIES:Recruitment Events
END:VEVENT
BEGIN:VEVENT
DTSTART;TZID=America/Los_Angeles:20250306T180000
DTEND;TZID=America/Los_Angeles:20250306T190000
DTSTAMP:20260420T085242
CREATED:20240912T212102Z
LAST-MODIFIED:20250306T123748Z
UID:60132-1741284000-1741287600@ccce.calpoly.edu
SUMMARY:CCCE - WIC - Info Session
DESCRIPTION:CCCE – WIC\nCCCE \nPresentation in Bldg. 186-B202 \nInterviews in Bldg. 186-A213 \nRachell Smith \nccce@calpoly.edu \nThursday\, March 6\, 2025 at 6:00 PM
URL:https://ccce.calpoly.edu/event/ccce-wic-info-session/
CATEGORIES:Recruitment Events
END:VEVENT
BEGIN:VEVENT
DTSTART;TZID=America/Los_Angeles:20250407T180000
DTEND;TZID=America/Los_Angeles:20250407T190000
DTSTAMP:20260420T085242
CREATED:20240912T212102Z
LAST-MODIFIED:20250406T233422Z
UID:60133-1744048800-1744052400@ccce.calpoly.edu
SUMMARY:Rudolph and Sletten - Info Session
DESCRIPTION:Rudolph and Sletten\nCommercial \nPresentation in Bldg. 186-B202 \nInterviews in Bldg. 186-A213 \nPaul Kangas \nPaul.Kangas@rsconst.com \nMonday\, April 7\, 2025 at 6:00 PM \nOpen Positions: Full Time (starting January 2024) | Full Time (starting after June 2024 graduation) | Internship (Summer 2024) \nJob Locations: Northern California | Southern California \nVisit: https://phe.tbe.taleo.net/phe01/ats/careers/v2/searchResults?org=TUTORPERINI&cws=47 to apply \nCMAC Member
URL:https://ccce.calpoly.edu/event/rudolph-and-sletten-info-session-3/
CATEGORIES:Recruitment Events
END:VEVENT
BEGIN:VEVENT
DTSTART;TZID=America/Los_Angeles:20250408T180000
DTEND;TZID=America/Los_Angeles:20250408T190000
DTSTAMP:20260420T085242
CREATED:20250408T162110Z
LAST-MODIFIED:20250408T162110Z
UID:61042-1744135200-1744138800@ccce.calpoly.edu
SUMMARY:GMH Builders Inc. - Info Session
DESCRIPTION:GMH Builders Inc.\nCommercial \nPresentation in Bldg. 186-B202 \nInterviews in Bldg. 186-A213 \nDoug Marshall \ndoug@gmhbuild.com \nTuesday\, April 8\, 2025 at 6:00 PM \nOpen Positions: Full Time (starting after June 2024 graduation) | Internship (Summer 2024) \nJob Locations: Northern California \nEmail: doug@gmhbuild.com for application information \nCMAC Member
URL:https://ccce.calpoly.edu/event/gmh-builders-inc-info-session-5/
CATEGORIES:Recruitment Events
END:VEVENT
BEGIN:VEVENT
DTSTART;TZID=America/Los_Angeles:20250409T110000
DTEND;TZID=America/Los_Angeles:20250409T120000
DTSTAMP:20260420T085242
CREATED:20240912T212102Z
LAST-MODIFIED:20250409T164519Z
UID:60135-1744196400-1744200000@ccce.calpoly.edu
SUMMARY:Avila Construction - Info Session
DESCRIPTION:Avila Construction\nCommercial \nPresentation in Bldg. 186-B102 \nInterviews in Bldg. 186-A211 \nKathryn Avila \nkathryn@avilaconst.com \nWednesday\, April 9\, 2025 at 11:00 AM \nOpen Positions: Full Time (starting January 2024) | Full Time (starting after June 2024 graduation) | Internship (Summer 2024) \nJob Locations: Northern California \nEmail: kathryn@avilaconst.com for application information
URL:https://ccce.calpoly.edu/event/avila-construction-info-session-3/
CATEGORIES:Recruitment Events
END:VEVENT
BEGIN:VEVENT
DTSTART;TZID=America/Los_Angeles:20250410T110000
DTEND;TZID=America/Los_Angeles:20250410T120000
DTSTAMP:20260420T085242
CREATED:20250122T014630Z
LAST-MODIFIED:20250410T164817Z
UID:60759-1744282800-1744286400@ccce.calpoly.edu
SUMMARY:C.W. Driver Companies - Info Session
DESCRIPTION:C.W. Driver Companies\nCommercial \nwww.cwdriver.com \nPresentation in Bldg. 186-B102 \nInterviews in Bldg. 186-A211 \nCole Leslie \ncleslie@cwdriver.com \nThursday\, April 10\, 2025 at 11:00 AM \nOpen Positions:  \nJob Locations: Southern California \nEmail: cleslie@cwdriver.com for application information \nCMAC Member
URL:https://ccce.calpoly.edu/event/c-w-driver-companies-info-session-3/
CATEGORIES:Recruitment Events
END:VEVENT
BEGIN:VEVENT
DTSTART;TZID=America/Los_Angeles:20250410T180000
DTEND;TZID=America/Los_Angeles:20250410T190000
DTSTAMP:20260420T085242
CREATED:20250122T014838Z
LAST-MODIFIED:20250410T164817Z
UID:60760-1744308000-1744311600@ccce.calpoly.edu
SUMMARY:Dowbuilt - Info Session
DESCRIPTION:Dowbuilt\nResidential \nwww.dowbuilt.com \nPresentation in Bldg. 186-B202 \nInterviews in Bldg. 186-A213 \nStephanie Knobbe \nstephaniek@dowbuilt.com \nThursday\, April 10\, 2025 at 6:00 PM
URL:https://ccce.calpoly.edu/event/dowbuilt-info-session-2/
CATEGORIES:Recruitment Events
END:VEVENT
BEGIN:VEVENT
DTSTART;TZID=America/Los_Angeles:20250414T180000
DTEND;TZID=America/Los_Angeles:20250414T190000
DTSTAMP:20260420T085242
CREATED:20250122T014838Z
LAST-MODIFIED:20250414T164205Z
UID:60761-1744653600-1744657200@ccce.calpoly.edu
SUMMARY:*POSTPONED* BNBuilders - Info Session
DESCRIPTION:*POSTPONED* BNBuilders\nCommercial \nbnbuilders.com \nPresentation in Bldg. 186-B202 \nInterviews in Bldg. 186-A213 \nNicole Bates \nNicole.Bates@bnbuilders.com \nMonday\, April 14\, 2025 at 6:00 PM \nOpen Positions: Full Time (starting after June 2024 graduation) | Internship (Summer 2024) \nJob Locations: Northern California | Southern California | Mountain (CO\, Montana\, Wyoming\, etc.) | West Coast (other than CA) \nEmail: Nicole.Bates@bnbuilders.com for application information \nCMAC Member
URL:https://ccce.calpoly.edu/event/bnbuilders-info-session-7/
CATEGORIES:Recruitment Events
END:VEVENT
BEGIN:VEVENT
DTSTART;TZID=America/Los_Angeles:20250415T110000
DTEND;TZID=America/Los_Angeles:20250415T120000
DTSTAMP:20260420T085242
CREATED:20240912T212117Z
LAST-MODIFIED:20250415T183922Z
UID:60136-1744714800-1744718400@ccce.calpoly.edu
SUMMARY:Overaa Construction - Info Session
DESCRIPTION:Overaa Construction\nCommercial \nwww.overaa.com \nPresentation in Bldg. 186-B102 \nInterviews in Bldg. 186-A211 \nInterview Sign Ups: Click Here \nMegan Mcdermott \nmeganm@overaa.com \nTuesday\, April 15\, 2025 at 11:00 AM \nOpen Positions: Full Time (starting after June 2025 graduation) | Internship (Summer 2025) \nJob Locations: Northern California \nEmail: meganm@overaa.com for application information \nCMAC Member
URL:https://ccce.calpoly.edu/event/overaa-construction-info-session-4/
CATEGORIES:Recruitment Events
END:VEVENT
BEGIN:VEVENT
DTSTART;TZID=America/Los_Angeles:20250416T180000
DTEND;TZID=America/Los_Angeles:20250416T190000
DTSTAMP:20260420T085242
CREATED:20241205T184937Z
LAST-MODIFIED:20250417T004458Z
UID:60615-1744826400-1744830000@ccce.calpoly.edu
SUMMARY:MCMILLAN ELECTRIC - Info Session
DESCRIPTION:MCMILLAN ELECTRIC\nElectrical Construction \nhttps://www.mcmillanco.com/ \nPresentation in Bldg. 186-B202 \nInterviews in Bldg. 186-A213 \nMichael Sunia \nmsunia@mcmillanco.com \nWednesday\, April 16\, 2025 at 6:00 PM \nOpen Positions: Full Time (starting after June 2025 graduation) | Internship (Summer 2025) \nJob Locations: Northern California \nVisit:  to apply
URL:https://ccce.calpoly.edu/event/mcmillan-electric-info-session/
CATEGORIES:Recruitment Events
END:VEVENT
BEGIN:VEVENT
DTSTART;TZID=America/Los_Angeles:20250422T180000
DTEND;TZID=America/Los_Angeles:20250422T190000
DTSTAMP:20260420T085242
CREATED:20240912T212117Z
LAST-MODIFIED:20250423T013840Z
UID:60137-1745344800-1745348400@ccce.calpoly.edu
SUMMARY:Enclos Corp - Info Session
DESCRIPTION:Enclos Corp\nSpecialty Contractor \nhttps://enclos.com \nPresentation in Bldg. 186-B202 \nInterviews in Bldg. 186-A213 \nCorey Geer \ncgeer@enclos.com \nTuesday\, April 22\, 2025 at 6:00 PM \nOpen Positions: Full Time (starting January 2024) | Full Time (starting after June 2024 graduation) | Internship (Summer 2024) | Internship (Open Timeframe) \nJob Locations: Northern California | Southern California | East Coast \nVisit: https://enclos.com/applicantpro/ to apply
URL:https://ccce.calpoly.edu/event/enclos-corp-info-session-5/
CATEGORIES:Recruitment Events
END:VEVENT
BEGIN:VEVENT
DTSTART;TZID=America/Los_Angeles:20250423T110000
DTEND;TZID=America/Los_Angeles:20250423T120000
DTSTAMP:20260420T085242
CREATED:20250416T202736Z
LAST-MODIFIED:20250423T183809Z
UID:61081-1745406000-1745409600@ccce.calpoly.edu
SUMMARY:Regeneration Field Institute - Info Session
DESCRIPTION:Regeneration Field Institute\nSustainable Building and Service Work \nhttps://www.regenerationfieldinstitute.com/ \nPresentation in Bldg. 186-B102 \nInterviews in Bldg. 186-A211 \nKatie Hunt \nkatiever15@gmail.com \nWednesday\, April 23\, 2025 at 11:00 AM \nOpen Positions:  \nJob Locations:  \nEmail: katiever15@gmail.com for application information
URL:https://ccce.calpoly.edu/event/regeneration-field-institute-info-session/
CATEGORIES:Recruitment Events
END:VEVENT
BEGIN:VEVENT
DTSTART;TZID=America/Los_Angeles:20250423T180000
DTEND;TZID=America/Los_Angeles:20250423T190000
DTSTAMP:20260420T085242
CREATED:20250416T202736Z
LAST-MODIFIED:20250424T013706Z
UID:61082-1745431200-1745434800@ccce.calpoly.edu
SUMMARY:S3H Inc. - Info Session
DESCRIPTION:S3H Inc.\nSpecialty Contractor \nwww.s3hinc.com \nPresentation in Bldg. 186-B202 \nInterviews in Bldg. 186-A213 \nRick Pomeroy \nrick.pomeroy@s3hinc.com \nWednesday\, April 23\, 2025 at 6:00 PM \nOpen Positions:  \nJob Locations:  \nEmail: rick.pomeroy@s3hinc.com for application information \nCMAC Member
URL:https://ccce.calpoly.edu/event/s3h-inc-info-session-3/
CATEGORIES:Recruitment Events
END:VEVENT
BEGIN:VEVENT
DTSTART;TZID=America/Los_Angeles:20250424T110000
DTEND;TZID=America/Los_Angeles:20250424T120000
DTSTAMP:20260420T085242
CREATED:20250213T201056Z
LAST-MODIFIED:20250424T184319Z
UID:60844-1745492400-1745496000@ccce.calpoly.edu
SUMMARY:BCCI Construction - Info Session
DESCRIPTION:BCCI Construction\nCommercial \nhttps://bcciconst.com \nPresentation in Bldg. 186-B102 \nInterviews in Bldg. 186-A211 \nInterview Sign Ups: Click Here \nJack Sieverding \njack.sieverding@bcciconst.com \nThursday\, April 24\, 2025 at 11:00 AM \nOpen Positions: Internship (Summer 2024) | Internship (Open Timeframe) \nJob Locations: Northern California | Southern California \nEmail: jack.sieverding@bcciconst.com for application information
URL:https://ccce.calpoly.edu/event/bcci-construction-info-session-5/
CATEGORIES:Recruitment Events
END:VEVENT
BEGIN:VEVENT
DTSTART;TZID=America/Los_Angeles:20250430T110000
DTEND;TZID=America/Los_Angeles:20250430T120000
DTSTAMP:20260420T085242
CREATED:20250416T202751Z
LAST-MODIFIED:20250430T184926Z
UID:61083-1746010800-1746014400@ccce.calpoly.edu
SUMMARY:Papich Construction - Info Session
DESCRIPTION:Papich Construction\nHeavy Civil \nhttps://papichco.com/ \nPresentation in Bldg. 186-B102 \nInterviews in Bldg. 186-A211 \nKeith O’Connor \nKoconnor@papichconstruction.com \nWednesday\, April 30\, 2025 at 11:00 AM \nOpen Positions: Full Time (starting January 2024) | Full Time (starting after June 2025 graduation) \nJob Locations: Central California \nEmail: Koconnor@papichconstruction.com for application information
URL:https://ccce.calpoly.edu/event/papich-construction-info-session/
CATEGORIES:Recruitment Events
END:VEVENT
BEGIN:VEVENT
DTSTART;TZID=America/Los_Angeles:20250430T180000
DTEND;TZID=America/Los_Angeles:20250430T190000
DTSTAMP:20260420T085242
CREATED:20250416T202751Z
LAST-MODIFIED:20250501T004700Z
UID:61084-1746036000-1746039600@ccce.calpoly.edu
SUMMARY:ABC NorCal - Info Session
DESCRIPTION:ABC NorCal\nTrades Association \nabcnorcal.org \nPresentation in Bldg. 186-B202 \nInterviews in Bldg. 186-A213 \nDominique Mitchell \ndominique@abcnorcal.org \nWednesday\, April 30\, 2025 at 6:00 PM \nOpen Positions:  \nJob Locations:  \nEmail: dominique@abcnorcal.org for application information
URL:https://ccce.calpoly.edu/event/abc-norcal-info-session/
CATEGORIES:Recruitment Events
END:VEVENT
BEGIN:VEVENT
DTSTART;TZID=America/Los_Angeles:20250507T110000
DTEND;TZID=America/Los_Angeles:20250507T120000
DTSTAMP:20260420T085242
CREATED:20250125T234614Z
LAST-MODIFIED:20250507T184947Z
UID:60781-1746615600-1746619200@ccce.calpoly.edu
SUMMARY:Wesely Thomas - Info Session
DESCRIPTION:Wesely Thomas\nCommercial \nwww.weselythomas.com \nPresentation in Bldg. 186-B102 \nInterviews in Bldg. 186-A211 \nMaritza Martinez \nmaritza@weselythomas.com \nWednesday\, May 7\, 2025 at 11:00 AM \nOpen Positions: Full Time (starting after June 2024 graduation) | Internship (Summer 2024) \nJob Locations: Southern California \nVisit:  to apply
URL:https://ccce.calpoly.edu/event/wesely-thomas-info-session/
CATEGORIES:Recruitment Events
END:VEVENT
BEGIN:VEVENT
DTSTART;TZID=America/Los_Angeles:20250508T110000
DTEND;TZID=America/Los_Angeles:20250508T120000
DTSTAMP:20260420T085242
CREATED:20240912T212117Z
LAST-MODIFIED:20250508T184731Z
UID:60138-1746702000-1746705600@ccce.calpoly.edu
SUMMARY:CCCE - Reserved - Info Session
DESCRIPTION:CCCE – Reserved\nCCCE \nccce.calpoly.edu \nPresentation in Bldg. 186-B102 \nInterviews in Bldg. 186-A211 \nKelsey Ginori \nccce@calpoly.edu \nThursday\, May 8\, 2025 at 11:00 AM
URL:https://ccce.calpoly.edu/event/ccce-reserved-info-session-2/
CATEGORIES:Recruitment Events
END:VEVENT
BEGIN:VEVENT
DTSTART;TZID=America/Los_Angeles:20250922T180000
DTEND;TZID=America/Los_Angeles:20250922T190000
DTSTAMP:20260420T085242
CREATED:20250916T000654Z
LAST-MODIFIED:20250923T015205Z
UID:64398-1758564000-1758567600@ccce.calpoly.edu
SUMMARY:XL Construction - Info Session
DESCRIPTION:XL Construction\nGeneral Contractors \nhttps://www.xlconstruction.com/ \nPresentation in Bldg. 186-B202 \nInterviews in Bldg. 186-A213 \nKenny Chu Chu \nkchu@xlconstruction.com \nMonday\, September 22\, 2025 at 6:00 PM \nOpen Positions: Full Time (starting January 2025) | Internship (Open Timeframe) | Full Time (starting after June 2026 graduation) | Internship (Summer 2026) \nJob Locations: Central California | Northern California \nEmail: kchu@xlconstruction.com for application information \nCMAC Member
URL:https://ccce.calpoly.edu/event/xl-construction-info-session-7/
CATEGORIES:Recruitment Events
END:VEVENT
BEGIN:VEVENT
DTSTART;TZID=America/Los_Angeles:20250923T110000
DTEND;TZID=America/Los_Angeles:20250923T120000
DTSTAMP:20260420T085242
CREATED:20250916T000655Z
LAST-MODIFIED:20250923T185332Z
UID:64400-1758625200-1758628800@ccce.calpoly.edu
SUMMARY:Guzman Construction Group\, Inc. - Info Session
DESCRIPTION:Guzman Construction Group\, Inc.\nCommercial \nwww.guzmangc.com.com \nPresentation in Bldg. 186-B102 \nTeddy Mino \ntmino@blackrock-concrete.com \nTuesday\, September 23\, 2025 at 11:00 AM \nOpen Positions: Full Time (starting after June 2026 graduation) | Internship (Summer 2026) | Internship (Open Timeframe) \nJob Locations: Northern California \nEmail: tmino@blackrock-concrete.com for application information \nCMAC Member
URL:https://ccce.calpoly.edu/event/guzman-construction-group-inc-info-session/
CATEGORIES:Recruitment Events
END:VEVENT
BEGIN:VEVENT
DTSTART;TZID=America/Los_Angeles:20250923T180000
DTEND;TZID=America/Los_Angeles:20250923T190000
DTSTAMP:20260420T085242
CREATED:20250916T000655Z
LAST-MODIFIED:20250924T015113Z
UID:64402-1758650400-1758654000@ccce.calpoly.edu
SUMMARY:SC Builders\, Inc. - Info Session
DESCRIPTION:SC Builders\, Inc.\nCommercial \nscbuildersinc.com \nPresentation in Bldg. 186-B202 \nInterviews in Bldg. 186-A213 \nInterview Sign Ups: Click Here \nKatie Flynn \nkflynn@scbuildersinc.com \nTuesday\, September 23\, 2025 at 6:00 PM \nOpen Positions: Full Time (starting January 2026) | Full Time (starting after June 2026 graduation) | Internship (Summer 2026) | Internship (Open Timeframe) \nJob Locations: Northern California \nEmail: kflynn@scbuildersinc.com for application information \nCMAC Member
URL:https://ccce.calpoly.edu/event/sc-builders-inc-info-session-7/
CATEGORIES:Recruitment Events
END:VEVENT
BEGIN:VEVENT
DTSTART;TZID=America/Los_Angeles:20250924T180000
DTEND;TZID=America/Los_Angeles:20250924T190000
DTSTAMP:20260420T085242
CREATED:20250916T000655Z
LAST-MODIFIED:20250925T010100Z
UID:64404-1758736800-1758740400@ccce.calpoly.edu
SUMMARY:Cumming Group - Info Session
DESCRIPTION:Cumming Group\nCommercial \ncumming-group.com \nPresentation in Bldg. 186-B202 \nInterviews in Bldg. 186-A213 \nInterview Sign Ups: Click Here \nLisa Mckeon \nlmckeon@cumming-group.com \nWednesday\, September 24\, 2025 at 6:00 PM \nOpen Positions: Full Time (starting January 2026) | Full Time (starting after June 2026 graduation) | Internship (Summer 2026) \nJob Locations: Central California | Northern California | Southern California | Mountain (CO\, Montana\, Wyoming\, etc.) | Midwest | East Coast | West Coast (other than CA) \nEmail: lmckeon@cumming-group.com for application information \nCMAC Member
URL:https://ccce.calpoly.edu/event/cumming-group-info-session-5/
CATEGORIES:Recruitment Events
END:VEVENT
BEGIN:VEVENT
DTSTART;TZID=America/Los_Angeles:20250925T180000
DTEND;TZID=America/Los_Angeles:20250925T190000
DTSTAMP:20260420T085242
CREATED:20250916T000655Z
LAST-MODIFIED:20250926T013545Z
UID:64406-1758823200-1758826800@ccce.calpoly.edu
SUMMARY:Beachcraft - Info Session
DESCRIPTION:Beachcraft\nResidential \nwww.beachcraft.la \nPresentation in Bldg. 186-B202 \nShawn Nelson \nsanelson_98@yahoo.com \nThursday\, September 25\, 2025 at 6:00 PM \nOpen Positions: Internship (Summer 2026) \nJob Locations: Southern California \nEmail: sanelson_98@yahoo.com for application information \nCMAC Member
URL:https://ccce.calpoly.edu/event/beachcraft-info-session/
CATEGORIES:Recruitment Events
END:VEVENT
END:VCALENDAR