BEGIN:VCALENDAR
VERSION:2.0
PRODID:-//CCCE - ECPv5.16.3.1//NONSGML v1.0//EN
CALSCALE:GREGORIAN
METHOD:PUBLISH
X-WR-CALNAME:CCCE
X-ORIGINAL-URL:https://ccce.calpoly.edu
X-WR-CALDESC:Events for CCCE
REFRESH-INTERVAL;VALUE=DURATION:PT1H
X-Robots-Tag:noindex
X-PUBLISHED-TTL:PT1H
BEGIN:VTIMEZONE
TZID:America/Los_Angeles
BEGIN:DAYLIGHT
TZOFFSETFROM:-0800
TZOFFSETTO:-0700
TZNAME:PDT
DTSTART:20250309T100000
END:DAYLIGHT
BEGIN:STANDARD
TZOFFSETFROM:-0700
TZOFFSETTO:-0800
TZNAME:PST
DTSTART:20251102T090000
END:STANDARD
BEGIN:DAYLIGHT
TZOFFSETFROM:-0800
TZOFFSETTO:-0700
TZNAME:PDT
DTSTART:20260308T100000
END:DAYLIGHT
BEGIN:STANDARD
TZOFFSETFROM:-0700
TZOFFSETTO:-0800
TZNAME:PST
DTSTART:20261101T090000
END:STANDARD
END:VTIMEZONE
BEGIN:VEVENT
DTSTART;TZID=America/Los_Angeles:20251105T110000
DTEND;TZID=America/Los_Angeles:20251105T120000
DTSTAMP:20260420T220932
CREATED:20250916T000839Z
LAST-MODIFIED:20251105T185703Z
UID:64438-1762340400-1762344000@ccce.calpoly.edu
SUMMARY:Abbott | Reed\, Inc. - Info Session
DESCRIPTION:Abbott | Reed\, Inc.\nResidential \nabbottreedinc.com \nPresentation in Bldg. 186-B102 \nShawn Reed \nShawn@abbottreedinc.com \nWednesday\, November 5\, 2025 at 11:00 AM \nOpen Positions: Internship (Summer 2026) \nJob Locations: Central California \nEmail: Shawn@abbottreedinc.com for application information \nCMAC Member
URL:https://ccce.calpoly.edu/event/abbott-reed-inc-info-session/
CATEGORIES:Recruitment Events
END:VEVENT
BEGIN:VEVENT
DTSTART;TZID=America/Los_Angeles:20251105T180000
DTEND;TZID=America/Los_Angeles:20251105T190000
DTSTAMP:20260420T220932
CREATED:20250916T000839Z
LAST-MODIFIED:20251106T024530Z
UID:64439-1762365600-1762369200@ccce.calpoly.edu
SUMMARY:Build Group (Pacific Structures) - Info Session
DESCRIPTION:Build Group (Pacific Structures)\nCommercial \nhttps://www.buildgc.com/ \nPresentation in Bldg. 186-B202 \nInterviews in Bldg. 186-A213 \nAmy Phung \namy.phung@buildgc.com \nWednesday\, November 5\, 2025 at 6:00 PM \nOpen Positions:  \nJob Locations:  \nEmail: amy.phung@buildgc.com for application information \nCMAC Member
URL:https://ccce.calpoly.edu/event/build-group-pacific-structures-info-session-5/
CATEGORIES:Recruitment Events
END:VEVENT
BEGIN:VEVENT
DTSTART;TZID=America/Los_Angeles:20251106T110000
DTEND;TZID=America/Los_Angeles:20251106T120000
DTSTAMP:20260420T220932
CREATED:20250916T000839Z
LAST-MODIFIED:20251106T195100Z
UID:64440-1762426800-1762430400@ccce.calpoly.edu
SUMMARY:Swinerton - Info Session
DESCRIPTION:Swinerton\nCommercial \nSwinerton.com \nPresentation in Bldg. 186-B102 \nInterviews in Bldg. 186-A211 \nBilly Markham \nwilliam.markham@swinerton.com \nThursday\, November 6\, 2025 at 11:00 AM \nOpen Positions: Full Time (starting January 2026) | Full Time (starting after June 2026 graduation) | Internship (Summer 2026) \nJob Locations: Central California | Northern California | Southern California | Mountain (CO\, Montana\, Wyoming\, etc.) | Midwest | East Coast | West Coast (other than CA) \nEmail: william.markham@swinerton.com for application information \nCMAC Member
URL:https://ccce.calpoly.edu/event/swinerton-info-session-4/
CATEGORIES:Recruitment Events
END:VEVENT
BEGIN:VEVENT
DTSTART;TZID=America/Los_Angeles:20251106T180000
DTEND;TZID=America/Los_Angeles:20251106T190000
DTSTAMP:20260420T220932
CREATED:20250916T000840Z
LAST-MODIFIED:20251107T005231Z
UID:64441-1762452000-1762455600@ccce.calpoly.edu
SUMMARY:Devcon Construction - Info Session
DESCRIPTION:Devcon Construction\nCommercial \nhttps://www.devcon-const.com/ \nPresentation in Bldg. 186-B202 \nInterviews in Bldg. 186-A213 \nInterview Sign Ups: Click Here \nJosanna Marshalla \njmarshalla@devcon-const.com \nThursday\, November 6\, 2025 at 6:00 PM \nOpen Positions: Full Time (starting January 2026) | Full Time (starting after June 2026 graduation) | Internship (Summer 2026) | Internship (Open Timeframe) \nJob Locations: Northern California \nEmail: jmarshalla@devcon-const.com for application information \nCMAC Member
URL:https://ccce.calpoly.edu/event/devcon-construction-info-session-4/
CATEGORIES:Recruitment Events
END:VEVENT
BEGIN:VEVENT
DTSTART;TZID=America/Los_Angeles:20251110T180000
DTEND;TZID=America/Los_Angeles:20251110T190000
DTSTAMP:20260420T220932
CREATED:20250916T000840Z
LAST-MODIFIED:20251111T024453Z
UID:64442-1762797600-1762801200@ccce.calpoly.edu
SUMMARY:Skyline Construction - Info Session
DESCRIPTION:Skyline Construction\nCommercial \nhttps://www.skylineconstruction.build/ \nPresentation in Bldg. 186-B202 \nInterviews in Bldg. 186-A213 \nInterview Sign Ups: Click Here \nAnnalise Chisholm \nachisholm@skylineconstruction.build \nMonday\, November 10\, 2025 at 6:00 PM \nCMAC Member
URL:https://ccce.calpoly.edu/event/skyline-construction-info-session-3/
CATEGORIES:Recruitment Events
END:VEVENT
BEGIN:VEVENT
DTSTART;TZID=America/Los_Angeles:20251112T110000
DTEND;TZID=America/Los_Angeles:20251112T120000
DTSTAMP:20260420T220932
CREATED:20250916T000854Z
LAST-MODIFIED:20251112T195129Z
UID:64443-1762945200-1762948800@ccce.calpoly.edu
SUMMARY:Turner Construction Company - Info Session
DESCRIPTION:Turner Construction Company\nCommercial \nwww.turnerconstruction.com \nPresentation in Bldg. 186-B102 \nInterviews in Bldg. 186-A211 \nInterview Sign Ups: Click Here \nBreanne Metropolis \nbmetropolis@tcco.com \nWednesday\, November 12\, 2025 at 11:00 AM \nOpen Positions:  \nJob Locations:  \nEmail: bmetropolis@tcco.com for application information \nCMAC Member
URL:https://ccce.calpoly.edu/event/turner-construction-company-info-session-4/
CATEGORIES:Recruitment Events
END:VEVENT
BEGIN:VEVENT
DTSTART;TZID=America/Los_Angeles:20251112T180000
DTEND;TZID=America/Los_Angeles:20251112T190000
DTSTAMP:20260420T220932
CREATED:20250916T000854Z
LAST-MODIFIED:20251113T025437Z
UID:64444-1762970400-1762974000@ccce.calpoly.edu
SUMMARY:Lusardi Construction - Info Session
DESCRIPTION:Lusardi Construction\nCommercial \nwww.lusardi.com \nPresentation in Bldg. 186-B202 \nMadison Farfan \nmfarfan@lusardi.com \nWednesday\, November 12\, 2025 at 6:00 PM \nOpen Positions: Internship (Summer 2026) \nJob Locations: Northern California | Southern California \nEmail: mfarfan@lusardi.com for application information \nCMAC Member
URL:https://ccce.calpoly.edu/event/lusardi-construction-info-session-2/
CATEGORIES:Recruitment Events
END:VEVENT
BEGIN:VEVENT
DTSTART;TZID=America/Los_Angeles:20251113T110000
DTEND;TZID=America/Los_Angeles:20251113T120000
DTSTAMP:20260420T220932
CREATED:20250916T000854Z
LAST-MODIFIED:20251113T194716Z
UID:64445-1763031600-1763035200@ccce.calpoly.edu
SUMMARY:Technical Builders - Info Session
DESCRIPTION:Technical Builders\nCommercial \nwww.tbibuild.com \nPresentation in Bldg. 186-B102 \nJeremy Lopez \njeremyl@tbibuild.com \nThursday\, November 13\, 2025 at 11:00 AM \nOpen Positions: Full Time (starting January 2026) | Full Time (starting after June 2026 graduation) | Internship (Summer 2026) | Internship (Open Timeframe) \nJob Locations: Northern California \nEmail: jeremyl@tbibuild.com for application information \nCMAC Member
URL:https://ccce.calpoly.edu/event/technical-builders-info-session/
CATEGORIES:Recruitment Events
END:VEVENT
BEGIN:VEVENT
DTSTART;TZID=America/Los_Angeles:20251113T180000
DTEND;TZID=America/Los_Angeles:20251113T190000
DTSTAMP:20260420T220932
CREATED:20250916T000855Z
LAST-MODIFIED:20251114T024622Z
UID:64446-1763056800-1763060400@ccce.calpoly.edu
SUMMARY:FLINT Builders - Info Session
DESCRIPTION:FLINT Builders\nConstruction Management \nhttps://flintbuilders.com/ \nPresentation in Bldg. 186-B202 \nInterviews in Bldg. 186-A213 \nInterview Sign Ups: Click Here \nRachel Freed \nrfreed@flintbuilders.com \nThursday\, November 13\, 2025 at 6:00 PM \nOpen Positions: Full Time (starting January 2026) | Full Time (starting after June 2026 graduation) | Internship (Summer 2026) | Internship (Open Timeframe) \nJob Locations: Northern California | Southern California \nEmail: rfreed@flintbuilders.com for application information \nCMAC Member
URL:https://ccce.calpoly.edu/event/flint-builders-info-session-5/
CATEGORIES:Recruitment Events
END:VEVENT
BEGIN:VEVENT
DTSTART;TZID=America/Los_Angeles:20251117T181000
DTEND;TZID=America/Los_Angeles:20251117T190000
DTSTAMP:20260420T220932
CREATED:20250916T000855Z
LAST-MODIFIED:20251118T024546Z
UID:64447-1763403000-1763406000@ccce.calpoly.edu
SUMMARY:Enclos - Info Session
DESCRIPTION:Enclos\nCommercial \nenclos.com \nPresentation in Bldg. 186-B202 \nCorey Geer \ncgeer@enclos.com \nMonday\, November 17\, 2025 at 6:10 PM \nCMAC Member
URL:https://ccce.calpoly.edu/event/enclos-info-session/
CATEGORIES:Recruitment Events
END:VEVENT
BEGIN:VEVENT
DTSTART;TZID=America/Los_Angeles:20251118T110000
DTEND;TZID=America/Los_Angeles:20251118T120000
DTSTAMP:20260420T220932
CREATED:20250916T000909Z
LAST-MODIFIED:20251118T185433Z
UID:64448-1763463600-1763467200@ccce.calpoly.edu
SUMMARY:GMH Builders\, Inc - Info Session
DESCRIPTION:GMH Builders\, Inc\nCommercial \nhttps://www.gmhbuild.com/ \nPresentation in Bldg. 186-B102 \nSeth Maze \nseth@gmhbuild.com \nTuesday\, November 18\, 2025 at 11:00 AM \nOpen Positions: Full Time (starting after June 2026 graduation) | Internship (Summer 2026) \nJob Locations: Northern California \nEmail: seth@gmhbuild.com for application information \nCMAC Member
URL:https://ccce.calpoly.edu/event/gmh-builders-inc-info-session-6/
CATEGORIES:Recruitment Events
END:VEVENT
BEGIN:VEVENT
DTSTART;TZID=America/Los_Angeles:20251118T180000
DTEND;TZID=America/Los_Angeles:20251118T190000
DTSTAMP:20260420T220932
CREATED:20250916T000909Z
LAST-MODIFIED:20251119T023537Z
UID:64449-1763488800-1763492400@ccce.calpoly.edu
SUMMARY:Plant Construction Company\, L.P. - Info Session
DESCRIPTION:Plant Construction Company\, L.P.\nCommercial \nwww.plantconstruction.com \nPresentation in Bldg. 186-B202 \nInterviews in Bldg. 186-A213 \nInterview Sign Ups: Click Here \nAimee Faustino \naimeef@plantco.com \nTuesday\, November 18\, 2025 at 6:00 PM \nOpen Positions: Concrete Project Engineer | Project Engineer | Assistant Project Manager | 2026 Summer APM/PE Internship | 2026 Summer Concrete PE Internship \nJob Locations: Northern California | Southern California \nEmail: aimeef@plantco.com for application information \nCMAC Member
URL:https://ccce.calpoly.edu/event/plant-construction-company-l-p-info-session/
CATEGORIES:Recruitment Events
END:VEVENT
BEGIN:VEVENT
DTSTART;TZID=America/Los_Angeles:20251119T110000
DTEND;TZID=America/Los_Angeles:20251119T120000
DTSTAMP:20260420T220932
CREATED:20250916T000910Z
LAST-MODIFIED:20251119T195039Z
UID:64450-1763550000-1763553600@ccce.calpoly.edu
SUMMARY:Truebeck Construction - Info Session
DESCRIPTION:Truebeck Construction\nCommercial \nwww.truebeck.com \nPresentation in Bldg. 186-B102 \nInterviews in Bldg. 186-A211 \nJim Murphy \njim.murphy@truebeck.com \nWednesday\, November 19\, 2025 at 11:00 AM \nOpen Positions: Full Time (starting after June 2026 graduation) \nJob Locations: Central California | Northern California | West Coast (other than CA) \nVisit: Central California | Northern California | West Coast (other than CA) to apply \nCMAC Member
URL:https://ccce.calpoly.edu/event/truebeck-construction-info-session-8/
CATEGORIES:Recruitment Events
END:VEVENT
BEGIN:VEVENT
DTSTART;TZID=America/Los_Angeles:20251119T180000
DTEND;TZID=America/Los_Angeles:20251119T190000
DTSTAMP:20260420T220932
CREATED:20250916T000910Z
LAST-MODIFIED:20251120T024946Z
UID:64451-1763575200-1763578800@ccce.calpoly.edu
SUMMARY:Rudolph and Sletten\, Inc. - Info Session
DESCRIPTION:Rudolph and Sletten\, Inc.\nCommercial \nhttps://www.rsconstruction.com/careers/ \nPresentation in Bldg. 186-B202 \nInterviews in Bldg. 186-A213 \nInterview Sign Ups: Click Here \nJill Davis \nJill.Davis@rsconst.com \nWednesday\, November 19\, 2025 at 6:00 PM \nOpen Positions: Full Time (starting January 2026) | Full Time (starting after June 2026 graduation) | Internship (Summer 2026) \nJob Locations: Northern California | Southern California \nVisit: Northern California | Southern California to apply \nCMAC Member
URL:https://ccce.calpoly.edu/event/rudolph-and-sletten-inc-info-session-4/
CATEGORIES:Recruitment Events
END:VEVENT
BEGIN:VEVENT
DTSTART;TZID=America/Los_Angeles:20251120T110000
DTEND;TZID=America/Los_Angeles:20251120T120000
DTSTAMP:20260420T220932
CREATED:20250916T000910Z
LAST-MODIFIED:20251120T193618Z
UID:64452-1763636400-1763640000@ccce.calpoly.edu
SUMMARY:Anvil Builders - Info Session
DESCRIPTION:Anvil Builders\nHeavy Civil \nanvilbuilders.com \nPresentation in Bldg. 186-B102 \nKatie Maclean \ncmaclean@anvilbuilders.com \nThursday\, November 20\, 2025 at 11:00 AM \nOpen Positions: Internship (Summer 2026) \nJob Locations: Northern California \nEmail: cmaclean@anvilbuilders.com for application information \nCMAC Member
URL:https://ccce.calpoly.edu/event/anvil-builders-info-session-3/
CATEGORIES:Recruitment Events
END:VEVENT
BEGIN:VEVENT
DTSTART;TZID=America/Los_Angeles:20251120T180000
DTEND;TZID=America/Los_Angeles:20251120T190000
DTSTAMP:20260420T220932
CREATED:20250916T000924Z
LAST-MODIFIED:20251121T025046Z
UID:64453-1763661600-1763665200@ccce.calpoly.edu
SUMMARY:The Walsh Group - Info Session
DESCRIPTION:The Walsh Group\nGeneral Contractor \nhttps://www.walshgroup.com/ \nPresentation in Bldg. 186-B202 \nInterviews in Bldg. 186-A213 \nCelina Tran \nctran@walshgroup.com \nThursday\, November 20\, 2025 at 6:00 PM \nOpen Positions: Full Time (starting January 2026) | Full Time (starting after June 2026 graduation) | Internship (Open Timeframe) \nJob Locations:  \nVisit:  to apply \nCMAC Member
URL:https://ccce.calpoly.edu/event/the-walsh-group-info-session-3/
CATEGORIES:Recruitment Events
END:VEVENT
BEGIN:VEVENT
DTSTART;TZID=America/Los_Angeles:20251201T180000
DTEND;TZID=America/Los_Angeles:20251201T190000
DTSTAMP:20260420T220932
CREATED:20250916T000924Z
LAST-MODIFIED:20251202T005341Z
UID:64454-1764612000-1764615600@ccce.calpoly.edu
SUMMARY:Manson Construction - Info Session
DESCRIPTION:Manson Construction\nHeavy Civil \nhttps://www.mansonconstruction.com/ \nPresentation in Bldg. 186-B202 \nInterviews in Bldg. 186-A213 \nInterview Sign Ups: Click Here \nLouisa Dubose \nldubose@mansonconstruction.com \nMonday\, December 1\, 2025 at 6:00 PM \nOpen Positions: Full Time (starting January 2026) | Full Time (starting after June 2026 graduation) | Internship (Summer 2026) \nJob Locations: Northern California | Southern California | East Coast | West Coast (other than CA) \nEmail: ldubose@mansonconstruction.com for application information \nCMAC Member
URL:https://ccce.calpoly.edu/event/manson-construction-info-session-2/
CATEGORIES:Recruitment Events
END:VEVENT
BEGIN:VEVENT
DTSTART;TZID=America/Los_Angeles:20251202T110000
DTEND;TZID=America/Los_Angeles:20251202T120000
DTSTAMP:20260420T220932
CREATED:20250916T000925Z
LAST-MODIFIED:20251202T193412Z
UID:64455-1764673200-1764676800@ccce.calpoly.edu
SUMMARY:Choice Projects - Info Session
DESCRIPTION:Choice Projects\nSpecialty Contractor \nchoice-projects.com \nPresentation in Bldg. 186-B102 \nInterviews in Bldg. 186-A211 \nHarlan Prather \nharlan@choice-projects.com \nTuesday\, December 2\, 2025 at 11:00 AM \nOpen Positions: Full Time (starting June2026) | Summer Intern (starting June 2026) \nJob Locations: Southern California \nEmail: harlan@choice-projects.com for application information \nCMAC Member
URL:https://ccce.calpoly.edu/event/choice-projects-info-session/
CATEGORIES:Recruitment Events
END:VEVENT
BEGIN:VEVENT
DTSTART;TZID=America/Los_Angeles:20251202T180000
DTEND;TZID=America/Los_Angeles:20251202T190000
DTSTAMP:20260420T220932
CREATED:20250916T000925Z
LAST-MODIFIED:20251203T005023Z
UID:64456-1764698400-1764702000@ccce.calpoly.edu
SUMMARY:CORE Builders - Info Session
DESCRIPTION:CORE Builders\nResidential \nwww.corebuildersgc.org \nPresentation in Bldg. 186-B202 \nIsabel Suarez \nisuarez@corebuildersgc.com \nTuesday\, December 2\, 2025 at 6:00 PM \nOpen Positions:  \nJob Locations:  \nEmail: isuarez@corebuildersgc.com for application information \nCMAC Member
URL:https://ccce.calpoly.edu/event/core-builders-info-session/
CATEGORIES:Recruitment Events
END:VEVENT
BEGIN:VEVENT
DTSTART;TZID=America/Los_Angeles:20251203T110000
DTEND;TZID=America/Los_Angeles:20251203T120000
DTSTAMP:20260420T220932
CREATED:20250916T000925Z
LAST-MODIFIED:20251203T171850Z
UID:64457-1764759600-1764763200@ccce.calpoly.edu
SUMMARY:Ryan Companies - Info Session
DESCRIPTION:Ryan Companies\nCommercial \nryancompanies.com \nPresentation in Bldg. 186-B102 \nInterviews in Bldg. 186-A211 \nStephanie Adamczyk \nstephanie.adamczyk@ryancompanies.com \nWednesday\, December 3\, 2025 at 11:00 AM \nOpen Positions: Full Time (starting after June 2026 graduation) | Internship (Summer 2026) | Internship (Open Timeframe) \nJob Locations: Northern California | Southern California \nEmail: stephanie.adamczyk@ryancompanies.com for application information
URL:https://ccce.calpoly.edu/event/ryan-companies-info-session-2/
CATEGORIES:Recruitment Events
END:VEVENT
BEGIN:VEVENT
DTSTART;TZID=America/Los_Angeles:20251203T180000
DTEND;TZID=America/Los_Angeles:20251203T190000
DTSTAMP:20260420T220932
CREATED:20250916T000939Z
LAST-MODIFIED:20251204T014647Z
UID:64458-1764784800-1764788400@ccce.calpoly.edu
SUMMARY:Webcor Builders - Info Session
DESCRIPTION:Webcor Builders\nCommercial \nwww.webcor.com \nPresentation in Bldg. 186-B202 \nInterviews in Bldg. 186-A213 \nNiki Blinov \nniki.blinov@webcor.com \nWednesday\, December 3\, 2025 at 6:00 PM \nOpen Positions: Full Time (starting January 2026) | Full Time (starting after June 2026 graduation) | Internship (Summer 2026) \nJob Locations: Central California | Northern California | Southern California \nEmail: niki.blinov@webcor.com for application information \nCMAC Member
URL:https://ccce.calpoly.edu/event/webcor-builders-info-session-3/
CATEGORIES:Recruitment Events
END:VEVENT
BEGIN:VEVENT
DTSTART;TZID=America/Los_Angeles:20251204T150000
DTEND;TZID=America/Los_Angeles:20251204T160000
DTSTAMP:20260420T220932
CREATED:20250916T000939Z
LAST-MODIFIED:20251204T224826Z
UID:64459-1764860400-1764864000@ccce.calpoly.edu
SUMMARY:Kiewit - Info Session
DESCRIPTION:Kiewit\nHeavy Civil \nhttps://kiewitcareers.kiewit.com/ \nPresentation in Bldg. 186-B102 \nTessa Robinson \ntessa.robinson@kiewit.com \nThursday\, December 4\, 2025 at 3:00 PM \nOpen Positions: Full Time (starting after June 2026 graduation) | Internship (Summer 2026) \nJob Locations: Central California | Northern California | Southern California | Mountain (CO\, Montana\, Wyoming\, etc.) | Midwest | East Coast | West Coast (other than CA) \nVisit: Central California | Northern California | Southern California | Mountain (CO\, Montana\, Wyoming\, etc.) | Midwest | East Coast | West Coast (other than CA) to apply \nCMAC Member
URL:https://ccce.calpoly.edu/event/kiewit-info-session-3/
CATEGORIES:Recruitment Events
END:VEVENT
BEGIN:VEVENT
DTSTART;TZID=America/Los_Angeles:20260108T110000
DTEND;TZID=America/Los_Angeles:20260108T120000
DTSTAMP:20260420T220932
CREATED:20260107T202455Z
LAST-MODIFIED:20260107T202455Z
UID:67377-1767870000-1767873600@ccce.calpoly.edu
SUMMARY:ASCM x Blach BBQ
DESCRIPTION:
URL:https://ccce.calpoly.edu/event/ascm-x-blach-bbq/
CATEGORIES:Recruitment Events
END:VEVENT
BEGIN:VEVENT
DTSTART;TZID=America/Los_Angeles:20260112T180000
DTEND;TZID=America/Los_Angeles:20260112T190000
DTSTAMP:20260420T220932
CREATED:20250916T000939Z
LAST-MODIFIED:20260113T163126Z
UID:64460-1768240800-1768244400@ccce.calpoly.edu
SUMMARY:McCarthy Building Companies - Info Session
DESCRIPTION:McCarthy Building Companies\nCommercial \nhttps://www.mccarthy.com/ \nPresentation in Bldg. 186-B202 \nInterviews in Bldg. 186-A213 \n  \nKim Trotter \nktrotter@mccarthy.com \nMonday\, January 12\, 2026 at 6:00 PM \nOpen Positions: Full Time (starting January 2026) | Full Time (starting after June 2026 graduation) | Internship (Summer 2026) \nJob Locations: Northern California | Southern California | Mountain (CO\, Montana\, Wyoming\, etc.) | Midwest | East Coast | West Coast (other than CA) \nEmail: ktrotter@mccarthy.com for application information \nCMAC Member
URL:https://ccce.calpoly.edu/event/mccarthy-building-companies-info-session-6/
CATEGORIES:Recruitment Events
END:VEVENT
BEGIN:VEVENT
DTSTART;TZID=America/Los_Angeles:20260113T180000
DTEND;TZID=America/Los_Angeles:20260113T190000
DTSTAMP:20260420T220932
CREATED:20250916T000940Z
LAST-MODIFIED:20260114T004733Z
UID:64462-1768327200-1768330800@ccce.calpoly.edu
SUMMARY:West Valley Construction - Info Session
DESCRIPTION:West Valley Construction\nHeavy Civil \nwvcc.com \nPresentation in Bldg. 186-B202 \nSummer Marten \nsmarten@wvcc.com  \nTuesday\, January 13\, 2026 at 6:00 PM \nOpen Positions:  \nJob Locations:  \nEmail: smarten@wvcc.com  for application information \nCMAC Member
URL:https://ccce.calpoly.edu/event/west-valley-construction-info-session-2/
CATEGORIES:Recruitment Events
END:VEVENT
BEGIN:VEVENT
DTSTART;TZID=America/Los_Angeles:20260114T180000
DTEND;TZID=America/Los_Angeles:20260114T190000
DTSTAMP:20260420T220932
CREATED:20250916T000955Z
LAST-MODIFIED:20260115T024836Z
UID:64464-1768413600-1768417200@ccce.calpoly.edu
SUMMARY:McGuire and Hester - Info Session
DESCRIPTION:McGuire and Hester\nHeavy Civil \nmcguireandhester.com \nPresentation in Bldg. 186-B202 \nInterviews in Bldg. 186-A213 \nBerenice Pena \nbpena@mcguireandhester.com \nWednesday\, January 14\, 2026 at 6:00 PM \nOpen Positions: Full Time (starting January 2026) | Full Time (starting after June 2026 graduation) | Internship (Summer 2026) | Internship (Open Timeframe) \nJob Locations: Northern California \nEmail: bpena@mcguireandhester.com for application information \nCMAC Member
URL:https://ccce.calpoly.edu/event/mcguire-and-hester-info-session-6/
CATEGORIES:Recruitment Events
END:VEVENT
BEGIN:VEVENT
DTSTART;TZID=America/Los_Angeles:20260115T110000
DTEND;TZID=America/Los_Angeles:20260115T120000
DTSTAMP:20260420T220932
CREATED:20250916T000955Z
LAST-MODIFIED:20260115T184913Z
UID:64465-1768474800-1768478400@ccce.calpoly.edu
SUMMARY:KL&A Engineers & Builders
DESCRIPTION:KL&A Engineers & Builders\nCommercial \nhttps://www.klaa.com/ \nPresentation in Bldg. 186-B102 \nInterviews in Bldg. 186-A211 \nInterview Sign Ups: Click Here \nAlanna Weaver \naweaver@klaa.com \nThursday\, January 15\, 2026 at 11:00 AM \nOpen Positions: Full Time (starting January 2026) | Full Time (starting after June 2026 graduation) | Internship (Summer 2026) | Internship (Open Timeframe) \nJob Locations: Mountain (CO\, Montana\, Wyoming\, etc.) \nEmail: aweaver@klaa.com for application information \nCMAC Member
URL:https://ccce.calpoly.edu/event/sc-builders-inc-info-session-9/
CATEGORIES:Recruitment Events
END:VEVENT
BEGIN:VEVENT
DTSTART;TZID=America/Los_Angeles:20260120T110000
DTEND;TZID=America/Los_Angeles:20260120T120000
DTSTAMP:20260420T220932
CREATED:20250916T000955Z
LAST-MODIFIED:20260120T174800Z
UID:64467-1768906800-1768910400@ccce.calpoly.edu
SUMMARY:Level 10 Construction - Info Session
DESCRIPTION:Level 10 Construction\nCommercial \nwww.level10gc.com \nPresentation in Bldg. 186-B102 \nInterviews in Bldg. 186-A211 \nInterview Sign Ups: Click Here \nMatthew Heintz \nmheintz@level10gc.com \nTuesday\, January 20\, 2026 at 11:00 AM \nOpen Positions: Full Time (starting after June 2026 graduation) | Internship (Summer 2026) \nJob Locations: Northern California | Southern California \nEmail: mheintz@level10gc.com for application information \nCMAC Member
URL:https://ccce.calpoly.edu/event/ca-info-session-2/
CATEGORIES:Recruitment Events
END:VEVENT
BEGIN:VEVENT
DTSTART;TZID=America/Los_Angeles:20260120T180000
DTEND;TZID=America/Los_Angeles:20260120T190000
DTSTAMP:20260420T220932
CREATED:20250916T001009Z
LAST-MODIFIED:20260121T004844Z
UID:64468-1768932000-1768935600@ccce.calpoly.edu
SUMMARY:Anning-Johnson Company - Info Session
DESCRIPTION:Anning-Johnson Company\nCommercial \nhttps://anningjohnson.com/ \nPresentation in Bldg. 186-B202 \nInterviews in Bldg. 186-A213 \nKate Wirkus \nkwirkus@ansonindustries.com \nTuesday\, January 20\, 2026 at 6:00 PM \nOpen Positions: Full Time (starting January 2026) | Full Time (starting after June 2026 graduation) | Internship (Summer 2026) \nJob Locations: Northern California | Southern California | Midwest | East Coast | West Coast (other than CA) \nVisit: Northern California | Southern California | Midwest | East Coast | West Coast (other than CA) to apply \nCMAC Member
URL:https://ccce.calpoly.edu/event/anning-johnson-company-info-session-9/
CATEGORIES:Recruitment Events
END:VEVENT
BEGIN:VEVENT
DTSTART;TZID=America/Los_Angeles:20260121T110000
DTEND;TZID=America/Los_Angeles:20260121T120000
DTSTAMP:20260420T220932
CREATED:20250916T001009Z
LAST-MODIFIED:20260121T204441Z
UID:64469-1768993200-1768996800@ccce.calpoly.edu
SUMMARY:Pankow Builders - Info Session
DESCRIPTION:Pankow Builders\nCommercial \nwww.pankow.com \nPresentation in Bldg. 186-B102 \nInterviews in Bldg. 186-A211 \nInterview Sign Ups: Click Here \nJennifer Wilkins \njwilkins@pankow.com \nWednesday\, January 21\, 2026 at 11:00 AM \nOpen Positions: \nJob Locations: \nEmail: jwilkins@pankow.com for application information \nCMAC Member
URL:https://ccce.calpoly.edu/event/pankow-builders-info-session-6/
CATEGORIES:Recruitment Events
END:VEVENT
END:VCALENDAR