BEGIN:VCALENDAR
VERSION:2.0
PRODID:-//CCCE - ECPv5.16.3.1//NONSGML v1.0//EN
CALSCALE:GREGORIAN
METHOD:PUBLISH
X-WR-CALNAME:CCCE
X-ORIGINAL-URL:https://ccce.calpoly.edu
X-WR-CALDESC:Events for CCCE
REFRESH-INTERVAL;VALUE=DURATION:PT1H
X-Robots-Tag:noindex
X-PUBLISHED-TTL:PT1H
BEGIN:VTIMEZONE
TZID:America/Los_Angeles
BEGIN:DAYLIGHT
TZOFFSETFROM:-0800
TZOFFSETTO:-0700
TZNAME:PDT
DTSTART:20260308T100000
END:DAYLIGHT
BEGIN:STANDARD
TZOFFSETFROM:-0700
TZOFFSETTO:-0800
TZNAME:PST
DTSTART:20261101T090000
END:STANDARD
END:VTIMEZONE
BEGIN:VEVENT
DTSTART;TZID=America/Los_Angeles:20260210T110000
DTEND;TZID=America/Los_Angeles:20260210T120000
DTSTAMP:20260420T053552
CREATED:20250916T001025Z
LAST-MODIFIED:20260210T183010Z
UID:64477-1770721200-1770724800@ccce.calpoly.edu
SUMMARY:Wesely Thomas - Info Session
DESCRIPTION:Wesely Thomas\nCommercial \nwww.weselythomas.com \nPresentation in Bldg. 186-B102 \nMaritza Martinez \nmaritza@weselythomas.com \nTuesday\, February 10\, 2026 at 11:00 AM \nOpen Positions: Internship (Summer 2026) \nJob Locations: Southern California \nEmail: maritza@weselythomas.com for application information
URL:https://ccce.calpoly.edu/event/wesely-thomas-info-session-2/
CATEGORIES:Recruitment Events
END:VEVENT
BEGIN:VEVENT
DTSTART;TZID=America/Los_Angeles:20260211T110000
DTEND;TZID=America/Los_Angeles:20260211T120000
DTSTAMP:20260420T053552
CREATED:20250916T001039Z
LAST-MODIFIED:20260211T183802Z
UID:64478-1770807600-1770811200@ccce.calpoly.edu
SUMMARY:Morley Builders - Info Session
DESCRIPTION:Morley Builders\nCommercial \nhttps://www.morleybuilders.com/ \nPresentation in Bldg. 186-B102 \nTommy Rigdon \ntrigdon@morleybuilders.com \nWednesday\, February 11\, 2026 at 11:00 AM \nOpen Positions: Full Time (starting January 2026) | Full Time (starting after June 2026 graduation) | Internship (Summer 2026) | Internship (Open Timeframe) \nJob Locations: Southern California \nVisit: Southern California to apply \nCMAC Member
URL:https://ccce.calpoly.edu/event/morley-builders-info-session-7/
CATEGORIES:Recruitment Events
END:VEVENT
BEGIN:VEVENT
DTSTART;TZID=America/Los_Angeles:20260211T180000
DTEND;TZID=America/Los_Angeles:20260211T190000
DTSTAMP:20260420T053552
CREATED:20250916T001039Z
LAST-MODIFIED:20260212T023420Z
UID:64479-1770832800-1770836400@ccce.calpoly.edu
SUMMARY:Ghilotti Bros.\, Inc. - Info Session
DESCRIPTION:Ghilotti Bros.\, Inc.\nHeavy Civil \nwww.gbi1914.com \nPresentation in Bldg. 186-B202 \nInterviews in Bldg. 186-A213 \nInterview Sign Ups: Click Here \nStephanie Taylor \nstephaniet@gbi1914.com \nWednesday\, February 11\, 2026 at 6:00 PM \nOpen Positions: Full Time (starting after June 2026 graduation) | Internship (Summer 2026) \nJob Locations: Northern California \nEmail: stephaniet@gbi1914.com for application information \nCMAC Member
URL:https://ccce.calpoly.edu/event/ghilotti-bros-inc-info-session-5/
CATEGORIES:Recruitment Events
END:VEVENT
BEGIN:VEVENT
DTSTART;TZID=America/Los_Angeles:20260212T110000
DTEND;TZID=America/Los_Angeles:20260212T120000
DTSTAMP:20260420T053552
CREATED:20250916T001039Z
LAST-MODIFIED:20260212T193619Z
UID:64480-1770894000-1770897600@ccce.calpoly.edu
SUMMARY:Quiring General - Info Session
DESCRIPTION:Quiring General\nCommercial \nwww.quiring.com \nPresentation in Bldg. 186-B102 \nInterviews in Bldg. 186-A211 \nInterview Sign Ups: Click Here \nMichael Schussel \nmschussel@quiring.com \nThursday\, February 12\, 2026 at 11:00 AM \nOpen Positions: Full Time (starting January 2026) | Full Time (starting after June 2026 graduation) | Internship (Summer 2026) \nJob Locations: Central California | Northern California \nEmail: mschussel@quiring.com for application information \nCMAC Member
URL:https://ccce.calpoly.edu/event/quiring-general-info-session-8/
CATEGORIES:Recruitment Events
END:VEVENT
BEGIN:VEVENT
DTSTART;TZID=America/Los_Angeles:20260212T180000
DTEND;TZID=America/Los_Angeles:20260212T190000
DTSTAMP:20260420T053552
CREATED:20260115T203158Z
LAST-MODIFIED:20260213T023414Z
UID:67588-1770919200-1770922800@ccce.calpoly.edu
SUMMARY:Keller North America - Info Session
DESCRIPTION:Keller North America\nHeavy Civil \nhttps://www.keller-na.com/ \nPresentation in Bldg. 186-B202 \nKatherine Cheng \nkatherine.cheng@keller-na.com \nThursday\, February 12\, 2026 at 6:00 PM \nOpen Positions: Full Time (starting January 2026) | Full Time (starting after June 2026 graduation) \nJob Locations: Central California | Northern California | Southern California | Mountain (CO\, Montana\, Wyoming\, etc.) | Midwest | East Coast | West Coast (other than CA) \nEmail: katherine.cheng@keller-na.com for application information
URL:https://ccce.calpoly.edu/event/keller-north-america-info-session/
CATEGORIES:Recruitment Events
END:VEVENT
BEGIN:VEVENT
DTSTART;TZID=America/Los_Angeles:20260217T110000
DTEND;TZID=America/Los_Angeles:20260217T120000
DTSTAMP:20260420T053552
CREATED:20250916T001040Z
LAST-MODIFIED:20260217T193750Z
UID:64481-1771326000-1771329600@ccce.calpoly.edu
SUMMARY:Rodan Builders\, Inc. - Info Session
DESCRIPTION:Rodan Builders\, Inc.\nCommercial \nwww.rodanbuilders.com \nPresentation in Bldg. 186-B102 \nNadja Peterson \nnpeterson@rodanbuilders.com \nTuesday\, February 17\, 2026 at 11:00 AM \nOpen Positions: Full Time (starting after June 2026 graduation) | Internship (Summer 2026) | Internship (Open Timeframe) \nJob Locations: Northern California \nEmail: npeterson@rodanbuilders.com for application information \nCMAC Member
URL:https://ccce.calpoly.edu/event/rodan-builders-inc-info-session-2/
CATEGORIES:Recruitment Events
END:VEVENT
BEGIN:VEVENT
DTSTART;TZID=America/Los_Angeles:20260217T180000
DTEND;TZID=America/Los_Angeles:20260217T190000
DTSTAMP:20260420T053552
CREATED:20250916T001040Z
LAST-MODIFIED:20260218T013919Z
UID:64482-1771351200-1771354800@ccce.calpoly.edu
SUMMARY:Shimmick - Info Session
DESCRIPTION:Shimmick\nHeavy Civil \nwww.shimmick.com \nPresentation in Bldg. 186-B202 \nInterviews in Bldg. 186-A213 \nCharlotte Mahony \ncharlotte.mahony@shimmick.com \nTuesday\, February 17\, 2026 at 6:00 PM \nOpen Positions: Full Time (starting January 2026) | Full Time (starting after June 2026 graduation) | Internship (Summer 2026) | Internship (Open Timeframe) \nJob Locations: Northern California | Southern California | West Coast (other than CA) \nEmail: charlotte.mahony@shimmick.com for application information
URL:https://ccce.calpoly.edu/event/shimmick-info-session-2/
CATEGORIES:Recruitment Events
END:VEVENT
BEGIN:VEVENT
DTSTART;TZID=America/Los_Angeles:20260218T110000
DTEND;TZID=America/Los_Angeles:20260218T120000
DTSTAMP:20260420T053552
CREATED:20250916T001054Z
LAST-MODIFIED:20260218T183826Z
UID:64483-1771412400-1771416000@ccce.calpoly.edu
SUMMARY:Kitchell - Info Session
DESCRIPTION:Kitchell\nConstruction Management \nkitchell.com \nPresentation in Bldg. 186-B102 \nInterviews in Bldg. 186-A211 \nInterview Sign Ups: Click Here \nSueanne Sydathong \nssydathong@kitchell.com \nWednesday\, February 18\, 2026 at 11:00 AM \nOpen Positions: Full Time (starting after June 2026 graduation) | Internship (Summer 2026) \nJob Locations: Central California | Northern California | Southern California \nVisit: Central California | Northern California | Southern California to apply \nCMAC Member
URL:https://ccce.calpoly.edu/event/kitchell-info-session-5/
CATEGORIES:Recruitment Events
END:VEVENT
BEGIN:VEVENT
DTSTART;TZID=America/Los_Angeles:20260218T180000
DTEND;TZID=America/Los_Angeles:20260218T190000
DTSTAMP:20260420T053552
CREATED:20250916T001054Z
LAST-MODIFIED:20260219T023636Z
UID:64484-1771437600-1771441200@ccce.calpoly.edu
SUMMARY:Build Group (Pacific Structures) - Info Session
DESCRIPTION:Build Group (Pacific Structures)\nCommercial \nhttps://www.buildgc.com/ \nPresentation in Bldg. 186-B202 \nInterviews in Bldg. 186-A213 \nAmy Phung \namy.phung@buildgc.com \nWednesday\, February 18\, 2026 at 6:00 PM \nOpen Positions: Full Time (starting January 2026) | Full Time (starting after June 2026 graduation) | Internship (Summer 2026) | Internship (Open Timeframe) \nJob Locations: Northern California | Southern California \nEmail: amy.phung@buildgc.com for application information \nCMAC Member
URL:https://ccce.calpoly.edu/event/build-group-pacific-structures-info-session-6/
CATEGORIES:Recruitment Events
END:VEVENT
BEGIN:VEVENT
DTSTART;TZID=America/Los_Angeles:20260219T110000
DTEND;TZID=America/Los_Angeles:20260219T120000
DTSTAMP:20260420T053552
CREATED:20250916T001055Z
LAST-MODIFIED:20260219T193824Z
UID:64485-1771498800-1771502400@ccce.calpoly.edu
SUMMARY:Enclos - Info Session
DESCRIPTION:Enclos\nSpecialty Contractor \nwww.enclos.com \nPresentation in Bldg. 186-B102 \nInterviews in Bldg. 186-A211 \nAllie Geske \nageske@enclos.com \nThursday\, February 19\, 2026 at 11:00 AM \nOpen Positions: Full Time (starting after June 2026 graduation) | Internship (Summer 2026) | Internship (Open Timeframe) \nJob Locations: Northern California | Southern California | Mountain (CO\, Montana\, Wyoming\, etc.) | East Coast \nEmail: ageske@enclos.com for application information \nCMAC Member
URL:https://ccce.calpoly.edu/event/enclos-info-session-2/
CATEGORIES:Recruitment Events
END:VEVENT
BEGIN:VEVENT
DTSTART;TZID=America/Los_Angeles:20260224T110000
DTEND;TZID=America/Los_Angeles:20260224T120000
DTSTAMP:20260420T053552
CREATED:20250916T001055Z
LAST-MODIFIED:20260224T193932Z
UID:64486-1771930800-1771934400@ccce.calpoly.edu
SUMMARY:Avila Construction - Info Session
DESCRIPTION:Avila Construction\nCommercial \navilaconst.com \nPresentation in Bldg. 186-B102 \nKathryn Avila \nkathryn@avilaconst.com \nTuesday\, February 24\, 2026 at 11:00 AM \nOpen Positions: Interns; Full time Project Engineer; Full time Entry Level Site Superintendent. \nJob Locations:  \nEmail: kathryn@avilaconst.com for application information
URL:https://ccce.calpoly.edu/event/avila-construction-info-session-4/
CATEGORIES:Recruitment Events
END:VEVENT
BEGIN:VEVENT
DTSTART;TZID=America/Los_Angeles:20260225T110000
DTEND;TZID=America/Los_Angeles:20260225T120000
DTSTAMP:20260420T053552
CREATED:20250916T001055Z
LAST-MODIFIED:20260225T194012Z
UID:64487-1772017200-1772020800@ccce.calpoly.edu
SUMMARY:C.W. Driver - Info Session
DESCRIPTION:C.W. Driver\nCommercial \nhttps://www.cwdriver.com \nPresentation in Bldg. 186-B102 \nInterviews in Bldg. 186-A211 \nBryan Maldonado \nbmaldonado@cwdriver.com \nWednesday\, February 25\, 2026 at 11:00 AM \nOpen Positions: Full Time (starting January 2026) | Full Time (starting after June 2026 graduation) | Internship (Summer 2026) \nJob Locations: Southern California \nVisit: Southern California to apply \nCMAC Member
URL:https://ccce.calpoly.edu/event/c-w-driver-info-session/
CATEGORIES:Recruitment Events
END:VEVENT
BEGIN:VEVENT
DTSTART;TZID=America/Los_Angeles:20260225T180000
DTEND;TZID=America/Los_Angeles:20260225T190000
DTSTAMP:20260420T053552
CREATED:20260127T193029Z
LAST-MODIFIED:20260226T023950Z
UID:67931-1772042400-1772046000@ccce.calpoly.edu
SUMMARY:Delve Underground - Info Session
DESCRIPTION:Delve Underground\nUnderground Consulting Engineering FIrm \nwww.delveunderground.com \nPresentation in Bldg. 186-B202 \nInterviews in Bldg. 186-A213 \nNorman Joyal \njoyal@delveunderground.com \nWednesday\, February 25\, 2026 at 6:00 PM \nOpen Positions: Full Time (starting after June 2026 graduation) | Internship (Summer 2026) \nJob Locations: Central California | Northern California | Southern California \nVisit: Central California | Northern California | Southern California to apply
URL:https://ccce.calpoly.edu/event/delve-underground-info-session/
CATEGORIES:Recruitment Events
END:VEVENT
BEGIN:VEVENT
DTSTART;TZID=America/Los_Angeles:20260226T110000
DTEND;TZID=America/Los_Angeles:20260226T120000
DTSTAMP:20260420T053552
CREATED:20250916T001109Z
LAST-MODIFIED:20260226T193924Z
UID:64488-1772103600-1772107200@ccce.calpoly.edu
SUMMARY:BNBuilders - Info Session
DESCRIPTION:BNBuilders\nCommercial \nhr@bnbuilders.com \nPresentation in Bldg. 186-B102 \nInterviews in Bldg. 186-A211 \nBriana Williams \nBriana.Williams@bnbuilders.com \nThursday\, February 26\, 2026 at 11:00 AM \nOpen Positions: Full Time (starting after June 2026 graduation) | Internship (Open Timeframe) \nJob Locations: Northern California | Southern California | West Coast (other than CA) | Other \nVisit: Northern California | Southern California | West Coast (other than CA) | Other to apply \nCMAC Member
URL:https://ccce.calpoly.edu/event/bnbuilders-info-session-8/
CATEGORIES:Recruitment Events
END:VEVENT
BEGIN:VEVENT
DTSTART;TZID=America/Los_Angeles:20260226T180000
DTEND;TZID=America/Los_Angeles:20260226T190000
DTSTAMP:20260420T053552
CREATED:20250916T001109Z
LAST-MODIFIED:20260227T023626Z
UID:64489-1772128800-1772132400@ccce.calpoly.edu
SUMMARY:PCL Construction - Info Session
DESCRIPTION:PCL Construction\nCommercial \nwww.pcl.com \nPresentation in Bldg. 186-B202 \nJoyceline Cedillo \njcedillo@pcl.com \nThursday\, February 26\, 2026 at 6:00 PM \nOpen Positions:  \nJob Locations:  \nEmail: jcedillo@pcl.com for application information \nCMAC Member
URL:https://ccce.calpoly.edu/event/pcl-construction-info-session-9/
CATEGORIES:Recruitment Events
END:VEVENT
BEGIN:VEVENT
DTSTART;TZID=America/Los_Angeles:20260302T110000
DTEND;TZID=America/Los_Angeles:20260302T120000
DTSTAMP:20260420T053552
CREATED:20260115T174015Z
LAST-MODIFIED:20260115T174015Z
UID:67578-1772449200-1772452800@ccce.calpoly.edu
SUMMARY:WIC Week Breakfast x Walsh Group
DESCRIPTION:
URL:https://ccce.calpoly.edu/event/wic-week-breakfast-x-walsh-group/
CATEGORIES:Recruitment Events
END:VEVENT
BEGIN:VEVENT
DTSTART;TZID=America/Los_Angeles:20260302T180000
DTEND;TZID=America/Los_Angeles:20260302T190000
DTSTAMP:20260420T053552
CREATED:20260108T235529Z
LAST-MODIFIED:20260303T023754Z
UID:67414-1772474400-1772478000@ccce.calpoly.edu
SUMMARY:Clune Construction - Info Session
DESCRIPTION:Clune Construction\nCommercial \nclunegc.com \nPresentation in Bldg. 186-B202 \nIva Zanija \nizanija@clunegc.com \nMonday\, March 2\, 2026 at 6:00 PM \nOpen Positions: Internship (Summer 2026) \nJob Locations: Central California | Northern California | Southern California \nEmail: izanija@clunegc.com for application information \nCMAC Member
URL:https://ccce.calpoly.edu/event/clune-construction-info-session-4/
CATEGORIES:Recruitment Events
END:VEVENT
BEGIN:VEVENT
DTSTART;TZID=America/Los_Angeles:20260304T110000
DTEND;TZID=America/Los_Angeles:20260304T120000
DTSTAMP:20260420T053552
CREATED:20251007T225826Z
LAST-MODIFIED:20260304T184357Z
UID:65298-1772622000-1772625600@ccce.calpoly.edu
SUMMARY:Willmeng - Info Session
DESCRIPTION:Willmeng\nIndustrial \nwillmeng.com \nPresentation in Bldg. 186-B102 \nInterviews in Bldg. 186-A211 \nBrittany Rosario \nbrosario@willmeng.com \nWednesday\, March 4\, 2026 at 11:00 AM \nOpen Positions: Full Time (starting after June 2026 graduation) | Internship (Summer 2026) \nJob Locations: Mountain (CO\, Montana\, Wyoming\, etc.) \nVisit: Mountain (CO\, Montana\, Wyoming\, etc.) to apply \nCMAC Member
URL:https://ccce.calpoly.edu/event/willmeng-info-session-2/
CATEGORIES:Recruitment Events
END:VEVENT
BEGIN:VEVENT
DTSTART;TZID=America/Los_Angeles:20260304T180000
DTEND;TZID=America/Los_Angeles:20260304T190000
DTSTAMP:20260420T053552
CREATED:20260114T235343Z
LAST-MODIFIED:20260114T235420Z
UID:67562-1772647200-1772650800@ccce.calpoly.edu
SUMMARY:WIC Week Panel
DESCRIPTION:In B202
URL:https://ccce.calpoly.edu/event/wic-week-panel/
CATEGORIES:Recruitment Events
END:VEVENT
BEGIN:VEVENT
DTSTART;TZID=America/Los_Angeles:20260305T110000
DTEND;TZID=America/Los_Angeles:20260305T120000
DTSTAMP:20260420T053552
CREATED:20250916T001110Z
LAST-MODIFIED:20260305T193545Z
UID:64491-1772708400-1772712000@ccce.calpoly.edu
SUMMARY:JB Pacific - Info Session
DESCRIPTION:JB Pacific\nCommercial \njbpac.com \nPresentation in Bldg. 186-B102 \nInterviews in Bldg. 186-A211 \nTorrie E Peth \ntorrie@jbpac.com \nThursday\, March 5\, 2026 at 11:00 AM \nOpen Positions:  \nJob Locations:  \nEmail: torrie@jbpac.com for application information \nCMAC Member
URL:https://ccce.calpoly.edu/event/jb-pacific-info-session-9/
CATEGORIES:Recruitment Events
END:VEVENT
BEGIN:VEVENT
DTSTART;TZID=America/Los_Angeles:20260305T180000
DTEND;TZID=America/Los_Angeles:20260305T190000
DTSTAMP:20260420T053552
CREATED:20250916T001110Z
LAST-MODIFIED:20260306T013553Z
UID:64492-1772733600-1772737200@ccce.calpoly.edu
SUMMARY:Hensel Phelps - Info Session
DESCRIPTION:Hensel Phelps\nCommercial \nhttps://www.henselphelps.com \nPresentation in Bldg. 186-B202 \nInterviews in Bldg. 186-A213 \nInterview Sign Ups: Click Here \nLuis Esquivel \nlesquivel@henselphelps.com \nThursday\, March 5\, 2026 at 6:00 PM \nOpen Positions: Full Time (starting January 2026) | Full Time (starting after June 2026 graduation) \nJob Locations: Central California | Northern California | Southern California | Mountain (CO\, Montana\, Wyoming\, etc.) | East Coast | West Coast (other than CA) \nEmail: lesquivel@henselphelps.com for application information \nCMAC Member
URL:https://ccce.calpoly.edu/event/hensel-phelps-info-session-8/
CATEGORIES:Recruitment Events
END:VEVENT
BEGIN:VEVENT
DTSTART;TZID=America/Los_Angeles:20260310T110000
DTEND;TZID=America/Los_Angeles:20260310T120000
DTSTAMP:20260420T053552
CREATED:20260108T235601Z
LAST-MODIFIED:20260310T183523Z
UID:67415-1773140400-1773144000@ccce.calpoly.edu
SUMMARY:Monterey Mechanical Co. - Info Session
DESCRIPTION:Monterey Mechanical Co.\nSpecialty Contractor \nhttps://www.montmech.com/ \nPresentation in Bldg. 186-B102 \nVy Nguyen \nv.nguyen@montmech.com \nTuesday\, March 10\, 2026 at 11:00 AM \nOpen Positions:  \nJob Locations:  \nEmail: v.nguyen@montmech.com for application information
URL:https://ccce.calpoly.edu/event/monterey-mechanical-co-info-session/
CATEGORIES:Recruitment Events
END:VEVENT
BEGIN:VEVENT
DTSTART;TZID=America/Los_Angeles:20260311T110000
DTEND;TZID=America/Los_Angeles:20260311T120000
DTSTAMP:20260420T053552
CREATED:20251204T211908Z
LAST-MODIFIED:20260311T173621Z
UID:66670-1773226800-1773230400@ccce.calpoly.edu
SUMMARY:CORE Builders - Info Session
DESCRIPTION:CORE Builders\nResidential \nhttps://www.corebuildersgc.com/ \nPresentation in Bldg. 186-B102 \nIsabel Suarez \nisuarez@corebuildersgc.com \nWednesday\, March 11\, 2026 at 11:00 AM \nOpen Positions: Full Time (starting January 2026) | Full Time (starting after June 2026 graduation) | Internship (Summer 2026) \nJob Locations: Northern California \nVisit: Northern California to apply \nCMAC Member
URL:https://ccce.calpoly.edu/event/core-builders-info-session-2/
CATEGORIES:Recruitment Events
END:VEVENT
BEGIN:VEVENT
DTSTART;TZID=America/Los_Angeles:20260311T180000
DTEND;TZID=America/Los_Angeles:20260311T190000
DTSTAMP:20260420T053552
CREATED:20250916T001124Z
LAST-MODIFIED:20260312T013143Z
UID:64493-1773252000-1773255600@ccce.calpoly.edu
SUMMARY:Suffolk Construction - Info Session
DESCRIPTION:Suffolk Construction\nCommercial \nsuffolk.com \nPresentation in Bldg. 186-B202 \nInterviews in Bldg. 186-A213 \nInterview Sign Ups: Click Here \nBrad Denney \nbdenney@suffolk.com \nWednesday\, March 11\, 2026 at 6:00 PM \nOpen Positions:  \nJob Locations:  \nEmail: bdenney@suffolk.com for application information \nCMAC Member
URL:https://ccce.calpoly.edu/event/suffolk-construction-info-session-7/
CATEGORIES:Recruitment Events
END:VEVENT
BEGIN:VEVENT
DTSTART;TZID=America/Los_Angeles:20260312T180000
DTEND;TZID=America/Los_Angeles:20260312T190000
DTSTAMP:20260420T053552
CREATED:20260127T193100Z
LAST-MODIFIED:20260313T013720Z
UID:67932-1773338400-1773342000@ccce.calpoly.edu
SUMMARY:City Ventures - Info Session
DESCRIPTION:City Ventures\nResidential \ncityventures.com \nPresentation in Bldg. 186-B202 \nJayne Mann \nJmann@cityventures.com \nThursday\, March 12\, 2026 at 6:00 PM \nOpen Positions: Full Time (starting after June 2026 graduation) | Internship (Summer 2026) \nJob Locations: Northern California | Southern California \nEmail: Jmann@cityventures.com for application information \nCMAC Member
URL:https://ccce.calpoly.edu/event/city-ventures-info-session-3/
CATEGORIES:Recruitment Events
END:VEVENT
BEGIN:VEVENT
DTSTART;TZID=America/Los_Angeles:20260407T110000
DTEND;TZID=America/Los_Angeles:20260407T120000
DTSTAMP:20260420T053552
CREATED:20250916T001124Z
LAST-MODIFIED:20260407T184114Z
UID:64494-1775559600-1775563200@ccce.calpoly.edu
SUMMARY:Overaa Construction - Info Session
DESCRIPTION:Overaa Construction\nCommercial \nwww.overaa.com \nPresentation in Bldg. 186-B102 \nInterviews in Bldg. 186-A211 \nInterview Sign Ups: Click Here \nMegan Mcdermott \nmeganm@overaa.com \nTuesday\, April 7\, 2026 at 11:00 AM \nOpen Positions: Full Time (starting January 2026) | Full Time (starting after June 2026 graduation) | Internship (Summer 2026) \nJob Locations: Northern California \nEmail: meganm@overaa.com for application information \nCMAC Member
URL:https://ccce.calpoly.edu/event/overaa-construction-info-session-6/
CATEGORIES:Recruitment Events
END:VEVENT
BEGIN:VEVENT
DTSTART;TZID=America/Los_Angeles:20260409T110000
DTEND;TZID=America/Los_Angeles:20260409T120000
DTSTAMP:20260420T053552
CREATED:20250916T001125Z
LAST-MODIFIED:20260409T174503Z
UID:64495-1775732400-1775736000@ccce.calpoly.edu
SUMMARY:BNBuilders - Info Session
DESCRIPTION:BNBuilders\nCommercial \nwww.bnbuilders.com \nPresentation in Bldg. 186-B102 \nEmma Roke \nEmma.Roke@bnbuilders.com \nThursday\, April 9\, 2026 at 11:00 AM \nOpen Positions: Full Time (starting after June 2026 graduation) | Internship (Open Timeframe) \nJob Locations: Northern California | Southern California | West Coast (other than CA) | Other \nVisit: Northern California | Southern California | West Coast (other than CA) | Other to apply \nCMAC Member
URL:https://ccce.calpoly.edu/event/bnbuilders-info-session-9/
CATEGORIES:Recruitment Events
END:VEVENT
BEGIN:VEVENT
DTSTART;TZID=America/Los_Angeles:20260413T180000
DTEND;TZID=America/Los_Angeles:20260413T190000
DTSTAMP:20260420T053552
CREATED:20260108T235616Z
LAST-MODIFIED:20260414T005441Z
UID:67416-1776103200-1776106800@ccce.calpoly.edu
SUMMARY:Dowbuilt - Info Session
DESCRIPTION:Dowbuilt\nResidential \nwww.dowbuilt.com \nPresentation in Bldg. 186-B202 \nStephanie Knobbe \nstephaniek@dowbuilt.com \nMonday\, April 13\, 2026 at 6:00 PM
URL:https://ccce.calpoly.edu/event/dowbuilt-info-session-3/
CATEGORIES:Recruitment Events
END:VEVENT
BEGIN:VEVENT
DTSTART;TZID=America/Los_Angeles:20260420T110000
DTEND;TZID=America/Los_Angeles:20260420T120000
DTSTAMP:20260420T053552
CREATED:20260209T164521Z
LAST-MODIFIED:20260209T164544Z
UID:68209-1776682800-1776686400@ccce.calpoly.edu
SUMMARY:Heavy Civil Club BBQ
DESCRIPTION:Come enjoy delicious BBQ and learn more about careers in Heavy Civil!
URL:https://ccce.calpoly.edu/event/heavy-civil-club-bbq/
CATEGORIES:Recruitment Events
END:VEVENT
BEGIN:VEVENT
DTSTART;TZID=America/Los_Angeles:20260422T110000
DTEND;TZID=America/Los_Angeles:20260422T120000
DTSTAMP:20260420T053552
CREATED:20260401T185959Z
LAST-MODIFIED:20260417T163041Z
UID:69498-1776855600-1776859200@ccce.calpoly.edu
SUMMARY:Vance Brown Builders - Info Session
DESCRIPTION:Vance Brown Builders\nCommercial \nwww.vancebrown.com \nPresentation in Bldg. 186-B102 \nInterviews in Bldg. 186-A211 \nMatt Gallagher \nmatt.gallagher@vancebrown.com \nWednesday\, April 22\, 2026 at 11:00 AM \nOpen Positions: Full Time (starting June 2026) // Full Time (starting January 2027) // Internships (starting June 2026) // Internships (starting December 2026) \nJob Locations: SF Bay Area \nEmail: matt.gallagher@vancebrown.com for application information
URL:https://ccce.calpoly.edu/event/vance-brown-builders-info-session/
CATEGORIES:Recruitment Events
END:VEVENT
END:VCALENDAR